BEGIN:VCALENDAR
VERSION:2.0
PRODID:-//Black Hawk College - ECPv6.15.20//NONSGML v1.0//EN
CALSCALE:GREGORIAN
METHOD:PUBLISH
X-ORIGINAL-URL:https://www.bhc.edu
X-WR-CALDESC:Events for Black Hawk College
REFRESH-INTERVAL;VALUE=DURATION:PT1H
X-Robots-Tag:noindex
X-PUBLISHED-TTL:PT1H
BEGIN:VTIMEZONE
TZID:America/Chicago
BEGIN:DAYLIGHT
TZOFFSETFROM:-0600
TZOFFSETTO:-0500
TZNAME:CDT
DTSTART:20240310T080000
END:DAYLIGHT
BEGIN:STANDARD
TZOFFSETFROM:-0500
TZOFFSETTO:-0600
TZNAME:CST
DTSTART:20241103T070000
END:STANDARD
BEGIN:DAYLIGHT
TZOFFSETFROM:-0600
TZOFFSETTO:-0500
TZNAME:CDT
DTSTART:20250309T080000
END:DAYLIGHT
BEGIN:STANDARD
TZOFFSETFROM:-0500
TZOFFSETTO:-0600
TZNAME:CST
DTSTART:20251102T070000
END:STANDARD
BEGIN:DAYLIGHT
TZOFFSETFROM:-0600
TZOFFSETTO:-0500
TZNAME:CDT
DTSTART:20260308T080000
END:DAYLIGHT
BEGIN:STANDARD
TZOFFSETFROM:-0500
TZOFFSETTO:-0600
TZNAME:CST
DTSTART:20261101T070000
END:STANDARD
END:VTIMEZONE
BEGIN:VEVENT
DTSTART;TZID=America/Chicago:20251106T180000
DTEND;TZID=America/Chicago:20251106T200000
DTSTAMP:20260419T223235
CREATED:20250818T183323Z
LAST-MODIFIED:20251031T163359Z
UID:10003026-1762452000-1762459200@www.bhc.edu
SUMMARY:First Generation Day celebration
DESCRIPTION:We are on fire! \nGet fired up and join us in celebrating First Generation Day! \nFREE s’mores and T-shirts (while supplies last) and spooky stories! \nShuttle bus will be provided if 25 students sign up. \nSign up for the shuttle at the TRIO/Tutoring front desk (Building 1\, below the library) by 5 p.m. Friday\, Oct. 17
URL:https://www.bhc.edu/event/first-generation-day-celebration/
LOCATION:Black Hawk State Historic Site\, 1800 46th Ave.\, Rock Island\, IL\, 61201\, United States
CATEGORIES:Featured QC Events,Quad-Cities Events,Student Life (QC)
ATTACH;FMTTYPE=image/jpeg:https://www.bhc.edu/wp-content/uploads/fire-and-marshmallows.jpg
ORGANIZER;CN="Jana Koch":MAILTO:kochj@bhc.edu
GEO:41.4642949;-90.5728796
X-APPLE-STRUCTURED-LOCATION;VALUE=URI;X-ADDRESS=Black Hawk State Historic Site 1800 46th Ave. Rock Island IL 61201 United States;X-APPLE-RADIUS=500;X-TITLE=1800 46th Ave.:geo:-90.5728796,41.4642949
END:VEVENT
BEGIN:VEVENT
DTSTART;TZID=America/Chicago:20250830T093000
DTEND;TZID=America/Chicago:20250830T120000
DTSTAMP:20260419T223235
CREATED:20250716T170501Z
LAST-MODIFIED:20250829T144525Z
UID:10002798-1756546200-1756555200@www.bhc.edu
SUMMARY:Welcome Week - Black Hawk State Historic Site hiking tour
DESCRIPTION:This event has been postponed and will be rescheduled for a later date. Please check the calendar for future announcements.\n \nWelcome Week Fall 2025 at the Quad-Cities Campus\nCollege can be in-tents.\nDon’t get lost in the woods! \nOn Saturday\, Aug. 30\, adventure awaits! Embark on a breathtaking hiking experience at Black Hawk State Historic Site! \n\nMeet at 9:30 a.m. at the Watch Tower Lodge.\nHike the trails in the park from 10-11 a.m.\nEnjoy a free picnic lunch from 11 a.m. to noon.
URL:https://www.bhc.edu/event/welcome-week-black-hawk-state-historic-site-hiking-tour/
LOCATION:Black Hawk State Historic Site\, 1800 46th Ave.\, Rock Island\, IL\, 61201\, United States
CATEGORIES:Quad-Cities Events,Student Life (QC)
ATTACH;FMTTYPE=image/jpeg:https://www.bhc.edu/wp-content/uploads/tent.jpg
ORGANIZER;CN="Jana Koch":MAILTO:kochj@bhc.edu
GEO:41.4642949;-90.5728796
X-APPLE-STRUCTURED-LOCATION;VALUE=URI;X-ADDRESS=Black Hawk State Historic Site 1800 46th Ave. Rock Island IL 61201 United States;X-APPLE-RADIUS=500;X-TITLE=1800 46th Ave.:geo:-90.5728796,41.4642949
END:VEVENT
END:VCALENDAR