BEGIN:VCALENDAR
VERSION:2.0
PRODID:-//Black Hawk College - ECPv6.15.20//NONSGML v1.0//EN
CALSCALE:GREGORIAN
METHOD:PUBLISH
X-ORIGINAL-URL:https://www.bhc.edu
X-WR-CALDESC:Events for Black Hawk College
REFRESH-INTERVAL;VALUE=DURATION:PT1H
X-Robots-Tag:noindex
X-PUBLISHED-TTL:PT1H
BEGIN:VTIMEZONE
TZID:America/Chicago
BEGIN:DAYLIGHT
TZOFFSETFROM:-0600
TZOFFSETTO:-0500
TZNAME:CDT
DTSTART:20240310T080000
END:DAYLIGHT
BEGIN:STANDARD
TZOFFSETFROM:-0500
TZOFFSETTO:-0600
TZNAME:CST
DTSTART:20241103T070000
END:STANDARD
BEGIN:DAYLIGHT
TZOFFSETFROM:-0600
TZOFFSETTO:-0500
TZNAME:CDT
DTSTART:20250309T080000
END:DAYLIGHT
BEGIN:STANDARD
TZOFFSETFROM:-0500
TZOFFSETTO:-0600
TZNAME:CST
DTSTART:20251102T070000
END:STANDARD
BEGIN:DAYLIGHT
TZOFFSETFROM:-0600
TZOFFSETTO:-0500
TZNAME:CDT
DTSTART:20260308T080000
END:DAYLIGHT
BEGIN:STANDARD
TZOFFSETFROM:-0500
TZOFFSETTO:-0600
TZNAME:CST
DTSTART:20261101T070000
END:STANDARD
END:VTIMEZONE
BEGIN:VEVENT
DTSTART;VALUE=DATE:20250825
DTEND;VALUE=DATE:20250927
DTSTAMP:20260420T071410
CREATED:20250728T214244Z
LAST-MODIFIED:20250918T230426Z
UID:10002854-1756080000-1758931199@www.bhc.edu
SUMMARY:ArtSpace Gallery exhibit - Serigraph prints by Jae Florence Corales
DESCRIPTION:Behold … Bohol! \nThe ArtSpace Gallery at the Quad-Cities Campus is exhibiting “Pearl of the Orient Seas” – serigraph prints by Black Hawk College alum Jae Florence Corales – from Monday\, Aug. 25 through Friday\, Sept. 26. \nEveryone is invited to a closing reception Thursday\, Sept. 25 from 4-5:15 p.m. with an artist talk at 4:15 p.m. Light refreshments will be provided. \nThe ArtSpace Gallery is located on the first floor of Building 4 at the Quad-Cities Campus\, 6600 34th Ave.\, Moline. \nFor more information about exhibits in the ArtSpace Gallery\, email ArtDesign@bhc.edu or visit Black Hawk College Art and Design. \nAbout the artist\nJae Florence Corales is a Filipino visual artist\, graphic designer and filmmaker currently based in Augusta\, GA. He earned a bachelor’s degree in graphic design with a minor in computer science from Western Illinois University in May 2025. \nBefore transferring to WIU\, Corales was an award-winning art student at Black Hawk College: \n\nBHC artists win awards in 2023 Student Art Exhibition\nCampaign aims to reduce veteran suicides\nBHC art students exhibiting in Figge’s College Invitational\n\nWet Market \nArtist Statement\nBecause I grew up in the Philippines\, I enjoy making works that tells story\, often drawing inspiration from my experiences as a Filipino. \nAs a graphic designer\, I fell in love with the process in serigraphy. I get to translate my digital design process into print. The way I build digital artwork in layers closely mirrors how I approach screen printing. \nI create art that captures life\, drawing inspiration from my personal experiences\, Filipino heritage and the stories of everyday moments. My work explores emotions\, politics and storytelling. Through digital art\, serigraphy and painting. I enjoy layering color\, shadow and highlights to create images that capture the everyday\, the resilience of my people\, and quiet reflection of the past. \nMy work explores both the beauty and the struggle within Philippine history and society\, a contrast that I embrace to show the depth of the being Filipino. My goal is to connect with viewers on a deep emotional level\, inviting them to see both light and discord within the details of my work. \nMuch of my art is rooted in memory\, whether it’s immortalizing moments from my photographs\, reflecting the realities of life in the Philippines\, or weaving political themes as reminders of our shared history. I see art as a way to freeze moments and emotions\, capturing what changes over time. I aim to simplify complexity\, using bold\, minimal designs and intentional color choices to communicate meaning.
URL:https://www.bhc.edu/event/artspace-gallery-exhibit-serigraph-prints-by-jae-florence-corales/
LOCATION:Black Hawk College Quad-Cities Campus\, 6600 34th Ave.\, Moline\, IL\, 61265\, United States
CATEGORIES:Art, Music & Theatre,Community (QC),Quad-Cities Events
ATTACH;FMTTYPE=image/jpeg:https://www.bhc.edu/wp-content/uploads/Behold-.-Bohol-Jae-Corales-scaled.jpg
ORGANIZER;CN="Terrance Gray":MAILTO:grayt@bhc.edu
GEO:41.4774774;-90.4482304
X-APPLE-STRUCTURED-LOCATION;VALUE=URI;X-ADDRESS=Black Hawk College Quad-Cities Campus 6600 34th Ave. Moline IL 61265 United States;X-APPLE-RADIUS=500;X-TITLE=6600 34th Ave.:geo:-90.4482304,41.4774774
END:VEVENT
BEGIN:VEVENT
DTSTART;TZID=America/Chicago:20250923T130000
DTEND;TZID=America/Chicago:20250923T160000
DTSTAMP:20260420T071410
CREATED:20250903T162007Z
LAST-MODIFIED:20251014T161225Z
UID:10003061-1758632400-1758643200@www.bhc.edu
SUMMARY:QC Career EXPO
DESCRIPTION:BHC students and alumni – Are you looking for a part-time\, full-time or internship position? \nCome to the QC Career EXPO! \nThere will be local and regional business\, government\, manufacturing\, nonprofit\, science and social services employers. Show them what makes you stand out!  \nBring plenty of copies of your résumé and be prepared to network. \nProfessional dress is required. \nTransportation provided if needed. Call Career Services at 309-796-5626 for more information. \nGet ready for the QC Career EXPO with FREE drop-in workshops at the Quad-Cities Campus. \nSponsored by Augustana College\, Black Hawk College\, Eastern Iowa Community Colleges\, St. Ambrose University and Western Illinois University Quad Cities.
URL:https://www.bhc.edu/event/qc-career-expo/
LOCATION:Bend XPO\, 922 Mississippi Parkway\, East Moline\, IL\, 61244
CATEGORIES:Career Services,Community (QC),Quad-Cities Events,Student Life (QC),Student Services
ATTACH;FMTTYPE=image/png:https://www.bhc.edu/wp-content/uploads/QC-Career-EXPO-2025.png
ORGANIZER;CN="Career Services Center":MAILTO:crcstudent@bhc.edu
END:VEVENT
BEGIN:VEVENT
DTSTART;TZID=America/Chicago:20250923T143000
DTEND;TZID=America/Chicago:20250923T153000
DTSTAMP:20260420T071410
CREATED:20250814T203502Z
LAST-MODIFIED:20250821T182126Z
UID:10002998-1758637800-1758641400@www.bhc.edu
SUMMARY:InterVarsity Christian Fellowship - Tuesday meeting
DESCRIPTION:InterVarsity Christian Fellowship is a vibrant campus ministry that establishes and advances witnessing communities of students and faculty. \nQuad-Cities Chapter\nFall 2025 meetings\nSept. 2 to Dec. 10\nBuilding 1\, Room 403 \n\nTuesdays from 2:30-3:30 p.m.\nWednesdays from 1:30-2:30 p.m.\n\nFor more information\, contact Ewelina Bergert.
URL:https://www.bhc.edu/event/intervarsity-christian-fellowship-tuesday-meeting/2025-09-23/
LOCATION:Black Hawk College Quad-Cities Campus\, 6600 34th Ave.\, Moline\, IL\, 61265\, United States
CATEGORIES:Community (QC),Quad-Cities Events,Student Life (QC)
ATTACH;FMTTYPE=image/jpeg:https://www.bhc.edu/wp-content/uploads/intervarsity-christian-fellowship-logo.jpg
ORGANIZER;CN="Ewelina Bergert":MAILTO:bergerte@bhc.edu
GEO:41.4774774;-90.4482304
X-APPLE-STRUCTURED-LOCATION;VALUE=URI;X-ADDRESS=Black Hawk College Quad-Cities Campus 6600 34th Ave. Moline IL 61265 United States;X-APPLE-RADIUS=500;X-TITLE=6600 34th Ave.:geo:-90.4482304,41.4774774
END:VEVENT
BEGIN:VEVENT
DTSTART;TZID=America/Chicago:20250924T110000
DTEND;TZID=America/Chicago:20250924T120000
DTSTAMP:20260420T071410
CREATED:20250903T174447Z
LAST-MODIFIED:20250908T153315Z
UID:10003066-1758711600-1758715200@www.bhc.edu
SUMMARY:After the Fair – Leveraging Connections
DESCRIPTION:Get ready for the QC Career EXPO with FREE drop-in workshops! \nAll workshops will be in the Career Services Center at the Quad-Cities Campus\, Building 1\, Room 220 (between the bookstore and library). \nRésumé Review\nBring in your résumé for a one-on-one review. \n\nMonday\, Sept. 8\n11 a.m. to noon\nThursday\, Sept. 11\n11 a.m. to noon\n\nCrafting Your Elevator Pitch\nDevelop a concise\, impactful 30-second introduction. \n\nWednesday\, Sept. 10\n1-2 p.m.\nTuesday\, Sept. 16\n1:30-2:30 p.m.\n\nNavigating the Career EXPO\nStrategically plan your visit.\nLearn about the importance of making a strong first impression. \n\nWednesday\, Sept. 17\n11 a.m. to noon\n3-4 p.m.\n\nAfter the Fair – Leveraging Connections\nLearn how to connect with professionals on LinkedIn and build a professional network. \n\nWednesday\, Sept. 24\n11 a.m. to noon\nThursday\, Sept. 25\n9:30-10:30 a.m.
URL:https://www.bhc.edu/event/after-the-fair-leveraging-connections-2025-09-24/
LOCATION:Black Hawk College Quad-Cities Campus\, 6600 34th Ave.\, Moline\, IL\, 61265\, United States
CATEGORIES:Career Services,Community (QC),Quad-Cities Events,Student Life (QC),Student Services
ATTACH;FMTTYPE=image/png:https://www.bhc.edu/wp-content/uploads/QC-Career-EXPO-2025.png
ORGANIZER;CN="Career Services Center":MAILTO:crcstudent@bhc.edu
GEO:41.4774774;-90.4482304
X-APPLE-STRUCTURED-LOCATION;VALUE=URI;X-ADDRESS=Black Hawk College Quad-Cities Campus 6600 34th Ave. Moline IL 61265 United States;X-APPLE-RADIUS=500;X-TITLE=6600 34th Ave.:geo:-90.4482304,41.4774774
END:VEVENT
BEGIN:VEVENT
DTSTART;TZID=America/Chicago:20250925T093000
DTEND;TZID=America/Chicago:20250925T103000
DTSTAMP:20260420T071410
CREATED:20250903T174832Z
LAST-MODIFIED:20250908T153246Z
UID:10003067-1758792600-1758796200@www.bhc.edu
SUMMARY:After the Fair – Leveraging Connections
DESCRIPTION:Get ready for the QC Career EXPO with FREE drop-in workshops! \nAll workshops will be in the Career Services Center at the Quad-Cities Campus\, Building 1\, Room 220 (between the bookstore and library). \nRésumé Review\nBring in your résumé for a one-on-one review. \n\nMonday\, Sept. 8\n11 a.m. to noon\nThursday\, Sept. 11\n11 a.m. to noon\n\nCrafting Your Elevator Pitch\nDevelop a concise\, impactful 30-second introduction. \n\nWednesday\, Sept. 10\n1-2 p.m.\nTuesday\, Sept. 16\n1:30-2:30 p.m.\n\nNavigating the Career EXPO\nStrategically plan your visit.\nLearn about the importance of making a strong first impression. \n\nWednesday\, Sept. 17\n11 a.m. to noon\n3-4 p.m.\n\nAfter the Fair – Leveraging Connections\nLearn how to connect with professionals on LinkedIn and build a professional network. \n\nWednesday\, Sept. 24\n11 a.m. to noon\nThursday\, Sept. 25\n9:30-10:30 a.m.
URL:https://www.bhc.edu/event/after-the-fair-leveraging-connections-2025-09-25/
LOCATION:Black Hawk College Quad-Cities Campus\, 6600 34th Ave.\, Moline\, IL\, 61265\, United States
CATEGORIES:Career Services,Community (QC),Quad-Cities Events,Student Life (QC),Student Services
ATTACH;FMTTYPE=image/png:https://www.bhc.edu/wp-content/uploads/QC-Career-EXPO-2025.png
ORGANIZER;CN="Career Services Center":MAILTO:crcstudent@bhc.edu
GEO:41.4774774;-90.4482304
X-APPLE-STRUCTURED-LOCATION;VALUE=URI;X-ADDRESS=Black Hawk College Quad-Cities Campus 6600 34th Ave. Moline IL 61265 United States;X-APPLE-RADIUS=500;X-TITLE=6600 34th Ave.:geo:-90.4482304,41.4774774
END:VEVENT
BEGIN:VEVENT
DTSTART;TZID=America/Chicago:20250925T160000
DTEND;TZID=America/Chicago:20250925T171500
DTSTAMP:20260420T071410
CREATED:20250729T142932Z
LAST-MODIFIED:20250821T175159Z
UID:10002855-1758816000-1758820500@www.bhc.edu
SUMMARY:Artist reception for ArtSpace Gallery exhibit - Jae Florence Corales
DESCRIPTION:Behold … Bohol! \nThe ArtSpace Gallery at the Quad-Cities Campus is exhibiting “Pearl of the Orient Seas” – serigraph prints by Black Hawk College alum Jae Florence Corales – from Monday\, Aug. 25 through Friday\, Sept. 26. \nEveryone is invited to a closing reception Thursday\, Sept. 25 from 4-5:15 p.m. with an artist talk at 4:15 p.m. Light refreshments will be provided. \nThe ArtSpace Gallery is located on the first floor of Building 4 at the Quad-Cities Campus\, 6600 34th Ave.\, Moline. \nFor more information about exhibits in the ArtSpace Gallery\, email ArtDesign@bhc.edu or visit Black Hawk College Art and Design. \nAbout the artist\nJae Florence Corales is a Filipino visual artist\, graphic designer and filmmaker currently based in Augusta\, GA. He earned a bachelor’s degree in graphic design with a minor in computer science from Western Illinois University in May 2025. \nBefore transferring to WIU\, Corales was an award-winning art student at Black Hawk College: \n\nBHC artists win awards in 2023 Student Art Exhibition\nCampaign aims to reduce veteran suicides\nBHC art students exhibiting in Figge’s College Invitational\n\nWet Market \nArtist Statement\nBecause I grew up in the Philippines\, I enjoy making works that tells story\, often drawing inspiration from my experiences as a Filipino. \nAs a graphic designer\, I fell in love with the process in serigraphy. I get to translate my digital design process into print. The way I build digital artwork in layers closely mirrors how I approach screen printing. \nI create art that captures life\, drawing inspiration from my personal experiences\, Filipino heritage and the stories of everyday moments. My work explores emotions\, politics and storytelling. Through digital art\, serigraphy and painting. I enjoy layering color\, shadow and highlights to create images that capture the everyday\, the resilience of my people\, and quiet reflection of the past. \nMy work explores both the beauty and the struggle within Philippine history and society\, a contrast that I embrace to show the depth of the being Filipino. My goal is to connect with viewers on a deep emotional level\, inviting them to see both light and discord within the details of my work. \nMuch of my art is rooted in memory\, whether it’s immortalizing moments from my photographs\, reflecting the realities of life in the Philippines\, or weaving political themes as reminders of our shared history. I see art as a way to freeze moments and emotions\, capturing what changes over time. I aim to simplify complexity\, using bold\, minimal designs and intentional color choices to communicate meaning.
URL:https://www.bhc.edu/event/artist-reception-for-artspace-gallery-exhibit-jae-florence-corales/
LOCATION:Black Hawk College Quad-Cities Campus\, 6600 34th Ave.\, Moline\, IL\, 61265\, United States
CATEGORIES:Art, Music & Theatre,Community (QC),Quad-Cities Events
ATTACH;FMTTYPE=image/jpeg:https://www.bhc.edu/wp-content/uploads/Behold-.-Bohol-Jae-Corales-scaled.jpg
ORGANIZER;CN="Terrance Gray":MAILTO:grayt@bhc.edu
GEO:41.4774774;-90.4482304
X-APPLE-STRUCTURED-LOCATION;VALUE=URI;X-ADDRESS=Black Hawk College Quad-Cities Campus 6600 34th Ave. Moline IL 61265 United States;X-APPLE-RADIUS=500;X-TITLE=6600 34th Ave.:geo:-90.4482304,41.4774774
END:VEVENT
END:VCALENDAR