BEGIN:VCALENDAR
VERSION:2.0
PRODID:-//Black Hawk College - ECPv6.15.20//NONSGML v1.0//EN
CALSCALE:GREGORIAN
METHOD:PUBLISH
X-WR-CALNAME:Black Hawk College
X-ORIGINAL-URL:https://www.bhc.edu
X-WR-CALDESC:Events for Black Hawk College
REFRESH-INTERVAL;VALUE=DURATION:PT1H
X-Robots-Tag:noindex
X-PUBLISHED-TTL:PT1H
BEGIN:VTIMEZONE
TZID:America/Chicago
BEGIN:DAYLIGHT
TZOFFSETFROM:-0600
TZOFFSETTO:-0500
TZNAME:CDT
DTSTART:20240310T080000
END:DAYLIGHT
BEGIN:STANDARD
TZOFFSETFROM:-0500
TZOFFSETTO:-0600
TZNAME:CST
DTSTART:20241103T070000
END:STANDARD
BEGIN:DAYLIGHT
TZOFFSETFROM:-0600
TZOFFSETTO:-0500
TZNAME:CDT
DTSTART:20250309T080000
END:DAYLIGHT
BEGIN:STANDARD
TZOFFSETFROM:-0500
TZOFFSETTO:-0600
TZNAME:CST
DTSTART:20251102T070000
END:STANDARD
BEGIN:DAYLIGHT
TZOFFSETFROM:-0600
TZOFFSETTO:-0500
TZNAME:CDT
DTSTART:20260308T080000
END:DAYLIGHT
BEGIN:STANDARD
TZOFFSETFROM:-0500
TZOFFSETTO:-0600
TZNAME:CST
DTSTART:20261101T070000
END:STANDARD
END:VTIMEZONE
BEGIN:VEVENT
DTSTART;VALUE=DATE:20250602
DTEND;VALUE=DATE:20250603
DTSTAMP:20260425T201900
CREATED:20250408T224000Z
LAST-MODIFIED:20250516T181605Z
UID:10002741-1748822400-1748908799@www.bhc.edu
SUMMARY:June Start classes begin
DESCRIPTION:For Summer 2025\, June Start classes begin Monday\, June 2. \nFinal examinations are the last meeting day of class. \n\nFor four-week classes\, grades are due Wednesday\, July 2 by 5 p.m.\nFor six-week classes\, grades due Tuesday\, July 16 by 5 p.m.\nFor eight-week classes\, grades due Tuesday\, July 30 by 5 p.m.\n\nRegister for June Start classes.
URL:https://www.bhc.edu/event/june-start-classes-begin/
LOCATION:Black Hawk College East Campus\, 26230 Black Hawk Road\, Galva\, IL\, 61434\, United States
CATEGORIES:Academic Calendar,Admissions,Advising,Community (EC),Community (QC),East Campus Events,Enrollment Services,Quad-Cities Events,Student Life (EC),Student Life (QC),Student Services
ATTACH;FMTTYPE=image/jpeg:https://www.bhc.edu/wp-content/uploads/BHC_QC_Campus-1.jpg
GEO:41.1651189;-89.9302411
X-APPLE-STRUCTURED-LOCATION;VALUE=URI;X-ADDRESS=Black Hawk College East Campus 26230 Black Hawk Road Galva IL 61434 United States;X-APPLE-RADIUS=500;X-TITLE=26230 Black Hawk Road:geo:-89.9302411,41.1651189
END:VEVENT
END:VCALENDAR