BEGIN:VCALENDAR
VERSION:2.0
PRODID:-//Black Hawk College - ECPv6.15.20//NONSGML v1.0//EN
CALSCALE:GREGORIAN
METHOD:PUBLISH
X-WR-CALNAME:Black Hawk College
X-ORIGINAL-URL:https://www.bhc.edu
X-WR-CALDESC:Events for Black Hawk College
REFRESH-INTERVAL;VALUE=DURATION:PT1H
X-Robots-Tag:noindex
X-PUBLISHED-TTL:PT1H
BEGIN:VTIMEZONE
TZID:America/Chicago
BEGIN:DAYLIGHT
TZOFFSETFROM:-0600
TZOFFSETTO:-0500
TZNAME:CDT
DTSTART:20240310T080000
END:DAYLIGHT
BEGIN:STANDARD
TZOFFSETFROM:-0500
TZOFFSETTO:-0600
TZNAME:CST
DTSTART:20241103T070000
END:STANDARD
BEGIN:DAYLIGHT
TZOFFSETFROM:-0600
TZOFFSETTO:-0500
TZNAME:CDT
DTSTART:20250309T080000
END:DAYLIGHT
BEGIN:STANDARD
TZOFFSETFROM:-0500
TZOFFSETTO:-0600
TZNAME:CST
DTSTART:20251102T070000
END:STANDARD
BEGIN:DAYLIGHT
TZOFFSETFROM:-0600
TZOFFSETTO:-0500
TZNAME:CDT
DTSTART:20260308T080000
END:DAYLIGHT
BEGIN:STANDARD
TZOFFSETFROM:-0500
TZOFFSETTO:-0600
TZNAME:CST
DTSTART:20261101T070000
END:STANDARD
END:VTIMEZONE
BEGIN:VEVENT
DTSTART;TZID=America/Chicago:20250407T000000
DTEND;TZID=America/Chicago:20250508T180000
DTSTAMP:20260421T085101
CREATED:20250324T213000Z
LAST-MODIFIED:20250407T175915Z
UID:10002721-1743984000-1746727200@www.bhc.edu
SUMMARY:ArtSpace Gallery exhibit - Student Art Exhibition
DESCRIPTION:The ArtSpace Gallery at the Quad-Cities Campus is showcasing artwork by BHC students from Monday\, April 7 through Thursday\, May 8. \nThere will be a reception and awards ceremony Thursday\, May 8 from 4-5:15 p.m. Everyone is invited to meet the student artists and enjoy light refreshments. \nThe ArtSpace Gallery is located on the first floor of Building 4 at the Quad-Cities Campus. \nFor more information about exhibits in the ArtSpace Gallery\, email ArtDesign@bhc.edu or visit Black Hawk College Art and Design on Facebook.
URL:https://www.bhc.edu/event/artspace-gallery-exhibit-student-art-exhibition/
LOCATION:Black Hawk College Quad-Cities Campus\, 6600 34th Ave.\, Moline\, IL\, 61265\, United States
CATEGORIES:Art, Music & Theatre,Community (QC),Quad-Cities Events,Student Life (QC)
ATTACH;FMTTYPE=image/jpeg:https://www.bhc.edu/wp-content/uploads/artspace-web-1.jpg
GEO:41.4774774;-90.4482304
X-APPLE-STRUCTURED-LOCATION;VALUE=URI;X-ADDRESS=Black Hawk College Quad-Cities Campus 6600 34th Ave. Moline IL 61265 United States;X-APPLE-RADIUS=500;X-TITLE=6600 34th Ave.:geo:-90.4482304,41.4774774
END:VEVENT
BEGIN:VEVENT
DTSTART;VALUE=DATE:20250421
DTEND;VALUE=DATE:20250426
DTSTAMP:20260421T085101
CREATED:20250314T134927Z
LAST-MODIFIED:20250314T134927Z
UID:10002706-1745193600-1745625599@www.bhc.edu
SUMMARY:Show Your Pride Student Art Exhibition
DESCRIPTION:Join us for an exhibition of LGBTQIA+ centered creative works from members of the Black Hawk College community. \nShow Your Pride Student Art Exhibition\nApril 21-25\nQuad-Cities Campus\nBuilding 1\, upper lobby \nReception with the artists\nFriday\, April 25\n5-6 p.m. \nSponsored by the BHC Pride Alliance student club.
URL:https://www.bhc.edu/event/show-your-pride-student-art-exhibition/
LOCATION:Black Hawk College Quad-Cities Campus\, 6600 34th Ave.\, Moline\, IL\, 61265\, United States
CATEGORIES:Art, Music & Theatre,Community (QC),Quad-Cities Events,Student Life (QC)
ATTACH;FMTTYPE=image/jpeg:https://www.bhc.edu/wp-content/uploads/Show-Your-Pride-Student-Art-Exhibition.jpg
ORGANIZER;CN="Heather Bjorgan":MAILTO:bjorganh@bhc.edu
GEO:41.4774774;-90.4482304
X-APPLE-STRUCTURED-LOCATION;VALUE=URI;X-ADDRESS=Black Hawk College Quad-Cities Campus 6600 34th Ave. Moline IL 61265 United States;X-APPLE-RADIUS=500;X-TITLE=6600 34th Ave.:geo:-90.4482304,41.4774774
END:VEVENT
BEGIN:VEVENT
DTSTART;TZID=America/Chicago:20250422T130000
DTEND;TZID=America/Chicago:20250422T134500
DTSTAMP:20260421T085101
CREATED:20250422T150606Z
LAST-MODIFIED:20250422T150607Z
UID:10002684-1745326800-1745329500@www.bhc.edu
SUMMARY:Yoga - CANCELED
DESCRIPTION:Please note – The Tuesday\, April 22 class has been canceled. \n \nStretch out that stress! Take a free yoga class taught by Daina Lewis. \nTuesdays\, Jan. 21 to Feb. 25\n3-4 p.m. \nTuesday\, March 4 and\nTuesdays\, March 18 to April 29\n1-1:45 p.m. \nQuad-Cities Campus\nBuilding 4\, second floor\, Hawk’s Next \nLOCATION CHANGE for March 25 – Building 3\, first floor\, turf room \nYoga mats provided! \nSponsored by the Counseling Department.
URL:https://www.bhc.edu/event/yoga-3-6-2/
LOCATION:Black Hawk College Quad-Cities Campus\, 6600 34th Ave.\, Moline\, IL\, 61265\, United States
CATEGORIES:Quad-Cities Events,Student Life (QC),Student Services
ATTACH;FMTTYPE=image/jpeg:https://www.bhc.edu/wp-content/uploads/yoga-with-mats-cropped-small.jpg
ORGANIZER;CN="Jana Koch":MAILTO:kochj@bhc.edu
GEO:41.4774774;-90.4482304
X-APPLE-STRUCTURED-LOCATION;VALUE=URI;X-ADDRESS=Black Hawk College Quad-Cities Campus 6600 34th Ave. Moline IL 61265 United States;X-APPLE-RADIUS=500;X-TITLE=6600 34th Ave.:geo:-90.4482304,41.4774774
END:VEVENT
BEGIN:VEVENT
DTSTART;TZID=America/Chicago:20250422T140000
DTEND;TZID=America/Chicago:20250422T140000
DTSTAMP:20260421T085101
CREATED:20250402T181546Z
LAST-MODIFIED:20250402T185423Z
UID:10002727-1745330400-1745330400@www.bhc.edu
SUMMARY:Spirit Week - Somewhere Over the Rainbow: A service project for World Earth Day
DESCRIPTION:BHC Spirit Week\nApril 21-25\nWe’re off to see the wizard!\nLet’s come together to celebrate the wonderful place we call home. There’s truly no place like BHC! \nPresented by the Quad-Cities Campus Student Government Association. \nSomewhere Over the Rainbow: A service project for World Earth Day\nTuesday\, April 22\n2 p.m.\nJoin Phi Theta Kappa (PTK) for a road cleanup on 30th Street in Rock Island from 18th Avenue to Black Hawk Road.\nMeet at the Rock Island Library/Rock Island YMCA at 2715 30th St.\nLet’s make a difference together!
URL:https://www.bhc.edu/event/spirit-week-somewhere-over-the-rainbow-service-project-world-earth-day/
LOCATION:Rock Island Public Library Watts-Midtown Branch & Rock Island YMCA\, 2715 30th St.\, Rock Island\, IL\, 61201\, United States
CATEGORIES:Quad-Cities Events,Student Life (QC)
ATTACH;FMTTYPE=image/jpeg:https://www.bhc.edu/wp-content/uploads/Wizard-of-Oz-for-Spirit-Week-4-2025.jpg
ORGANIZER;CN="Student Life Office":MAILTO:kochj@bhc.edu
END:VEVENT
BEGIN:VEVENT
DTSTART;TZID=America/Chicago:20250422T140000
DTEND;TZID=America/Chicago:20250422T150000
DTSTAMP:20260421T085101
CREATED:20241219T191245Z
LAST-MODIFIED:20241219T191245Z
UID:10002033-1745330400-1745334000@www.bhc.edu
SUMMARY:QC Campus SGA weekly meeting - Spring 2025
DESCRIPTION:Make your voice heard! \nJoin us every Tuesday this semester from 2-3 p.m. for the Quad-Cities Campus Student Government Association weekly meeting in Building 4\, Room 209. \nSGA is the voice of the students! \nCampus updates!\nSocial activities!\nGet involved!
URL:https://www.bhc.edu/event/qc-campus-sga-weekly-meeting-spring-2025/2025-04-22/
LOCATION:Black Hawk College Quad-Cities Campus\, 6600 34th Ave.\, Moline\, IL\, 61265\, United States
CATEGORIES:Quad-Cities Events,Student Life (QC)
ATTACH;FMTTYPE=image/jpeg:https://www.bhc.edu/wp-content/uploads/student-life-sga-logo.jpg
ORGANIZER;CN="Jana Koch":MAILTO:kochj@bhc.edu
GEO:41.4774774;-90.4482304
X-APPLE-STRUCTURED-LOCATION;VALUE=URI;X-ADDRESS=Black Hawk College Quad-Cities Campus 6600 34th Ave. Moline IL 61265 United States;X-APPLE-RADIUS=500;X-TITLE=6600 34th Ave.:geo:-90.4482304,41.4774774
END:VEVENT
BEGIN:VEVENT
DTSTART;TZID=America/Chicago:20250423T170000
DTEND;TZID=America/Chicago:20250423T210000
DTSTAMP:20260421T085101
CREATED:20250402T185145Z
LAST-MODIFIED:20250402T185842Z
UID:10002728-1745427600-1745442000@www.bhc.edu
SUMMARY:Spirit Week - 'Wicked' sing-along
DESCRIPTION:BHC Spirit Week\nApril 21-25\nWe’re off to see the wizard!\nLet’s come together to celebrate the wonderful place we call home. There’s truly no place like BHC! \nPresented by the Quad-Cities Campus Student Government Association. \n“Wicked” sing-along\nWednesday\, April 23\n5 p.m. – Trivia\n6-9 p.m. – Movie viewing\nBuilding 4\, second floor\, Hawk’s Nest\nJoin the Music Makers’ Meetup club for a “Wicked” sing-along!\nFree dinner!
URL:https://www.bhc.edu/event/spirit-week-wicked-sing-along/
LOCATION:Black Hawk College Quad-Cities Campus\, 6600 34th Ave.\, Moline\, IL\, 61265\, United States
CATEGORIES:Quad-Cities Events,Student Life (QC)
ATTACH;FMTTYPE=image/jpeg:https://www.bhc.edu/wp-content/uploads/Wizard-of-Oz-for-Spirit-Week-4-2025.jpg
ORGANIZER;CN="Student Life Office":MAILTO:kochj@bhc.edu
GEO:41.4774774;-90.4482304
X-APPLE-STRUCTURED-LOCATION;VALUE=URI;X-ADDRESS=Black Hawk College Quad-Cities Campus 6600 34th Ave. Moline IL 61265 United States;X-APPLE-RADIUS=500;X-TITLE=6600 34th Ave.:geo:-90.4482304,41.4774774
END:VEVENT
BEGIN:VEVENT
DTSTART;TZID=America/Chicago:20250424T110000
DTEND;TZID=America/Chicago:20250424T130000
DTSTAMP:20260421T085101
CREATED:20250402T185848Z
LAST-MODIFIED:20250410T194225Z
UID:10002729-1745492400-1745499600@www.bhc.edu
SUMMARY:Spirit Week - Follow the Yellow Brick Road to Oz Fest!
DESCRIPTION:BHC Spirit Week\nApril 21-25\nWe’re off to see the wizard!\nLet’s come together to celebrate the wonderful place we call home. There’s truly no place like BHC! \nPresented by the Quad-Cities Campus Student Government Association. \nFollow the Yellow Brick Road to Oz Fest!\nThursday\, April 24\n11 a.m. to 1 p.m.\nBuilding 1\, upper lobby\nFun activities!\nFree lunch!\nFree T-shirt!\n(While supplies last.)
URL:https://www.bhc.edu/event/spirit-week-follow-the-yellow-brick-road-to-oz-fest/
LOCATION:Black Hawk College Quad-Cities Campus\, 6600 34th Ave.\, Moline\, IL\, 61265\, United States
CATEGORIES:Quad-Cities Events,Student Life (QC)
ATTACH;FMTTYPE=image/jpeg:https://www.bhc.edu/wp-content/uploads/Wizard-of-Oz-for-Spirit-Week-4-2025.jpg
ORGANIZER;CN="Student Life Office":MAILTO:kochj@bhc.edu
GEO:41.4774774;-90.4482304
X-APPLE-STRUCTURED-LOCATION;VALUE=URI;X-ADDRESS=Black Hawk College Quad-Cities Campus 6600 34th Ave. Moline IL 61265 United States;X-APPLE-RADIUS=500;X-TITLE=6600 34th Ave.:geo:-90.4482304,41.4774774
END:VEVENT
BEGIN:VEVENT
DTSTART;TZID=America/Chicago:20250425T100000
DTEND;TZID=America/Chicago:20250425T120000
DTSTAMP:20260421T085101
CREATED:20250402T190400Z
LAST-MODIFIED:20250402T190633Z
UID:10002730-1745575200-1745582400@www.bhc.edu
SUMMARY:Spirit Week - Welcome Home PJ Party
DESCRIPTION:BHC Spirit Week\nApril 21-25\nWe’re off to see the wizard!\nLet’s come together to celebrate the wonderful place we call home. There’s truly no place like BHC! \nPresented by the Quad-Cities Campus Student Government Association. \nWelcome Home PJ Party\nFriday\, April 25\n10 a.m. to noon\nBuilding 4\, second floor\, Hawk’s Nest\nFree snacks!\nWrap up the week with a cozy viewing of the original “Wizard of Oz”!
URL:https://www.bhc.edu/event/spirit-week-welcome-home-pj-party/
LOCATION:Black Hawk College Quad-Cities Campus\, 6600 34th Ave.\, Moline\, IL\, 61265\, United States
CATEGORIES:Quad-Cities Events,Student Life (QC)
ATTACH;FMTTYPE=image/jpeg:https://www.bhc.edu/wp-content/uploads/Wizard-of-Oz-for-Spirit-Week-4-2025.jpg
ORGANIZER;CN="Student Life Office":MAILTO:kochj@bhc.edu
GEO:41.4774774;-90.4482304
X-APPLE-STRUCTURED-LOCATION;VALUE=URI;X-ADDRESS=Black Hawk College Quad-Cities Campus 6600 34th Ave. Moline IL 61265 United States;X-APPLE-RADIUS=500;X-TITLE=6600 34th Ave.:geo:-90.4482304,41.4774774
END:VEVENT
BEGIN:VEVENT
DTSTART;TZID=America/Chicago:20250425T120000
DTEND;TZID=America/Chicago:20250425T203000
DTSTAMP:20260421T085101
CREATED:20250311T210326Z
LAST-MODIFIED:20250409T165255Z
UID:10002704-1745582400-1745613000@www.bhc.edu
SUMMARY:2025 Black Hawk College Jazz Festival
DESCRIPTION:Join us Friday\, April 25 for the 2025 Black Hawk College Jazz Festival featuring guest artist Kirby Fellis. \nFree admission for all events! \nFestival schedule\nCareers in the Music Industry\nNoon to 1 p.m.\nQuad-Cities Campus\nBuilding 4\, Room 101 \nBlues Workshop\n1-2 p.m.\nQuad-Cities Campus\nBuilding 4\, Room 115 \nOpen Rehearsal\n2-3 p.m.\nQuad-Cities Campus\nBuilding 4\, Room 115 \nConcert featuring trombonist Kirby Fellis with the BHC Jazz Ensemble\n7 p.m.\nSound Conservatory\n504 17th St.\, Moline \nAbout Kirby Fellis\nKirby Fellis is a Chicago-based jazz trombonist\, educator\, arranger and composer and director of the Jazz Ensemble at Harper College in Palatine\, IL. Hailing from South Florida\, he has worked with award-winning musicians in Florida\, Michigan\, New York\, Illinois and Indiana for more than a decade. \nAs a trombonist\, Fellis has worked with organizations such as Jazz at Lincoln Center\, Jazz Aspen Snowmass\, DePauw Jazz Festival\, New Trier Jazz Festival\, Chicago Jazz Festival\, Perdue Jazz Festival and Jack Rudin Jazz Festival. \nHe also has worked with many award-winning performers and ensembles such as Darius Rucker\, Terrell Stafford\, Kurt Elling\, Nate Smith\, James Carter\, Jennifer Hudson\, Steve Wiest\, Sean Jones\, Charlie Hunter\, Johnny Mathis\, The Cab Calloway Orchestra\, The New Standard Jazz Orchestra\, The Chicago Neighborhood Project\, The No Kap Kollective\, Derrick Gardner & The Jazz Prophets and the Legendary Count Basie Orchestra. \nFellis earned a master’s degree in music from Northern Illinois University and a bachelor’s degree in music from Michigan State University.
URL:https://www.bhc.edu/event/2025-black-hawk-college-jazz-festival/
LOCATION:Black Hawk College Quad-Cities Campus\, 6600 34th Ave.\, Moline\, IL\, 61265\, United States
CATEGORIES:Art, Music & Theatre,Community (QC),Quad-Cities Events,Student Life (QC)
ATTACH;FMTTYPE=image/jpeg:https://www.bhc.edu/wp-content/uploads/Black-Hawk-College-Jazz-Festival-cropped.jpg
ORGANIZER;CN="Corey Kendrick":MAILTO:kendrickc@bhc.edu
GEO:41.4774774;-90.4482304
X-APPLE-STRUCTURED-LOCATION;VALUE=URI;X-ADDRESS=Black Hawk College Quad-Cities Campus 6600 34th Ave. Moline IL 61265 United States;X-APPLE-RADIUS=500;X-TITLE=6600 34th Ave.:geo:-90.4482304,41.4774774
END:VEVENT
BEGIN:VEVENT
DTSTART;TZID=America/Chicago:20250425T170000
DTEND;TZID=America/Chicago:20250425T180000
DTSTAMP:20260421T085101
CREATED:20250314T141229Z
LAST-MODIFIED:20250314T161437Z
UID:10002708-1745600400-1745604000@www.bhc.edu
SUMMARY:Show Your Pride Student Art Exhibition - Reception
DESCRIPTION:Join us for an exhibition of LGBTQIA+ centered creative works from members of the Black Hawk College community. \nShow Your Pride Student Art Exhibition\nApril 21-25\nQuad-Cities Campus\nBuilding 1\, upper lobby \nReception with the artists\nFriday\, April 25\n5-6 p.m. \nSponsored by the BHC Pride Alliance student club.
URL:https://www.bhc.edu/event/show-your-pride-student-art-exhibition-reception/
LOCATION:Black Hawk College Quad-Cities Campus\, 6600 34th Ave.\, Moline\, IL\, 61265\, United States
CATEGORIES:Art, Music & Theatre,Community (QC),Quad-Cities Events,Student Life (QC)
ATTACH;FMTTYPE=image/jpeg:https://www.bhc.edu/wp-content/uploads/Show-Your-Pride-Student-Art-Exhibition.jpg
ORGANIZER;CN="Heather Bjorgan":MAILTO:bjorganh@bhc.edu
GEO:41.4774774;-90.4482304
X-APPLE-STRUCTURED-LOCATION;VALUE=URI;X-ADDRESS=Black Hawk College Quad-Cities Campus 6600 34th Ave. Moline IL 61265 United States;X-APPLE-RADIUS=500;X-TITLE=6600 34th Ave.:geo:-90.4482304,41.4774774
END:VEVENT
BEGIN:VEVENT
DTSTART;TZID=America/Chicago:20250426T230000
DTEND;TZID=America/Chicago:20250427T000000
DTSTAMP:20260421T085101
CREATED:20250424T210745Z
LAST-MODIFIED:20251030T214300Z
UID:10002751-1745708400-1745712000@www.bhc.edu
SUMMARY:Phi Theta Kappa induction ceremony (QC Campus)
DESCRIPTION:The Quad-Cities Campus chapter of Phi Theta Kappa Honor Society will host its spring induction ceremony Sunday\, April 27 at 2 p.m. at the Quad-Cities Campus in Building 1\, Room 308 (theatre). \nAll members of the BHC community are invited. \nPhi Theta Kappa is the official honor society for two-year colleges. For more than 100 years\, Phi Theta Kappa has helped millions of high-achieving college students reach their full potential. \nThe induction ceremony celebrates and welcomes all PTK members who joined the Quad-Cities Campus chapter this semester. \nIf you are a PTK member who couldn’t attend the ceremony the semester you joined\, feel free to come to this one – every PTK member of our chapter is welcome to participate no matter when you joined. If you are planning to attend as a PTK member\, please email Nicole Banks an RSVP telling how many guests might join you. \n 
URL:https://www.bhc.edu/event/phi-theta-kappa-induction-ceremony-qc-campus-2/
LOCATION:Black Hawk College Quad-Cities Campus\, 6600 34th Ave.\, Moline\, IL\, 61265\, United States
CATEGORIES:Quad-Cities Events,Student Life (QC)
ATTACH;FMTTYPE=image/jpeg:https://www.bhc.edu/wp-content/uploads/PTK-logo-key-on-top-scaled.jpg
ORGANIZER;CN="Nicole Banks":MAILTO:banksn@bhc.edu
GEO:41.4774774;-90.4482304
X-APPLE-STRUCTURED-LOCATION;VALUE=URI;X-ADDRESS=Black Hawk College Quad-Cities Campus 6600 34th Ave. Moline IL 61265 United States;X-APPLE-RADIUS=500;X-TITLE=6600 34th Ave.:geo:-90.4482304,41.4774774
END:VEVENT
END:VCALENDAR