BEGIN:VCALENDAR
VERSION:2.0
PRODID:-//Black Hawk College - ECPv6.15.20//NONSGML v1.0//EN
CALSCALE:GREGORIAN
METHOD:PUBLISH
X-WR-CALNAME:Black Hawk College
X-ORIGINAL-URL:https://www.bhc.edu
X-WR-CALDESC:Events for Black Hawk College
REFRESH-INTERVAL;VALUE=DURATION:PT1H
X-Robots-Tag:noindex
X-PUBLISHED-TTL:PT1H
BEGIN:VTIMEZONE
TZID:America/Chicago
BEGIN:DAYLIGHT
TZOFFSETFROM:-0600
TZOFFSETTO:-0500
TZNAME:CDT
DTSTART:20230312T080000
END:DAYLIGHT
BEGIN:STANDARD
TZOFFSETFROM:-0500
TZOFFSETTO:-0600
TZNAME:CST
DTSTART:20231105T070000
END:STANDARD
BEGIN:DAYLIGHT
TZOFFSETFROM:-0600
TZOFFSETTO:-0500
TZNAME:CDT
DTSTART:20240310T080000
END:DAYLIGHT
BEGIN:STANDARD
TZOFFSETFROM:-0500
TZOFFSETTO:-0600
TZNAME:CST
DTSTART:20241103T070000
END:STANDARD
BEGIN:DAYLIGHT
TZOFFSETFROM:-0600
TZOFFSETTO:-0500
TZNAME:CDT
DTSTART:20250309T080000
END:DAYLIGHT
BEGIN:STANDARD
TZOFFSETFROM:-0500
TZOFFSETTO:-0600
TZNAME:CST
DTSTART:20251102T070000
END:STANDARD
END:VTIMEZONE
BEGIN:VEVENT
DTSTART;VALUE=DATE:20241104
DTEND;VALUE=DATE:20241128
DTSTAMP:20260421T115859
CREATED:20241031T212550Z
LAST-MODIFIED:20241101T202017Z
UID:10001949-1730678400-1732751999@www.bhc.edu
SUMMARY:National Novel Writing Month (NaNoWriMo)
DESCRIPTION:November is National Novel Writing Month! \nDuring NaNoWriMo\, aspiring novelists are challenged to write 50\,000 words in 30 days. \nWant to participate? Stop by the BHC Library beginning Monday\, Nov. 4 to pick up a free NaNoWriMo starter kit (available while supplies last).
URL:https://www.bhc.edu/event/national-novel-writing-month-nanowrimo/
LOCATION:IL
CATEGORIES:East Campus Events,Quad-Cities Events,Student Life (EC),Student Life (QC)
ATTACH;FMTTYPE=image/jpeg:https://www.bhc.edu/wp-content/uploads/NaNoWriMo-logo.jpg
ORGANIZER;CN="BHC Library":MAILTO:library@bhc.edu
END:VEVENT
BEGIN:VEVENT
DTSTART;TZID=America/Chicago:20241113T123000
DTEND;TZID=America/Chicago:20241113T133000
DTSTAMP:20260421T115859
CREATED:20241007T144823Z
LAST-MODIFIED:20250602T210727Z
UID:10001917-1731501000-1731504600@www.bhc.edu
SUMMARY:The Gray Matters Collective meeting
DESCRIPTION:Come hang out\, enjoy some snacks\, find your community\, and have some fun with the Gray Matters Collective! \nBlack Hawk chapter meetings\nFall 2024\n2nd Wednesdays of the month\n12:30-1:30 p.m.\n4th Wednesdays of the month\n1-2 p.m.\nQuad-Cities Campus\nBuilding 4\, second floor\, Hawk’s Nest \nThe Gray Matters Collective is a mental health awareness and suicide prevention movement. \nBecome a mental health advocate. Join the mental health awareness and suicide prevention movement. \nQuestions? Email counseling@bhc.edu. \nQC Campus clubs
URL:https://www.bhc.edu/event/the-gray-matters-collective-meeting-2-2/2024-11-13/
LOCATION:Black Hawk College Quad-Cities Campus\, 6600 34th Ave.\, Moline\, IL\, 61265\, United States
CATEGORIES:Community (QC),Counseling,Quad-Cities Events,Student Life (QC),Student Services
GEO:41.4774774;-90.4482304
X-APPLE-STRUCTURED-LOCATION;VALUE=URI;X-ADDRESS=Black Hawk College Quad-Cities Campus 6600 34th Ave. Moline IL 61265 United States;X-APPLE-RADIUS=500;X-TITLE=6600 34th Ave.:geo:-90.4482304,41.4774774
END:VEVENT
BEGIN:VEVENT
DTSTART;TZID=America/Chicago:20241113T123000
DTEND;TZID=America/Chicago:20241113T133000
DTSTAMP:20260421T115859
CREATED:20241106T204111Z
LAST-MODIFIED:20250211T190012Z
UID:10001952-1731501000-1731504600@www.bhc.edu
SUMMARY:Manifest your dreams - Create a vision board
DESCRIPTION:Come manifest the dreams of your future! \nAll are welcome to join Gray Matters and Career Services to create a fantastic vision board! \nWe’ll have all the supplies you could need\, plus lunch. You just need to bring your vision! \nWednesday\, Nov. 13\n12:30-1:30 p.m.\nQuad-Cities Campus\nBuilding 4\, second floor\, Hawk’s Nest \nQuestions? Email counseling@bhc.edu.
URL:https://www.bhc.edu/event/manifest-your-dreams-create-a-vision-board/
LOCATION:Black Hawk College Quad-Cities Campus\, 6600 34th Ave.\, Moline\, IL\, 61265\, United States
CATEGORIES:Career Services,Counseling,Quad-Cities Events,Student Life (QC),Student Services
ATTACH;FMTTYPE=image/jpeg:https://www.bhc.edu/wp-content/uploads/vision-board-4x3-1.jpg
ORGANIZER;CN="Counseling":MAILTO:counseling@bhc.edu
GEO:41.4774774;-90.4482304
X-APPLE-STRUCTURED-LOCATION;VALUE=URI;X-ADDRESS=Black Hawk College Quad-Cities Campus 6600 34th Ave. Moline IL 61265 United States;X-APPLE-RADIUS=500;X-TITLE=6600 34th Ave.:geo:-90.4482304,41.4774774
END:VEVENT
BEGIN:VEVENT
DTSTART;TZID=America/Chicago:20241113T130000
DTEND;TZID=America/Chicago:20241113T143000
DTSTAMP:20260421T115859
CREATED:20240812T200000Z
LAST-MODIFIED:20240812T201834Z
UID:10001473-1731502800-1731508200@www.bhc.edu
SUMMARY:QC Campus SGA weekly meeting - Fall 2024
DESCRIPTION:Join us every Wednesday this semester from 1-2:30 p.m. for the Quad-Cities Campus Student Government Association weekly meeting in Building 4\, Room 209. \nSGA is the voice of the students! \nCampus updates!\nSocial activities!\nGet involved!
URL:https://www.bhc.edu/event/qc-campus-sga-weekly-meeting-fall-2024/2024-11-13/
LOCATION:Black Hawk College Quad-Cities Campus\, 6600 34th Ave.\, Moline\, IL\, 61265\, United States
CATEGORIES:Quad-Cities Events,Student Life (QC)
ATTACH;FMTTYPE=image/jpeg:https://www.bhc.edu/wp-content/uploads/student-life-sga-logo-1.jpg
ORGANIZER;CN="Jana Koch":MAILTO:kochj@bhc.edu
GEO:41.4774774;-90.4482304
X-APPLE-STRUCTURED-LOCATION;VALUE=URI;X-ADDRESS=Black Hawk College Quad-Cities Campus 6600 34th Ave. Moline IL 61265 United States;X-APPLE-RADIUS=500;X-TITLE=6600 34th Ave.:geo:-90.4482304,41.4774774
END:VEVENT
END:VCALENDAR