BEGIN:VCALENDAR
VERSION:2.0
PRODID:-//Black Hawk College - ECPv6.15.20//NONSGML v1.0//EN
CALSCALE:GREGORIAN
METHOD:PUBLISH
X-ORIGINAL-URL:https://www.bhc.edu
X-WR-CALDESC:Events for Black Hawk College
REFRESH-INTERVAL;VALUE=DURATION:PT1H
X-Robots-Tag:noindex
X-PUBLISHED-TTL:PT1H
BEGIN:VTIMEZONE
TZID:America/Chicago
BEGIN:DAYLIGHT
TZOFFSETFROM:-0600
TZOFFSETTO:-0500
TZNAME:CDT
DTSTART:20230312T080000
END:DAYLIGHT
BEGIN:STANDARD
TZOFFSETFROM:-0500
TZOFFSETTO:-0600
TZNAME:CST
DTSTART:20231105T070000
END:STANDARD
BEGIN:DAYLIGHT
TZOFFSETFROM:-0600
TZOFFSETTO:-0500
TZNAME:CDT
DTSTART:20240310T080000
END:DAYLIGHT
BEGIN:STANDARD
TZOFFSETFROM:-0500
TZOFFSETTO:-0600
TZNAME:CST
DTSTART:20241103T070000
END:STANDARD
BEGIN:DAYLIGHT
TZOFFSETFROM:-0600
TZOFFSETTO:-0500
TZNAME:CDT
DTSTART:20250309T080000
END:DAYLIGHT
BEGIN:STANDARD
TZOFFSETFROM:-0500
TZOFFSETTO:-0600
TZNAME:CST
DTSTART:20251102T070000
END:STANDARD
END:VTIMEZONE
BEGIN:VEVENT
DTSTART;VALUE=DATE:20241104
DTEND;VALUE=DATE:20241128
DTSTAMP:20260421T145705
CREATED:20241031T212550Z
LAST-MODIFIED:20241101T202017Z
UID:10001949-1730678400-1732751999@www.bhc.edu
SUMMARY:National Novel Writing Month (NaNoWriMo)
DESCRIPTION:November is National Novel Writing Month! \nDuring NaNoWriMo\, aspiring novelists are challenged to write 50\,000 words in 30 days. \nWant to participate? Stop by the BHC Library beginning Monday\, Nov. 4 to pick up a free NaNoWriMo starter kit (available while supplies last).
URL:https://www.bhc.edu/event/national-novel-writing-month-nanowrimo/
LOCATION:IL
CATEGORIES:East Campus Events,Quad-Cities Events,Student Life (EC),Student Life (QC)
ATTACH;FMTTYPE=image/jpeg:https://www.bhc.edu/wp-content/uploads/NaNoWriMo-logo.jpg
ORGANIZER;CN="BHC Library":MAILTO:library@bhc.edu
END:VEVENT
BEGIN:VEVENT
DTSTART;TZID=America/Chicago:20241104T120000
DTEND;TZID=America/Chicago:20241104T130000
DTSTAMP:20260421T145705
CREATED:20240925T190958Z
LAST-MODIFIED:20240930T182559Z
UID:10001884-1730721600-1730725200@www.bhc.edu
SUMMARY:Yoga
DESCRIPTION:Stretch out that stress! Take a free yoga class taught by Daina Lewis. \nMondays through Dec. 9\nNoon to 1 p.m.\nQuad-Cities Campus\nBuilding 3\, Room 127 (indoor turf room) \nYoga mats provided!
URL:https://www.bhc.edu/event/yoga-2/2024-11-04/
LOCATION:Black Hawk College Quad-Cities Campus\, 6600 34th Ave.\, Moline\, IL\, 61265\, United States
CATEGORIES:Quad-Cities Events,Student Life (QC),Student Services
ORGANIZER;CN="Jana Koch":MAILTO:kochj@bhc.edu
GEO:41.4774774;-90.4482304
X-APPLE-STRUCTURED-LOCATION;VALUE=URI;X-ADDRESS=Black Hawk College Quad-Cities Campus 6600 34th Ave. Moline IL 61265 United States;X-APPLE-RADIUS=500;X-TITLE=6600 34th Ave.:geo:-90.4482304,41.4774774
END:VEVENT
BEGIN:VEVENT
DTSTART;TZID=America/Chicago:20241106T130000
DTEND;TZID=America/Chicago:20241106T143000
DTSTAMP:20260421T145705
CREATED:20240812T200000Z
LAST-MODIFIED:20240812T201834Z
UID:10001472-1730898000-1730903400@www.bhc.edu
SUMMARY:QC Campus SGA weekly meeting - Fall 2024
DESCRIPTION:Join us every Wednesday this semester from 1-2:30 p.m. for the Quad-Cities Campus Student Government Association weekly meeting in Building 4\, Room 209. \nSGA is the voice of the students! \nCampus updates!\nSocial activities!\nGet involved!
URL:https://www.bhc.edu/event/qc-campus-sga-weekly-meeting-fall-2024/2024-11-06/
LOCATION:Black Hawk College Quad-Cities Campus\, 6600 34th Ave.\, Moline\, IL\, 61265\, United States
CATEGORIES:Quad-Cities Events,Student Life (QC)
ATTACH;FMTTYPE=image/jpeg:https://www.bhc.edu/wp-content/uploads/student-life-sga-logo-1.jpg
ORGANIZER;CN="Jana Koch":MAILTO:kochj@bhc.edu
GEO:41.4774774;-90.4482304
X-APPLE-STRUCTURED-LOCATION;VALUE=URI;X-ADDRESS=Black Hawk College Quad-Cities Campus 6600 34th Ave. Moline IL 61265 United States;X-APPLE-RADIUS=500;X-TITLE=6600 34th Ave.:geo:-90.4482304,41.4774774
END:VEVENT
BEGIN:VEVENT
DTSTART;TZID=America/Chicago:20241107T140000
DTEND;TZID=America/Chicago:20241107T150000
DTSTAMP:20260421T145705
CREATED:20241031T210039Z
LAST-MODIFIED:20250211T190110Z
UID:10001948-1730988000-1730991600@www.bhc.edu
SUMMARY:Honors Program Leadership Presentation
DESCRIPTION:All BHC students and employees are invited. You do not have to be affiliated with the BHC Honors Program. \nEast Campus – Veterinary Sciences Center\, auditorium\nQuad-Cities Campus – Building 1\, Room 308 (theatre) \n\n2-2:15 p.m. – Meet & Greet\n2:15-2:45 p.m. – Presentation\n2:45-3 p.m. – Q & A\n\nView the livestream. \nThe presentation will be recorded for those who cannot make it. \nFor more information\, contact Andrew Mansheim at 309-854-1810 or mansheima@bhc.edu.
URL:https://www.bhc.edu/event/honors-program-leadership-presentation/
LOCATION:IL
CATEGORIES:East Campus Events,Quad-Cities Events,Student Life (EC),Student Life (QC),Student Services
ORGANIZER;CN="Andrew Mansheim":MAILTO:mansheima@bhc.edu
END:VEVENT
BEGIN:VEVENT
DTSTART;TZID=America/Chicago:20241108T080000
DTEND;TZID=America/Chicago:20241108T120000
DTSTAMP:20260421T145705
CREATED:20241105T164838Z
LAST-MODIFIED:20241105T165814Z
UID:10001950-1731052800-1731067200@www.bhc.edu
SUMMARY:Student Services unavailable
DESCRIPTION:Please note that on Friday\, Nov. 8 from 8 a.m. to noon\, Student Services at all locations will be unavailable or limited in order to allow BHC staff members to attend a staff development event. \nBe sure to plan ahead for any services you may need during this time. Arrangements have been made for testing and other essential functions to continue. \nAll classes will be held as usual.
URL:https://www.bhc.edu/event/student-services-unavailable/
LOCATION:IL
CATEGORIES:Admissions,Advising,Career Services,Community (EC),Community (QC),Counseling,East Campus Events,Enrollment Services,Financial Aid,Payment Due,Quad-Cities Events,Student Life (EC),Student Life (QC),Student Services,Visit
END:VEVENT
BEGIN:VEVENT
DTSTART;TZID=America/Chicago:20241108T170000
DTEND;TZID=America/Chicago:20241108T200000
DTSTAMP:20260421T145705
CREATED:20241106T200348Z
LAST-MODIFIED:20250211T190102Z
UID:10001951-1731085200-1731096000@www.bhc.edu
SUMMARY:First Generation Day - Find your fire!
DESCRIPTION:Get fired up and join us in celebrating First Generation Day! \nFriday\, Nov. 8\n5-8 p.m.\nBlack Hawk State Historic Site\n1800 46th Ave.\, Rock Island \nFree s’mores and T-shirts (while supplies last) and spooky stories! \nA shuttle bus for students will run regularly from 4:30-8 p.m. from the Quad-Cities Campus outside the Building 1 main entrance (off 70th Street). \nFor more information\, contact Jana Koch at 309-796-5177 or kochj@bhc.edu.
URL:https://www.bhc.edu/event/first-generation-day-find-your-fire/
LOCATION:IL
CATEGORIES:Community (QC),Quad-Cities Events,Student Life (QC)
ATTACH;FMTTYPE=image/jpeg:https://www.bhc.edu/wp-content/uploads/fire-and-marshmallows.jpg
ORGANIZER;CN="Student Life Office":MAILTO:kochj@bhc.edu
END:VEVENT
BEGIN:VEVENT
DTSTART;TZID=America/Chicago:20241109T080000
DTEND;TZID=America/Chicago:20241109T080000
DTSTAMP:20260421T145705
CREATED:20240919T221748Z
LAST-MODIFIED:20240919T222332Z
UID:10001864-1731139200-1731139200@www.bhc.edu
SUMMARY:Black Hawk College 5K Hustle 2024
DESCRIPTION:Black Hawk College 5K Hustle – For the hill of it! \nRun the hills of the Quad-Cities Campus! \nSaturday\, Nov. 9 at 8 a.m. \nLOCATION: Black Hawk College\, outside Building 1 on the east side\, 6600 34th Ave.\, Moline. Enter from 70th Street and park in Lot 1. \nCOURSE: 5K road run through the scenic\, rolling hills of the Quad-Cities Campus. \nREGISTRATION: Register online. Cost is $25 if registered by Saturday\, Nov. 2. Starting Sunday\, Nov. 3\, cost is $30. The first 175 registered runners/walkers will receive an insulated grocery tote bag and first aid kit. \nPACKET PICKUP & RACE DAY REGISTRATION: Race day from 6:45-7:45 a.m. in Building 1\, upper lobby. Race day registration is $30. \nAWARDS: Awards to overall male and female and first three places in the following age groups: 0-14\, 15-19\, 20-24\, 25-29\, 30-34\, 35-39\, 40-44\, 45-49\, 50-54\, 55-59\, 60-64\, 65-69\, 70 and older. \nPOST-RACE PARTY: Breakfast pizza\, fruit\, cookies and door prizes\, including a drawing for two $100 cash awards (must be present to win) in Building 1\, upper lobby. \nSPONSORS: IMPACT Construction Agreement\, Tri-City Building & Trade Council\, Associated General Contractors of the Quad Cities. \nBENEFITING: All proceeds will benefit the Black Hawk College Physical Therapist Assistant (PTA) Program and its students through the Black Hawk College Foundation. \nQUESTIONS: Contact Dianne Abels at abelsd@bhc.edu or 309-796-5394.
URL:https://www.bhc.edu/event/black-hawk-college-5k-hustle-2024/
LOCATION:Black Hawk College Quad-Cities Campus\, 6600 34th Ave.\, Moline\, IL\, 61265\, United States
CATEGORIES:Athletics,Community (QC),Quad-Cities Events,Student Life (QC)
ATTACH;FMTTYPE=image/jpeg:https://www.bhc.edu/wp-content/uploads/runners-feet-ws-small-1.jpg
GEO:41.4774774;-90.4482304
X-APPLE-STRUCTURED-LOCATION;VALUE=URI;X-ADDRESS=DESCRIPTION:Black Hawk College 5K Hustle – For the hill of it! \nRun the hills of the Quad-Cities Campus! \nSaturday Nov. 9 at 8 a.m. \n Black Hawk College outside Building 1 on the east side 6600 34th Ave. Moline. Enter from 70th Street and park in Lot 1. \nCOURSE: 5K road run through the scenic rolling hills of the Quad-Cities Campus. \nREGISTRATION: Register online. Cost is $25 if registered by Saturday Nov. 2. Starting Sunday Nov. 3 cost is $30. The first 175 registered runners/walkers will receive an insulated grocery tote bag and first aid kit. \nPACKET PICKUP & RACE DAY REGISTRATION: Race day from 6:45-7:45 a.m. in Building 1 upper lobby. Race day registration is $30. \nAWARDS: Awards to overall male and female and first three places in the following age groups: 0-14 15-19 20-24 25-29 30-34 35-39 40-44 45-49 50-54 55-59 60-64 65-69 70 and older. \nPOST-RACE PARTY: Breakfast pizza fruit cookies and door prizes including a drawing for two $100 cash awards (must be present to win) in Building 1 upper lobby. \nSPONSORS: IMPACT Construction Agreement Tri-City Building & Trade Council Associated General Contractors of the Quad Cities. \nBENEFITING: All proceeds will benefit the Black Hawk College Physical Therapist Assistant (PTA) Program and its students through the Black Hawk College Foundation. \nQUESTIONS: Contact Dianne Abels at abelsd@bhc.edu or 309-796-5394.;X-APPLE-RADIUS=500;X-TITLE=6600 34th Ave.:geo:-90.4482304,41.4774774
END:VEVENT
END:VCALENDAR