BEGIN:VCALENDAR
VERSION:2.0
PRODID:-//Black Hawk College - ECPv6.15.20//NONSGML v1.0//EN
CALSCALE:GREGORIAN
METHOD:PUBLISH
X-ORIGINAL-URL:https://www.bhc.edu
X-WR-CALDESC:Events for Black Hawk College
REFRESH-INTERVAL;VALUE=DURATION:PT1H
X-Robots-Tag:noindex
X-PUBLISHED-TTL:PT1H
BEGIN:VTIMEZONE
TZID:America/Chicago
BEGIN:DAYLIGHT
TZOFFSETFROM:-0600
TZOFFSETTO:-0500
TZNAME:CDT
DTSTART:20230312T080000
END:DAYLIGHT
BEGIN:STANDARD
TZOFFSETFROM:-0500
TZOFFSETTO:-0600
TZNAME:CST
DTSTART:20231105T070000
END:STANDARD
BEGIN:DAYLIGHT
TZOFFSETFROM:-0600
TZOFFSETTO:-0500
TZNAME:CDT
DTSTART:20240310T080000
END:DAYLIGHT
BEGIN:STANDARD
TZOFFSETFROM:-0500
TZOFFSETTO:-0600
TZNAME:CST
DTSTART:20241103T070000
END:STANDARD
BEGIN:DAYLIGHT
TZOFFSETFROM:-0600
TZOFFSETTO:-0500
TZNAME:CDT
DTSTART:20250309T080000
END:DAYLIGHT
BEGIN:STANDARD
TZOFFSETFROM:-0500
TZOFFSETTO:-0600
TZNAME:CST
DTSTART:20251102T070000
END:STANDARD
END:VTIMEZONE
BEGIN:VEVENT
DTSTART;TZID=America/Chicago:20240430T120000
DTEND;TZID=America/Chicago:20240430T140000
DTSTAMP:20260423T160307
CREATED:20240430T023700Z
LAST-MODIFIED:20240807T143829Z
UID:10001316-1714478400-1714485600@www.bhc.edu
SUMMARY:BHC Carnival Field Day
DESCRIPTION:SGA would like to invite you to come and have a ball at our rescheduled Field Day! \nThe SGA Carnival is coming to campus so step right up to the most fun around! \nTuesday\, April 30\nNoon to 2 p.m.\nQuad-Cities Campus\nBuilding 1\, courtyard and upper lobby \nYou definitely do not want to miss out on this fun. We even have cool prizes for you to win! \nFor more information\, contact Jana Koch at 309-796-5177 or kochj@bhc.edu. \n 
URL:https://www.bhc.edu/event/bhc-carnival-field-day/
LOCATION:Black Hawk College Quad-Cities Campus\, 6600 34th Ave.\, Moline\, IL\, 61265\, United States
CATEGORIES:Quad-Cities Events,Student Life (QC)
ORGANIZER;CN="Jana Koch":MAILTO:kochj@bhc.edu
GEO:41.4774774;-90.4482304
X-APPLE-STRUCTURED-LOCATION;VALUE=URI;X-ADDRESS=Black Hawk College Quad-Cities Campus 6600 34th Ave. Moline IL 61265 United States;X-APPLE-RADIUS=500;X-TITLE=6600 34th Ave.:geo:-90.4482304,41.4774774
END:VEVENT
BEGIN:VEVENT
DTSTART;TZID=America/Chicago:20240502T180000
DTEND;TZID=America/Chicago:20240502T210000
DTSTAMP:20260423T160307
CREATED:20240419T210400Z
LAST-MODIFIED:20260421T154210Z
UID:10001314-1714672800-1714683600@www.bhc.edu
SUMMARY:2024 BHC JazzFest
DESCRIPTION:Join us for a special musical collaboration with the Black Hawk College Jazz Ensemble\, Chamber Singers\, Concert Choir and Community Chorale at the historic Spotlight Theatre in Moline. \nFeaturing special guests: \n\nMardra Thomas\, vocals\nReggie Thomas\, piano\nManuel Lopez III\, drums\nRon Wilson\, bass\n\nThe schedule for the evening: \n\n6-7 p.m. – Solo performances of jazz standards by BHC students at the Blueprint Bar & Lounge inside The Spotlight Theatre\n7-9 p.m. – JazzFest Concert\n\nAdmission is free! \nView the 2024 BHC JazzFest program.
URL:https://www.bhc.edu/event/2024-bhc-jazzfest/
LOCATION:The Spotlight Theatre\, 1800 7th Ave.\, Moline\, IL\, 61265\, United States
CATEGORIES:Art, Music & Theatre,Community (QC),Quad-Cities Events,Student Life (QC)
ATTACH;FMTTYPE=image/jpeg:https://www.bhc.edu/wp-content/uploads/504373726.jpg
ORGANIZER;CN="Corey Kendrick":MAILTO:kendrickc@bhc.edu
END:VEVENT
END:VCALENDAR