BEGIN:VCALENDAR
VERSION:2.0
PRODID:-//Black Hawk College - ECPv6.15.20//NONSGML v1.0//EN
CALSCALE:GREGORIAN
METHOD:PUBLISH
X-ORIGINAL-URL:https://www.bhc.edu
X-WR-CALDESC:Events for Black Hawk College
REFRESH-INTERVAL;VALUE=DURATION:PT1H
X-Robots-Tag:noindex
X-PUBLISHED-TTL:PT1H
BEGIN:VTIMEZONE
TZID:America/Chicago
BEGIN:DAYLIGHT
TZOFFSETFROM:-0600
TZOFFSETTO:-0500
TZNAME:CDT
DTSTART:20240310T080000
END:DAYLIGHT
BEGIN:STANDARD
TZOFFSETFROM:-0500
TZOFFSETTO:-0600
TZNAME:CST
DTSTART:20241103T070000
END:STANDARD
BEGIN:DAYLIGHT
TZOFFSETFROM:-0600
TZOFFSETTO:-0500
TZNAME:CDT
DTSTART:20250309T080000
END:DAYLIGHT
BEGIN:STANDARD
TZOFFSETFROM:-0500
TZOFFSETTO:-0600
TZNAME:CST
DTSTART:20251102T070000
END:STANDARD
BEGIN:DAYLIGHT
TZOFFSETFROM:-0600
TZOFFSETTO:-0500
TZNAME:CDT
DTSTART:20260308T080000
END:DAYLIGHT
BEGIN:STANDARD
TZOFFSETFROM:-0500
TZOFFSETTO:-0600
TZNAME:CST
DTSTART:20261101T070000
END:STANDARD
END:VTIMEZONE
BEGIN:VEVENT
DTSTART;VALUE=DATE:20251031
DTEND;VALUE=DATE:20251102
DTSTAMP:20260421T043607
CREATED:20250917T145135Z
LAST-MODIFIED:20250917T145309Z
UID:10003185-1761868800-1762041599@www.bhc.edu
SUMMARY:Women's Basketball Justagame Classic
DESCRIPTION:NJCAA Region 4 Women’s Basketball team competes in the Justagame Classic in Wisconsin Dells. \nGame Schedule\n\nOct. 31\, 7:15 p.m. – Mid-Michigan\nNov. 1\, 11:00 a.m. – Anoka-Ramsey\n\n[Download not found]
URL:https://www.bhc.edu/event/womens-basketball-justagame-classic/
LOCATION:Justagame Fieldhouse\, Wisconsin Dells\, WI\, United States
CATEGORIES:Athletics,Quad-Cities Events,Women's Basketball
ATTACH;FMTTYPE=image/jpeg:https://www.bhc.edu/wp-content/uploads/00000-Circular_Profile_wbasketball.jpg
ORGANIZER;CN="Tara Carey":MAILTO:careyt@bhc.edu
END:VEVENT
BEGIN:VEVENT
DTSTART;TZID=America/Chicago:20251104T173000
DTEND;TZID=America/Chicago:20251104T193000
DTSTAMP:20260421T043608
CREATED:20250917T145455Z
LAST-MODIFIED:20250917T145455Z
UID:10003187-1762277400-1762284600@www.bhc.edu
SUMMARY:Women's Basketball Game vs. DMACC
DESCRIPTION:NJCAA Region 4 Women’s Basketball team faces off against DMACC in Moline\, IL. \n[Download not found]
URL:https://www.bhc.edu/event/womens-basketball-game-vs-dmacc/
LOCATION:QC Campus: Building 3\, Gymnasium\, 6600 34th Ave.\, Moline\, IL\, 61265\, United States
CATEGORIES:Athletics,Quad-Cities Events,Women's Basketball
ATTACH;FMTTYPE=image/jpeg:https://www.bhc.edu/wp-content/uploads/00000-Circular_Profile_wbasketball.jpg
ORGANIZER;CN="Tara Carey":MAILTO:careyt@bhc.edu
END:VEVENT
BEGIN:VEVENT
DTSTART;VALUE=DATE:20251108
DTEND;VALUE=DATE:20251110
DTSTAMP:20260421T043608
CREATED:20250917T145549Z
LAST-MODIFIED:20251015T180943Z
UID:10003188-1762560000-1762732799@www.bhc.edu
SUMMARY:Women's Basketball Lake Land Classic
DESCRIPTION:NJCAA Region 4 Women’s Basketball competes in the Lake Land Classic in Mattoon\, IL. \nTimes: 3 p.m. both days. \n[Download not found]
URL:https://www.bhc.edu/event/womens-basketball-lake-land-classic/
LOCATION:Lake Land Community College\, 5001 Lake Land BLVD\, Mattoon\, IL\, 61938\, United States
CATEGORIES:Athletics,Quad-Cities Events,Women's Basketball
ATTACH;FMTTYPE=image/jpeg:https://www.bhc.edu/wp-content/uploads/00000-Circular_Profile_wbasketball.jpg
ORGANIZER;CN="Tara Carey":MAILTO:careyt@bhc.edu
GEO:39.4172721;-88.3820852
X-APPLE-STRUCTURED-LOCATION;VALUE=URI;X-ADDRESS=Lake Land Community College 5001 Lake Land BLVD Mattoon IL 61938 United States;X-APPLE-RADIUS=500;X-TITLE=5001 Lake Land BLVD:geo:-88.3820852,39.4172721
END:VEVENT
BEGIN:VEVENT
DTSTART;TZID=America/Chicago:20251112T170000
DTEND;TZID=America/Chicago:20251112T190000
DTSTAMP:20260421T043608
CREATED:20250917T145654Z
LAST-MODIFIED:20250917T145654Z
UID:10003189-1762966800-1762974000@www.bhc.edu
SUMMARY:Women's Basketball Game at Southeastern Community College
DESCRIPTION:NJCAA Region 4 Women’s Basketball team faces off against Southeastern Community College in Burlington\, IA. \n[Download not found]
URL:https://www.bhc.edu/event/womens-basketball-game-at-southeastern-community-college/
LOCATION:Southeastern Community College\, 1500 West Agency Rd\, West Burlington\, IA\, 52655\, United States
CATEGORIES:Athletics,Quad-Cities Events,Women's Basketball
ATTACH;FMTTYPE=image/jpeg:https://www.bhc.edu/wp-content/uploads/00000-Circular_Profile_wbasketball.jpg
ORGANIZER;CN="Tara Carey":MAILTO:careyt@bhc.edu
GEO:40.81186;-91.173563
X-APPLE-STRUCTURED-LOCATION;VALUE=URI;X-ADDRESS=Southeastern Community College 1500 West Agency Rd West Burlington IA 52655 United States;X-APPLE-RADIUS=500;X-TITLE=1500 West Agency Rd:geo:-91.173563,40.81186
END:VEVENT
BEGIN:VEVENT
DTSTART;TZID=America/Chicago:20251115T130000
DTEND;TZID=America/Chicago:20251115T150000
DTSTAMP:20260421T043608
CREATED:20250917T145740Z
LAST-MODIFIED:20251220T010107Z
UID:10003190-1763211600-1763218800@www.bhc.edu
SUMMARY:Women's Basketball Game vs. McHenry County
DESCRIPTION:NJCAA Region 4 Women’s Basketball team faces off against McHenry County in Moline\, IL.
URL:https://www.bhc.edu/event/womens-basketball-game-vs-mchenry-county/
LOCATION:QC Campus: Building 3\, Gymnasium\, 6600 34th Ave.\, Moline\, IL\, 61265\, United States
CATEGORIES:Athletics,Quad-Cities Events,Women's Basketball
ATTACH;FMTTYPE=image/jpeg:https://www.bhc.edu/wp-content/uploads/00000-Circular_Profile_wbasketball.jpg
ORGANIZER;CN="Tara Carey":MAILTO:careyt@bhc.edu
END:VEVENT
BEGIN:VEVENT
DTSTART;TZID=America/Chicago:20251119T170000
DTEND;TZID=America/Chicago:20251119T190000
DTSTAMP:20260421T043608
CREATED:20250917T145828Z
LAST-MODIFIED:20251220T010114Z
UID:10003191-1763571600-1763578800@www.bhc.edu
SUMMARY:Women's Basketball Game vs. Illinois Central College
DESCRIPTION:NJCAA Region 4 Women’s Basketball team faces off against Illinois Central College in Moline\, IL.
URL:https://www.bhc.edu/event/womens-basketball-game-vs-illinois-central-college/
LOCATION:QC Campus: Building 3\, Gymnasium\, 6600 34th Ave.\, Moline\, IL\, 61265\, United States
CATEGORIES:Athletics,Quad-Cities Events,Women's Basketball
ATTACH;FMTTYPE=image/jpeg:https://www.bhc.edu/wp-content/uploads/00000-Circular_Profile_wbasketball.jpg
ORGANIZER;CN="Tara Carey":MAILTO:careyt@bhc.edu
END:VEVENT
BEGIN:VEVENT
DTSTART;TZID=America/Chicago:20251122T130000
DTEND;TZID=America/Chicago:20251122T150000
DTSTAMP:20260421T043608
CREATED:20250917T145919Z
LAST-MODIFIED:20251220T010120Z
UID:10003192-1763816400-1763823600@www.bhc.edu
SUMMARY:Women's Basketball Game vs. Wilbur Wright
DESCRIPTION:NJCAA Region 4 Women’s Basketball team faces off against Wilbur Wright in Moline\, IL.
URL:https://www.bhc.edu/event/womens-basketball-game-vs-wilbur-wright/
LOCATION:QC Campus: Building 3\, Gymnasium\, 6600 34th Ave.\, Moline\, IL\, 61265\, United States
CATEGORIES:Athletics,Quad-Cities Events,Women's Basketball
ATTACH;FMTTYPE=image/jpeg:https://www.bhc.edu/wp-content/uploads/00000-Circular_Profile_wbasketball.jpg
ORGANIZER;CN="Tara Carey":MAILTO:careyt@bhc.edu
END:VEVENT
END:VCALENDAR