BEGIN:VCALENDAR
VERSION:2.0
PRODID:-//Black Hawk College - ECPv6.15.20//NONSGML v1.0//EN
CALSCALE:GREGORIAN
METHOD:PUBLISH
X-ORIGINAL-URL:https://www.bhc.edu
X-WR-CALDESC:Events for Black Hawk College
REFRESH-INTERVAL;VALUE=DURATION:PT1H
X-Robots-Tag:noindex
X-PUBLISHED-TTL:PT1H
BEGIN:VTIMEZONE
TZID:America/Chicago
BEGIN:DAYLIGHT
TZOFFSETFROM:-0600
TZOFFSETTO:-0500
TZNAME:CDT
DTSTART:20240310T080000
END:DAYLIGHT
BEGIN:STANDARD
TZOFFSETFROM:-0500
TZOFFSETTO:-0600
TZNAME:CST
DTSTART:20241103T070000
END:STANDARD
BEGIN:DAYLIGHT
TZOFFSETFROM:-0600
TZOFFSETTO:-0500
TZNAME:CDT
DTSTART:20250309T080000
END:DAYLIGHT
BEGIN:STANDARD
TZOFFSETFROM:-0500
TZOFFSETTO:-0600
TZNAME:CST
DTSTART:20251102T070000
END:STANDARD
BEGIN:DAYLIGHT
TZOFFSETFROM:-0600
TZOFFSETTO:-0500
TZNAME:CDT
DTSTART:20260308T080000
END:DAYLIGHT
BEGIN:STANDARD
TZOFFSETFROM:-0500
TZOFFSETTO:-0600
TZNAME:CST
DTSTART:20261101T070000
END:STANDARD
END:VTIMEZONE
BEGIN:VEVENT
DTSTART;VALUE=DATE:20251103
DTEND;VALUE=DATE:20251213
DTSTAMP:20260425T163038
CREATED:20251024T144816Z
LAST-MODIFIED:20251024T145703Z
UID:10003849-1762128000-1765583999@www.bhc.edu
SUMMARY:ArtSpace Gallery exhibit - Encaustics by Cindy Lesperance
DESCRIPTION:The ArtSpace Gallery at the Quad-Cities Campus is exhibiting “Strata: A Record of Time and Disruption” – encaustics by Cindy Lesperance – from Monday\, Nov. 3 through Friday\, Dec. 12. \nEveryone is invited to a closing reception Thursday\, Dec. 11 from 4-5:15 p.m. with an artist talk at 4:15 p.m. Light refreshments will be provided. \nThe ArtSpace Gallery is located on the first floor of Building 4 at the Quad-Cities Campus\, 6600 34th Ave.\, Moline. \nFor more information about exhibits in the ArtSpace Gallery\, email ArtDesign@bhc.edu or visit Black Hawk College Art and Design. \nAbout the artist\nCindy Lesperance is an award-winning encaustic artist based in the northwest suburbs of Chicago. Known for her richly textured\, abstract works\, Lesperance explores the interplay of color\, surface and form through the ancient medium of encaustic. Her work has been exhibited in juried exhibitions\, galleries and museums throughout the United States and is included in both private and public collections internationally. \nShe is represented by Alma Gallery in Chicago and Plum Bottom Gallery in Door County\, WI. Lesperance is a board member at large and former president (2019-21) of FUSEDChicago\, a collective of Midwest artists working in encaustic. She also is an active member of the Women’s Caucus for the Arts. \nHer work has been featured in Encaustic Arts Magazine\, ACS Magazine and on the cover of the Journal of Financial Service Professionals. Notably\, her art is part of the permanent collection at the Encaustic Art Institute in Santa Fe\, NM. \nArtist Statement\nThis body of work uses the ancient medium of encaustic — a blend of beeswax\, damar resin and pigment — to explore how time\, memory and experience leave quiet traces on our inner landscapes. \nEach painting is created through a slow\, repetitive process: I apply thousands of small wax droplets\, one by one\, to the surface. The process is deliberate and meditative — an act of attention and endurance. While some areas follow this rhythmic pattern\, others are scratched\, marking moments of disruption or shift.  The surface becomes a kind of terrain — a tactile record of time\, attention and transformation. \nThe title — “Strata” — is drawn from geology: layers of rock or sediment that build up over time and record the forces that shaped them. I use that idea as a metaphor for human experience — not visible\, geological layers\, but emotional ones we carry just beneath the surface. \nThese works invite you to slow down. From afar\, you see rhythm and hue — but as you move closer\, the textures and evidence of time and touch begin to reveal themselves. \nMy hope is that you’ll reflect on your own internal layers — what has shaped you\, what you’ve let go of and what remains in quiet accumulation.
URL:https://www.bhc.edu/event/artspace-gallery-exhibit-encaustics-by-cindy-lesperance/
LOCATION:Black Hawk College Quad-Cities Campus\, 6600 34th Ave.\, Moline\, IL\, 61265\, United States
CATEGORIES:Art, Music & Theatre,Community (QC),Quad-Cities Events
ATTACH;FMTTYPE=image/jpeg:https://www.bhc.edu/wp-content/uploads/Cindy-Lesprance-Strata-9538.jpg
ORGANIZER;CN="Terrance Gray":MAILTO:grayt@bhc.edu
GEO:41.4774774;-90.4482304
X-APPLE-STRUCTURED-LOCATION;VALUE=URI;X-ADDRESS=Black Hawk College Quad-Cities Campus 6600 34th Ave. Moline IL 61265 United States;X-APPLE-RADIUS=500;X-TITLE=6600 34th Ave.:geo:-90.4482304,41.4774774
END:VEVENT
BEGIN:VEVENT
DTSTART;TZID=America/Chicago:20251105T123000
DTEND;TZID=America/Chicago:20251105T143000
DTSTAMP:20260425T163038
CREATED:20251007T225537Z
LAST-MODIFIED:20251031T163241Z
UID:10003725-1762345800-1762353000@www.bhc.edu
SUMMARY:Dia de los Muertos Celebration
DESCRIPTION:Learn about Dia de los Muertos (Day of the Dead) from Heather Aaronson with the Figge Art Museum. \nEnjoy music\, activities and FREE food (while supplies last)! \nWednesday\, Nov. 5\n12:30-2:30 p.m. \nQuad-Cities Campus\nBuilding 4\, second floor\, Hawk’s Nest
URL:https://www.bhc.edu/event/dia-de-los-muertos-celebration/
LOCATION:Black Hawk College Quad-Cities Campus\, 6600 34th Ave.\, Moline\, IL\, 61265\, United States
CATEGORIES:Art, Music & Theatre,Community (QC),Quad-Cities Events,Student Life (QC)
ATTACH;FMTTYPE=image/jpeg:https://www.bhc.edu/wp-content/uploads/Dia-de-los-Muertos-3x2-1.jpg
ORGANIZER;CN="Jana Koch":MAILTO:kochj@bhc.edu
GEO:41.4774774;-90.4482304
X-APPLE-STRUCTURED-LOCATION;VALUE=URI;X-ADDRESS=Black Hawk College Quad-Cities Campus 6600 34th Ave. Moline IL 61265 United States;X-APPLE-RADIUS=500;X-TITLE=6600 34th Ave.:geo:-90.4482304,41.4774774
END:VEVENT
BEGIN:VEVENT
DTSTART;TZID=America/Chicago:20251105T173000
DTEND;TZID=America/Chicago:20251105T200000
DTSTAMP:20260425T163038
CREATED:20251015T190451Z
LAST-MODIFIED:20251016T211822Z
UID:10003759-1762363800-1762372800@www.bhc.edu
SUMMARY:In Process - An Interactive Arts Experience
DESCRIPTION:BHC student artists\, musicians and actors will immerse themselves in a one-of-a-kind evening of creating art! \nStudents will paint and draw in real time and respond to visual art with music and theatre\, all the while creating something completely unique. \nAudience members also are invited to experience and participate in this interactive event! \n\nDoors open – 5:30 p.m.\nEvent begins – 6 p.m.\nReception with light refreshments to follow.\n\nFor more information\, visit: \n\nBlack Hawk College Art and Design – Instagram @BHCArtDesign and Facebook\nBlack Hawk College Music Program – Instagram @bhc_music_dept and Facebook
URL:https://www.bhc.edu/event/in-process-an-interactive-arts-experience/
LOCATION:The Moline Club\, 1530 5th Ave.\, Moline\, IL\, 61265\, United States
CATEGORIES:Art, Music & Theatre,Community (QC),Quad-Cities Events,Student Life (QC)
ATTACH;FMTTYPE=image/jpeg:https://www.bhc.edu/wp-content/uploads/In-Process-Interactive-Arts-Experience-10-2025-5x4-1-scaled.jpg
END:VEVENT
BEGIN:VEVENT
DTSTART;TZID=America/Chicago:20251108T193000
DTEND;TZID=America/Chicago:20251108T210000
DTSTAMP:20260425T163038
CREATED:20251008T185931Z
LAST-MODIFIED:20251030T154203Z
UID:10003746-1762630200-1762635600@www.bhc.edu
SUMMARY:Quad City Symphony Orchestra concert
DESCRIPTION:Join us for a free performance by the Quad City Symphony Orchestra! \nMasterworks II: Diaspora will feature Mark Russell Smith\, conductor\, and Steven Banks\, saxophone. \nImmerse yourself in vivid storytelling and orchestral brilliance! \n\nRichard Strauss’s dramatic Don Juan pulses with energy.\nBilly Childs’ saxophone concerto Diaspora explores powerful jazz-inspired narratives.\nMaurice Ravel’s Daphnis et Chloé\, Suite No. 2 dazzles with captivating rhythms and lush\, colorful harmonies.\n\nSign up by Friday\, Oct. 10. Registration has closed. \nNeed a ride? Meet us at the Quad-Cities Campus at Building 1 at 5:45 p.m. The bus will leave promptly at 6 p.m.
URL:https://www.bhc.edu/event/quad-city-symphony-orchestra-concert/
LOCATION:Adler Theatre\, 136 E. 3rd St.\, Davenport\, IA\, 52801\, United States
CATEGORIES:Art, Music & Theatre,Quad-Cities Events,Student Life (QC)
ATTACH;FMTTYPE=image/webp:https://www.bhc.edu/wp-content/uploads/Quad-City-Symphony-Orchestra-logo.webp
ORGANIZER;CN="Jana Koch":MAILTO:kochj@bhc.edu
END:VEVENT
BEGIN:VEVENT
DTSTART;TZID=America/Chicago:20251114T130000
DTEND;TZID=America/Chicago:20251114T140000
DTSTAMP:20260425T163038
CREATED:20250905T195517Z
LAST-MODIFIED:20250905T195517Z
UID:10003110-1763125200-1763128800@www.bhc.edu
SUMMARY:Music Makers' Meetup meeting
DESCRIPTION:Love anything and everything about music? The Music Makers’ Meetup is a safe and inclusive space for anyone who appreciates music to explore and engage with it on a deeper level. \nThrough unique activities and experiences\, we promote musical expression\, creativity and interaction. \nNo prior experience in music is necessary to join\, only a sincere appreciation of this amazing art form! \nFall 2025 meetings\nFridays\n1-2 p.m. \n\nOct. 10\nNov. 14\nDec. 12\n\nQuad-Cities Campus\nBuilding 4\, Room 101
URL:https://www.bhc.edu/event/music-makers-meetup-meeting/2025-11-14/
LOCATION:Black Hawk College Quad-Cities Campus\, 6600 34th Ave.\, Moline\, IL\, 61265\, United States
CATEGORIES:Art, Music & Theatre,Quad-Cities Events,Student Life (QC)
ATTACH;FMTTYPE=image/jpeg:https://www.bhc.edu/wp-content/uploads/bhc-music-small.jpg
ORGANIZER;CN="Irene Leites":MAILTO:leitesi@bhc.edu
GEO:41.4774774;-90.4482304
X-APPLE-STRUCTURED-LOCATION;VALUE=URI;X-ADDRESS=Black Hawk College Quad-Cities Campus 6600 34th Ave. Moline IL 61265 United States;X-APPLE-RADIUS=500;X-TITLE=6600 34th Ave.:geo:-90.4482304,41.4774774
END:VEVENT
BEGIN:VEVENT
DTSTART;TZID=America/Chicago:20251114T130000
DTEND;TZID=America/Chicago:20251114T140000
DTSTAMP:20260425T163038
CREATED:20251029T141832Z
LAST-MODIFIED:20251029T141958Z
UID:10003848-1763125200-1763128800@www.bhc.edu
SUMMARY:Overcoming performance anxiety - Guest speaker
DESCRIPTION:Do your nerves take over right before you perform\, present or compete?\nWant to feel more in control when the pressure is on?\nLooking for strategies to turn anxiety into confidence?\n\nJoin us for Overcoming Performance Anxiety: A Presentation by Sara Brooks\, RP\, DMus. \nDr. Brooks is a registered psychotherapist (RP) who specializes in musician mental health workshops and musician support/process groups. \nQuad-Cities Campus\nBuilding 4\, second floor\, Hawk’s Nest \nFree pizza while supplies last. \nSponsored by the BHC Counseling Department and Music Makers’ Meetup student club.
URL:https://www.bhc.edu/event/overcoming-performance-anxiety-guest-speaker/
LOCATION:Black Hawk College Quad-Cities Campus\, 6600 34th Ave.\, Moline\, IL\, 61265\, United States
CATEGORIES:Art, Music & Theatre,Counseling,Quad-Cities Events,Student Life (QC),Student Services
ATTACH;FMTTYPE=image/jpeg:https://www.bhc.edu/wp-content/uploads/music-background-16x9-1.jpg
ORGANIZER;CN="Irene Leites":MAILTO:leitesi@bhc.edu
GEO:41.4774774;-90.4482304
X-APPLE-STRUCTURED-LOCATION;VALUE=URI;X-ADDRESS=Black Hawk College Quad-Cities Campus 6600 34th Ave. Moline IL 61265 United States;X-APPLE-RADIUS=500;X-TITLE=6600 34th Ave.:geo:-90.4482304,41.4774774
END:VEVENT
BEGIN:VEVENT
DTSTART;TZID=America/Chicago:20251118T190000
DTEND;TZID=America/Chicago:20251118T190000
DTSTAMP:20260425T163038
CREATED:20251113T213123Z
LAST-MODIFIED:20251114T001526Z
UID:10003972-1763492400-1763492400@www.bhc.edu
SUMMARY:Holiday concert - Home for the Holidays
DESCRIPTION:Join the Department of Art\, Design and Performing Arts for Home for the Holidays\, a BHC Community Concert Band performance directed by Erin Mahr. \nTuesday\, Nov. 18\n7 p.m. \nUnited Township High School Auditorium\n1275 Avenue of the Cities\, East Moline \nFree and open to the public. \nDonations of non-perishable food items for the BHC pantry are welcome! \nProgram\n\nAmerica the Beautiful – Samuel Ward/arr. Carmen Dragon\nPrairie Dances – David Holsinger\nCarnival of Venice – Briccaldi\, featuring soloist Paul Mizzi\nHavana Nights – Randall Standridge\nVariations on a Korean Folksong – John Barnes Chance\nQuad City Stomp – Michael Sweeney\n\nIntermission\n\nGreensleeves – arr. Alfred Reed\nChristmas Festival – Leroy Anderson\nThe Little Drummer Boy’s Bolero – Julie Giroux\nAll is Well – Michael W. Smith\, with student conductor Jacob Larson\nHey! Baby!\nOld Scottish Melody – Charles Wiley\n\nFor more information\, email music@bhc.edu.
URL:https://www.bhc.edu/event/holiday-concert-home-for-the-holidays/
LOCATION:United Township High School\, 1275 Avenue of the Cities\, East Moline\, IL\, 61244\, United States
CATEGORIES:Art, Music & Theatre,Community (QC),Quad-Cities Events
ATTACH;FMTTYPE=image/jpeg:https://www.bhc.edu/wp-content/uploads/snow-cabin-trees-16x9-800x450-1.jpg
GEO:41.4913029;-90.4339599
X-APPLE-STRUCTURED-LOCATION;VALUE=URI;X-ADDRESS=United Township High School 1275 Avenue of the Cities East Moline IL 61244 United States;X-APPLE-RADIUS=500;X-TITLE=1275 Avenue of the Cities:geo:-90.4339599,41.4913029
END:VEVENT
END:VCALENDAR