BEGIN:VCALENDAR
VERSION:2.0
PRODID:-//Black Hawk College - ECPv6.15.20//NONSGML v1.0//EN
CALSCALE:GREGORIAN
METHOD:PUBLISH
X-WR-CALNAME:Black Hawk College
X-ORIGINAL-URL:https://www.bhc.edu
X-WR-CALDESC:Events for Black Hawk College
REFRESH-INTERVAL;VALUE=DURATION:PT1H
X-Robots-Tag:noindex
X-PUBLISHED-TTL:PT1H
BEGIN:VTIMEZONE
TZID:America/Chicago
BEGIN:DAYLIGHT
TZOFFSETFROM:-0600
TZOFFSETTO:-0500
TZNAME:CDT
DTSTART:20240310T080000
END:DAYLIGHT
BEGIN:STANDARD
TZOFFSETFROM:-0500
TZOFFSETTO:-0600
TZNAME:CST
DTSTART:20241103T070000
END:STANDARD
BEGIN:DAYLIGHT
TZOFFSETFROM:-0600
TZOFFSETTO:-0500
TZNAME:CDT
DTSTART:20250309T080000
END:DAYLIGHT
BEGIN:STANDARD
TZOFFSETFROM:-0500
TZOFFSETTO:-0600
TZNAME:CST
DTSTART:20251102T070000
END:STANDARD
BEGIN:DAYLIGHT
TZOFFSETFROM:-0600
TZOFFSETTO:-0500
TZNAME:CDT
DTSTART:20260308T080000
END:DAYLIGHT
BEGIN:STANDARD
TZOFFSETFROM:-0500
TZOFFSETTO:-0600
TZNAME:CST
DTSTART:20261101T070000
END:STANDARD
END:VTIMEZONE
BEGIN:VEVENT
DTSTART;TZID=America/Chicago:20250715T100000
DTEND;TZID=America/Chicago:20250715T120000
DTSTAMP:20260425T201952
CREATED:20250609T153000Z
LAST-MODIFIED:20250711T170139Z
UID:10002778-1752573600-1752580800@www.bhc.edu
SUMMARY:LEAP - Leadership Engagement with Awesome People!
DESCRIPTION:Are you ready to leap into your potential and connect with fellow students? \nLEAP – Leadership Engagement with Awesome People – is for aspiring young leaders looking to make a splash at the Quad-Cities Campus! \nWhether you’re a new or current BHC student\, we encourage you to hop in for a day of empowerment at LEAP! \nWhat to expect: \n\nFun and interactive activities\nLeadership development opportunities\nFree lunch!\n\nDon’t miss this opportunity to leap\, learn and lead with your fellow BHC students! \nFeel free to bring a friend! \nRegister online by 5 p.m. Saturday\, July 12. \nTo register after online registration closes\, email Jana Koch.
URL:https://www.bhc.edu/event/leap-leadership-engagement-with-awesome-people/
LOCATION:Black Hawk College Quad-Cities Campus\, 6600 34th Ave.\, Moline\, IL\, 61265\, United States
CATEGORIES:Admissions,Orientation,Quad-Cities Events,Student Life (QC),Student Services,Visit
ATTACH;FMTTYPE=image/jpeg:https://www.bhc.edu/wp-content/uploads/frog-web-e1749231804145.jpg
ORGANIZER;CN="Jana Koch":MAILTO:kochj@bhc.edu
GEO:41.4774774;-90.4482304
X-APPLE-STRUCTURED-LOCATION;VALUE=URI;X-ADDRESS=Black Hawk College Quad-Cities Campus 6600 34th Ave. Moline IL 61265 United States;X-APPLE-RADIUS=500;X-TITLE=6600 34th Ave.:geo:-90.4482304,41.4774774
END:VEVENT
BEGIN:VEVENT
DTSTART;TZID=America/Chicago:20250730T080000
DTEND;TZID=America/Chicago:20250730T183000
DTSTAMP:20260425T201952
CREATED:20250714T213845Z
LAST-MODIFIED:20250722T160628Z
UID:10002795-1753862400-1753900200@www.bhc.edu
SUMMARY:Express Enrollment (QC Campus)
DESCRIPTION:No matter which stage of enrollment you are in\, Express Enrollment allows you to fast track through the enrollment process! \nWe’ll be open extended hours to help you! \nTo get started:\n\nCome to the Quad-Cities Campus between 8 a.m. and 6:30 p.m.\nStop by the Welcome Desk in Building 1.\nYou’ll be pointed in the right direction depending on what you need to do.\n\nYou will be able to:\n\nApply to BHC.\nComplete placement testing.\nMeet with an advisor to pick your courses and register for Fall 2025 classes.\nGet help completing the Free Application for Federal Student Aid (FAFSA).\nGet help filling out enrollment forms.\nPay your bill or set up a payment plan.\nShop in the Hawk’s Hub\, the BHC bookstore.\n\nFall 2025 classes start Aug. 25! \nFor more information\, contact:\nBlack Hawk College Recruitment Team\n309-796-5000\ninfo@bhc.edu
URL:https://www.bhc.edu/event/2025-07-express-enrollment-qc-campus/
LOCATION:Black Hawk College Quad-Cities Campus\, 6600 34th Ave.\, Moline\, IL\, 61265\, United States
CATEGORIES:Admissions,Advising,Community (QC),Enrollment Services,Financial Aid,Payment Due,Quad-Cities Events,Student Life (QC),Student Services,Visit
ATTACH;FMTTYPE=image/jpeg:https://www.bhc.edu/wp-content/uploads/express-enrollment-bullet-train.jpg
GEO:41.4774774;-90.4482304
X-APPLE-STRUCTURED-LOCATION;VALUE=URI;X-ADDRESS=Black Hawk College Quad-Cities Campus 6600 34th Ave. Moline IL 61265 United States;X-APPLE-RADIUS=500;X-TITLE=6600 34th Ave.:geo:-90.4482304,41.4774774
END:VEVENT
END:VCALENDAR