BEGIN:VCALENDAR
VERSION:2.0
PRODID:-//Black Hawk College - ECPv6.15.20//NONSGML v1.0//EN
CALSCALE:GREGORIAN
METHOD:PUBLISH
X-WR-CALNAME:Black Hawk College
X-ORIGINAL-URL:https://www.bhc.edu
X-WR-CALDESC:Events for Black Hawk College
REFRESH-INTERVAL;VALUE=DURATION:PT1H
X-Robots-Tag:noindex
X-PUBLISHED-TTL:PT1H
BEGIN:VTIMEZONE
TZID:America/Chicago
BEGIN:DAYLIGHT
TZOFFSETFROM:-0600
TZOFFSETTO:-0500
TZNAME:CDT
DTSTART:20250309T080000
END:DAYLIGHT
BEGIN:STANDARD
TZOFFSETFROM:-0500
TZOFFSETTO:-0600
TZNAME:CST
DTSTART:20251102T070000
END:STANDARD
BEGIN:DAYLIGHT
TZOFFSETFROM:-0600
TZOFFSETTO:-0500
TZNAME:CDT
DTSTART:20260308T080000
END:DAYLIGHT
BEGIN:STANDARD
TZOFFSETFROM:-0500
TZOFFSETTO:-0600
TZNAME:CST
DTSTART:20261101T070000
END:STANDARD
BEGIN:DAYLIGHT
TZOFFSETFROM:-0600
TZOFFSETTO:-0500
TZNAME:CDT
DTSTART:20270314T080000
END:DAYLIGHT
BEGIN:STANDARD
TZOFFSETFROM:-0500
TZOFFSETTO:-0600
TZNAME:CST
DTSTART:20271107T070000
END:STANDARD
END:VTIMEZONE
BEGIN:VEVENT
DTSTART;VALUE=DATE:20260406
DTEND;VALUE=DATE:20260508
DTSTAMP:20260421T061417
CREATED:20260401T145027Z
LAST-MODIFIED:20260401T214304Z
UID:10004301-1775433600-1778198399@www.bhc.edu
SUMMARY:ArtSpace Gallery exhibit – Student Art Exhibition
DESCRIPTION:The ArtSpace Gallery at the Quad-Cities Campus is showcasing artwork by BHC students from Monday\, April 6 through Thursday\, May 7. \nThere will be a reception and awards ceremony Wednesday\, May 6 from 4-5:15 p.m. Everyone is invited to meet the student artists and enjoy light refreshments. \nThe ArtSpace Gallery is located on the first floor of Building 4 at the Quad-Cities Campus. \nFor more information about exhibits in the ArtSpace Gallery\, email ArtDesign@bhc.edu or visit Black Hawk College Art and Design on Facebook.
URL:https://www.bhc.edu/event/artspace-gallery-exhibit-student-art-exhibition-2/
LOCATION:Black Hawk College Quad-Cities Campus\, 6600 34th Ave.\, Moline\, IL\, 61265\, United States
CATEGORIES:Art, Music & Theatre,Community (QC),Quad-Cities Events,Student Life (QC)
ATTACH;FMTTYPE=image/jpeg:https://www.bhc.edu/wp-content/uploads/artspace-web-1.jpg
ORGANIZER;CN="Terrance Gray":MAILTO:grayt@bhc.edu
GEO:41.4774774;-90.4482304
X-APPLE-STRUCTURED-LOCATION;VALUE=URI;X-ADDRESS=Black Hawk College Quad-Cities Campus 6600 34th Ave. Moline IL 61265 United States;X-APPLE-RADIUS=500;X-TITLE=6600 34th Ave.:geo:-90.4482304,41.4774774
END:VEVENT
BEGIN:VEVENT
DTSTART;TZID=America/Chicago:20260424T130000
DTEND;TZID=America/Chicago:20260424T140000
DTSTAMP:20260421T061417
CREATED:20251217T191242Z
LAST-MODIFIED:20251217T191349Z
UID:10004014-1777035600-1777039200@www.bhc.edu
SUMMARY:Music Makers’ Meetup meeting
DESCRIPTION:Love anything and everything about music? The Music Makers’ Meetup is a safe and inclusive space for anyone who appreciates music to explore and engage with it on a deeper level. \nThrough unique activities and experiences\, we promote musical expression\, creativity and interaction. \nNo prior experience in music is necessary to join\, only a sincere appreciation of this amazing art form! \nSpring 2026 meetings\nFridays\n1-2 p.m. \n\nJan. 30\nFeb. 27\nMarch 27\nApril 24\n\nQuad-Cities Campus\nBuilding 4\, Room 101
URL:https://www.bhc.edu/event/music-makers-meetup-meeting-2026-04/
LOCATION:Black Hawk College Quad-Cities Campus\, 6600 34th Ave.\, Moline\, IL\, 61265\, United States
CATEGORIES:Art, Music & Theatre,Quad-Cities Events,Student Life (QC)
ATTACH;FMTTYPE=image/jpeg:https://www.bhc.edu/wp-content/uploads/bhc-music-small.jpg
ORGANIZER;CN="Irene Leites":MAILTO:leitesi@bhc.edu
GEO:41.4774774;-90.4482304
X-APPLE-STRUCTURED-LOCATION;VALUE=URI;X-ADDRESS=Black Hawk College Quad-Cities Campus 6600 34th Ave. Moline IL 61265 United States;X-APPLE-RADIUS=500;X-TITLE=6600 34th Ave.:geo:-90.4482304,41.4774774
END:VEVENT
BEGIN:VEVENT
DTSTART;TZID=America/Chicago:20260428T190000
DTEND;TZID=America/Chicago:20260428T190000
DTSTAMP:20260421T061417
CREATED:20260413T145057Z
LAST-MODIFIED:20260416T194810Z
UID:10004315-1777402800-1777402800@www.bhc.edu
SUMMARY:Community Concert Band - Before and Beyond
DESCRIPTION:Join the Black Hawk College Community Concert Band for Band: Before and Beyond\, a performance of music spanning three centuries. \nEnjoy selections from: \n\nSousa – 1890s\nHolst – 1900s\nGrainger – 1930s\nde Meij – 1980s\nDuPaul – Today\n\nDirected by Erin Mahr. \nThe performance will be at the Geneseo Performing Arts Center\, 700 N. State St. \nFor more information\, email music@bhc.edu or call 309-796-5479.
URL:https://www.bhc.edu/event/community-concert-band-before-and-beyond/
LOCATION:Geneseo Performing Arts Center at Geneseo High School\, 700 N. State St.\, Geneseo\, IL\, 61254\, United States
CATEGORIES:Art, Music & Theatre,Community (QC),Quad-Cities Events
ATTACH;FMTTYPE=image/jpeg:https://www.bhc.edu/wp-content/uploads/musical-notes.jpg
END:VEVENT
BEGIN:VEVENT
DTSTART;TZID=America/Chicago:20260429T180000
DTEND;TZID=America/Chicago:20260429T190000
DTSTAMP:20260421T061417
CREATED:20260406T163935Z
LAST-MODIFIED:20260406T163935Z
UID:10004303-1777485600-1777489200@www.bhc.edu
SUMMARY:BHC Jazz Ensemble - International Jazz Day performance
DESCRIPTION:Join the BHC Jazz Ensemble for a free International Jazz Day performance! \nWednesday\, April 29\n6 p.m.\nMoline Public Library\n3210 41st St.\nGold/Silver/Bronze Room
URL:https://www.bhc.edu/event/bhc-jazz-ensemble-international-jazz-day-performance/
LOCATION:Moline Public Library\, 3210 41st St.\, Moline\, IL\, United States
CATEGORIES:Art, Music & Theatre,Community (QC),Quad-Cities Events
ATTACH;FMTTYPE=image/jpeg:https://www.bhc.edu/wp-content/uploads/International-Jazz-Day-16x9-1-scaled.jpg
ORGANIZER;CN="Corey Kendrick":MAILTO:kendrickc@bhc.edu
GEO:41.4810687;-90.4781069
X-APPLE-STRUCTURED-LOCATION;VALUE=URI;X-ADDRESS=Moline Public Library 3210 41st St. Moline IL United States;X-APPLE-RADIUS=500;X-TITLE=3210 41st St.:geo:-90.4781069,41.4810687
END:VEVENT
BEGIN:VEVENT
DTSTART;TZID=America/Chicago:20260506T160000
DTEND;TZID=America/Chicago:20260506T171500
DTSTAMP:20260421T061417
CREATED:20260401T145535Z
LAST-MODIFIED:20260401T214414Z
UID:10004302-1778083200-1778087700@www.bhc.edu
SUMMARY:Reception for ArtSpace Gallery Student Art Exhibition
DESCRIPTION:The ArtSpace Gallery at the Quad-Cities Campus is showcasing artwork by BHC students from Monday\, April 6 through Thursday\, May 7. \nThere will be a reception and awards ceremony Wednesday\, May 6 from 4-5:15 p.m. Everyone is invited to meet the student artists and enjoy light refreshments. \nThe ArtSpace Gallery is located on the first floor of Building 4 at the Quad-Cities Campus. \nFor more information about exhibits in the ArtSpace Gallery\, email ArtDesign@bhc.edu or visit Black Hawk College Art and Design on Facebook.
URL:https://www.bhc.edu/event/reception-for-artspace-gallery-student-art-exhibition-2/
LOCATION:Black Hawk College Quad-Cities Campus\, 6600 34th Ave.\, Moline\, IL\, 61265\, United States
CATEGORIES:Art, Music & Theatre,Community (QC),Quad-Cities Events,Student Life (QC)
ATTACH;FMTTYPE=image/jpeg:https://www.bhc.edu/wp-content/uploads/artspace-web-1.jpg
ORGANIZER;CN="Terrance Gray":MAILTO:grayt@bhc.edu
GEO:41.4774774;-90.4482304
X-APPLE-STRUCTURED-LOCATION;VALUE=URI;X-ADDRESS=Black Hawk College Quad-Cities Campus 6600 34th Ave. Moline IL 61265 United States;X-APPLE-RADIUS=500;X-TITLE=6600 34th Ave.:geo:-90.4482304,41.4774774
END:VEVENT
BEGIN:VEVENT
DTSTART;TZID=America/Chicago:20260507T190000
DTEND;TZID=America/Chicago:20260507T190000
DTSTAMP:20260421T061417
CREATED:20260417T205451Z
LAST-MODIFIED:20260417T205610Z
UID:10004345-1778180400-1778180400@www.bhc.edu
SUMMARY:Choir Confessions - A Gathering of Tales
DESCRIPTION:Join the Black Hawk College choirs in concert with special guests poet collective Young Lions Roar and the Rockridge High School Mixed Choir. \nThursday\, May 7\n7 p.m.\nFirst Congregational Church\n2201 7th Ave.\, Moline \nFree and open to the public. \n 
URL:https://www.bhc.edu/event/choir-confessions-a-gathering-of-tales/
LOCATION:First Congregational Church\, 2201 7th Ave.\, Moline\, IL\, 61265\, United States
CATEGORIES:Art, Music & Theatre,Community (QC),Quad-Cities Events
ATTACH;FMTTYPE=image/jpeg:https://www.bhc.edu/wp-content/uploads/Choir-Confessions-concert.jpg
ORGANIZER;CN="Irene Leites":MAILTO:leitesi@bhc.edu
GEO:41.5081788;-90.5055908
X-APPLE-STRUCTURED-LOCATION;VALUE=URI;X-ADDRESS=First Congregational Church 2201 7th Ave. Moline IL 61265 United States;X-APPLE-RADIUS=500;X-TITLE=2201 7th Ave.:geo:-90.5055908,41.5081788
END:VEVENT
END:VCALENDAR