BEGIN:VCALENDAR
VERSION:2.0
PRODID:-//Black Hawk College - ECPv6.15.20//NONSGML v1.0//EN
CALSCALE:GREGORIAN
METHOD:PUBLISH
X-WR-CALNAME:Black Hawk College
X-ORIGINAL-URL:https://www.bhc.edu
X-WR-CALDESC:Events for Black Hawk College
REFRESH-INTERVAL;VALUE=DURATION:PT1H
X-Robots-Tag:noindex
X-PUBLISHED-TTL:PT1H
BEGIN:VTIMEZONE
TZID:America/Chicago
BEGIN:DAYLIGHT
TZOFFSETFROM:-0600
TZOFFSETTO:-0500
TZNAME:CDT
DTSTART:20250309T080000
END:DAYLIGHT
BEGIN:STANDARD
TZOFFSETFROM:-0500
TZOFFSETTO:-0600
TZNAME:CST
DTSTART:20251102T070000
END:STANDARD
BEGIN:DAYLIGHT
TZOFFSETFROM:-0600
TZOFFSETTO:-0500
TZNAME:CDT
DTSTART:20260308T080000
END:DAYLIGHT
BEGIN:STANDARD
TZOFFSETFROM:-0500
TZOFFSETTO:-0600
TZNAME:CST
DTSTART:20261101T070000
END:STANDARD
BEGIN:DAYLIGHT
TZOFFSETFROM:-0600
TZOFFSETTO:-0500
TZNAME:CDT
DTSTART:20270314T080000
END:DAYLIGHT
BEGIN:STANDARD
TZOFFSETFROM:-0500
TZOFFSETTO:-0600
TZNAME:CST
DTSTART:20271107T070000
END:STANDARD
END:VTIMEZONE
BEGIN:VEVENT
DTSTART;TZID=America/Chicago:20260209T080000
DTEND;TZID=America/Chicago:20260227T160000
DTSTAMP:20260420T025254
CREATED:20260202T200820Z
LAST-MODIFIED:20260203T223759Z
UID:10004209-1770624000-1772208000@www.bhc.edu
SUMMARY:Apply to run for student trustee (QC Campus)
DESCRIPTION:Want to run for student trustee on the BHC Board of Trustees? \nFor 2026-27\, the student trustee will be from the Quad-Cities Campus. \nDetails\n\nCandidate application packets will be available starting Monday\, Feb. 9 in the Student Life Office in Building 4\, Room 202.\nApplications are due by Friday\, Feb. 27 at 4 p.m.\nVoting will be online starting Wednesday\, March 4 at 8 a.m. Voting will close Thursday\, March 5 at 4 p.m.\nThe new student trustee will be seated at the Thursday\, April 23 board meeting.\n\nMore information\nIf you have questions or would like to schedule a time to pick up a packet\, email Jana Koch. \nBlack Hawk College is directly governed by a seven-member Board of Trustees\, all of whom are elected from within the district for six-year terms. A student representative\, elected in alternating years for a one-year term from each of the two campuses\, is a non-voting member of the board.
URL:https://www.bhc.edu/event/apply-to-run-for-student-trustee-qc-campus/
LOCATION:Black Hawk College Quad-Cities Campus\, 6600 34th Ave.\, Moline\, IL\, 61265\, United States
CATEGORIES:Quad-Cities Events,Student Life (QC)
ATTACH;FMTTYPE=image/png:https://www.bhc.edu/wp-content/uploads/Vote-Button-Pin.png
ORGANIZER;CN="Jana Koch":MAILTO:kochj@bhc.edu
GEO:41.4774774;-90.4482304
X-APPLE-STRUCTURED-LOCATION;VALUE=URI;X-ADDRESS=Black Hawk College Quad-Cities Campus 6600 34th Ave. Moline IL 61265 United States;X-APPLE-RADIUS=500;X-TITLE=6600 34th Ave.:geo:-90.4482304,41.4774774
END:VEVENT
BEGIN:VEVENT
DTSTART;VALUE=DATE:20260223
DTEND;VALUE=DATE:20260314
DTSTAMP:20260420T025254
CREATED:20260303T203859Z
LAST-MODIFIED:20260303T211000Z
UID:10004264-1771804800-1773446399@www.bhc.edu
SUMMARY:Love Should Be Kind - Pet supply drive
DESCRIPTION:Help us support survivors and their pets by donating essential pet supplies at the Quad-Cities Campus. \nPets can play a vital role in healing and coping with traumatic experiences. For many survivors\, pets provide emotional stability\, comfort and unconditional love during difficult transitions. \nThrough this pet supply drive\, survivors accessing community support sites will receive free pet care items. \nDrop-off locations\n\nBuilding 1\, upper lobby\nBuilding 3\, main lobby\nHealth Sciences Center\, main lobby\n\nItems needed\n\nBleach\nCanned cat food\nCat climbing trees\nCat/kitten treats and toys\nClumping Tidy Cats litter\nDish soap\nDog/puppy treats\nKMR kitten milk replacer\nLarge dog KONG toys\nLeashes\nLiquid laundry detergent\nPaper plates\nPaper towels\nPine-Sol (or similar cleaner)\nPurina Kitten Chow\nPurina Puppy Chow\n\nSponsored by the Quad-Cities Campus Student Government Association.
URL:https://www.bhc.edu/event/love-should-be-kind-pet-supply-drive/
LOCATION:Black Hawk College Quad-Cities Campus\, 6600 34th Ave.\, Moline\, IL\, 61265\, United States
CATEGORIES:Community (QC),Quad-Cities Events,Student Life (QC)
ATTACH;FMTTYPE=image/jpeg:https://www.bhc.edu/wp-content/uploads/pet-supplies-yellow-background.jpg
ORGANIZER;CN="Jana Koch":MAILTO:kochj@bhc.edu
GEO:41.4774774;-90.4482304
X-APPLE-STRUCTURED-LOCATION;VALUE=URI;X-ADDRESS=Black Hawk College Quad-Cities Campus 6600 34th Ave. Moline IL 61265 United States;X-APPLE-RADIUS=500;X-TITLE=6600 34th Ave.:geo:-90.4482304,41.4774774
END:VEVENT
BEGIN:VEVENT
DTSTART;VALUE=DATE:20260223
DTEND;VALUE=DATE:20260404
DTSTAMP:20260420T025254
CREATED:20260217T195816Z
LAST-MODIFIED:20260217T195816Z
UID:10004240-1771804800-1775260799@www.bhc.edu
SUMMARY:ArtSpace Gallery exhibit - Mixed media assemblage by Wayne Bertola
DESCRIPTION:The ArtSpace Gallery at the Quad-Cities Campus is exhibiting “Imperfect Objects” – mixed media assemblage by Wayne Bertola – from Monday\, Feb. 23 to Friday\, April 3. \nEveryone is invited to a closing reception Thursday\, April 2 from 4-5:15 p.m. with an artist talk at 4:15 p.m. Light refreshments will be provided. \nThe ArtSpace Gallery is located on the first floor of Building 4 at the Quad-Cities Campus\, 6600 34th Ave.\, Moline. \nFor more information about exhibits in the ArtSpace Gallery\, email ArtDesign@bhc.edu or visit Black Hawk College Art and Design. \nAbout the artist\nI am\, for lack of a better term\, self-taught. My materials can be found in alleys\, streets\, abandoned buildings\, used bookstores\, garage sales\, flea markets and in nature. In short\, anywhere that I might find myself confronted by an object which bears witness to the inevitable yet unpredictable changes wrought by the passage of time. \nArtist Statement\nI believe that “style” is instinctual and is an organic process which gives form to an inner state or sensibility. If this collection of objects has any meaning in the accepted sense it is in its ability to combine found objects and images – the discarded debris of the once-functional and the humblest of materials – in such a manner as to demonstrate their capacity for transformation into objects that by the response they generate engage the viewer in a creative dialogue of association\, allusion and reverie invoking the presence of the past in the present\, the enigma of mortality haunted by eternity beyond the limitations of linear time.
URL:https://www.bhc.edu/event/artspace-gallery-exhibit-mixed-media-assemblage-by-wayne-bertola/
LOCATION:Black Hawk College Quad-Cities Campus\, 6600 34th Ave.\, Moline\, IL\, 61265\, United States
CATEGORIES:Art, Music & Theatre,Community (QC),Quad-Cities Events
ATTACH;FMTTYPE=image/jpeg:https://www.bhc.edu/wp-content/uploads/Wayne-Bertola-Ode-to-Memory.jpg
ORGANIZER;CN="Terrance Gray":MAILTO:grayt@bhc.edu
GEO:41.4774774;-90.4482304
X-APPLE-STRUCTURED-LOCATION;VALUE=URI;X-ADDRESS=Black Hawk College Quad-Cities Campus 6600 34th Ave. Moline IL 61265 United States;X-APPLE-RADIUS=500;X-TITLE=6600 34th Ave.:geo:-90.4482304,41.4774774
END:VEVENT
BEGIN:VEVENT
DTSTART;TZID=America/Chicago:20260227T120000
DTEND;TZID=America/Chicago:20260227T150000
DTSTAMP:20260420T025254
CREATED:20260122T222658Z
LAST-MODIFIED:20260225T185407Z
UID:10004109-1772193600-1772204400@www.bhc.edu
SUMMARY:Baseball Game vs. Dakota County Technical College
DESCRIPTION:Join the Black Hawk College choirs in concert with special guests poet collective Young Lions Roar and the Rockridge High School Mixed Choir. Thursday\, May 7 7 p.m. First Congregational […] \n \nInnings: 2×7
URL:https://www.bhc.edu/event/baseball-game-vs-dakota-county-technical-college-4/
LOCATION:BHC Athletic Complex\, 6600 34th Ave.\, Moline\, IL\, 61265\, United States
CATEGORIES:Athletics,Baseball,Quad-Cities Events
ATTACH;FMTTYPE=image/jpeg:https://www.bhc.edu/wp-content/uploads/00000-Circular_Profile_baseball.jpg
ORGANIZER;CN="Tara Carey":MAILTO:careyt@bhc.edu
END:VEVENT
BEGIN:VEVENT
DTSTART;TZID=America/Chicago:20260227T130000
DTEND;TZID=America/Chicago:20260227T140000
DTSTAMP:20260420T025254
CREATED:20251217T190944Z
LAST-MODIFIED:20251217T191022Z
UID:10004012-1772197200-1772200800@www.bhc.edu
SUMMARY:Music Makers’ Meetup meeting
DESCRIPTION:Love anything and everything about music? The Music Makers’ Meetup is a safe and inclusive space for anyone who appreciates music to explore and engage with it on a deeper level. \nThrough unique activities and experiences\, we promote musical expression\, creativity and interaction. \nNo prior experience in music is necessary to join\, only a sincere appreciation of this amazing art form! \nSpring 2026 meetings\nFridays\n1-2 p.m. \n\nJan. 30\nFeb. 27\nMarch 27\nApril 24\n\nQuad-Cities Campus\nBuilding 4\, Room 101
URL:https://www.bhc.edu/event/music-makers-meetup-meeting-2026-02/
LOCATION:Black Hawk College Quad-Cities Campus\, 6600 34th Ave.\, Moline\, IL\, 61265\, United States
CATEGORIES:Art, Music & Theatre,Quad-Cities Events,Student Life (QC)
ATTACH;FMTTYPE=image/jpeg:https://www.bhc.edu/wp-content/uploads/bhc-music-small.jpg
ORGANIZER;CN="Irene Leites":MAILTO:leitesi@bhc.edu
GEO:41.4774774;-90.4482304
X-APPLE-STRUCTURED-LOCATION;VALUE=URI;X-ADDRESS=Black Hawk College Quad-Cities Campus 6600 34th Ave. Moline IL 61265 United States;X-APPLE-RADIUS=500;X-TITLE=6600 34th Ave.:geo:-90.4482304,41.4774774
END:VEVENT
BEGIN:VEVENT
DTSTART;TZID=America/Chicago:20260227T130000
DTEND;TZID=America/Chicago:20260227T140000
DTSTAMP:20260420T025254
CREATED:20260126T184751Z
LAST-MODIFIED:20260126T185124Z
UID:10004175-1772197200-1772200800@www.bhc.edu
SUMMARY:Duke Ellington and Billy Strayhorn program
DESCRIPTION:Duke Ellington and Billy Strayhorn – Presentation and Q&A with Gates Thomas \nJoin us for an unforgettable journey through this extraordinary body of American music\, featuring rare filmed and recorded performances by one of the most iconic orchestras in history.  \n\nProgram will be in Building 4\, Room 209.\nLunch will be provided while supplies last.\n\nAbout the presentation\n“Mood Indigo\,” “It Don’t Mean a Thing (If It Ain’t Got That Swing)\,” “Satin Doll\,” “Do Nothin’ ’Til You Hear From Me\,” “Lush Life\,” “Sophisticated Lady” these timeless classics are only a glimpse into the brilliance of Duke Ellington (1899–1974) and Billy Strayhorn (1915–1967). While their songs became standards\, the composers themselves believed their greatest achievements were their orchestral “suites” – sweeping collections of short instrumental pieces rich in color\, imagination and storytelling. \nAbout the presenter\nGates Thomas is a composer\, conductor and recording producer whose work has been performed by artists including Pat Metheny\, Gary Burton and the Lionel Hampton Big Band. His 2016 research fellowship at the George Washington National Library led him into a second career as a historian\, focusing on 20th century music\, the American Revolution\, the U.S. Navy\, Davenport and the recording arts.
URL:https://www.bhc.edu/event/duke-ellington-and-billy-strayhorn/
LOCATION:Black Hawk College Quad-Cities Campus\, 6600 34th Ave.\, Moline\, IL\, 61265\, United States
CATEGORIES:Art, Music & Theatre,Quad-Cities Events
ATTACH;FMTTYPE=image/jpeg:https://www.bhc.edu/wp-content/uploads/bhc-music-small.jpg
ORGANIZER;CN="Jana Koch":MAILTO:kochj@bhc.edu
GEO:41.4774774;-90.4482304
X-APPLE-STRUCTURED-LOCATION;VALUE=URI;X-ADDRESS=Black Hawk College Quad-Cities Campus 6600 34th Ave. Moline IL 61265 United States;X-APPLE-RADIUS=500;X-TITLE=6600 34th Ave.:geo:-90.4482304,41.4774774
END:VEVENT
BEGIN:VEVENT
DTSTART;TZID=America/Chicago:20260227T140000
DTEND;TZID=America/Chicago:20260227T160000
DTSTAMP:20260420T025254
CREATED:20260225T184105Z
LAST-MODIFIED:20260225T184105Z
UID:10004257-1772200800-1772208000@www.bhc.edu
SUMMARY:Softball game vs. St. Ambrose University
DESCRIPTION:Join the Black Hawk College choirs in concert with special guests poet collective Young Lions Roar and the Rockridge High School Mixed Choir. Thursday\, May 7 7 p.m. First Congregational […]
URL:https://www.bhc.edu/event/softball-game-vs-st-ambrose-university-3/
LOCATION:BHC Athletic Complex\, 6600 34th Ave.\, Moline\, IL\, 61265\, United States
CATEGORIES:Athletics,Quad-Cities Events,Softball
ATTACH;FMTTYPE=image/jpeg:https://www.bhc.edu/wp-content/uploads/00000-Circular_Profile_softball.jpg
ORGANIZER;CN="Tara Carey":MAILTO:careyt@bhc.edu
END:VEVENT
END:VCALENDAR