BEGIN:VCALENDAR
VERSION:2.0
PRODID:-//Black Hawk College - ECPv6.15.20//NONSGML v1.0//EN
CALSCALE:GREGORIAN
METHOD:PUBLISH
X-WR-CALNAME:Black Hawk College
X-ORIGINAL-URL:https://www.bhc.edu
X-WR-CALDESC:Events for Black Hawk College
REFRESH-INTERVAL;VALUE=DURATION:PT1H
X-Robots-Tag:noindex
X-PUBLISHED-TTL:PT1H
BEGIN:VTIMEZONE
TZID:America/Chicago
BEGIN:DAYLIGHT
TZOFFSETFROM:-0600
TZOFFSETTO:-0500
TZNAME:CDT
DTSTART:20250309T080000
END:DAYLIGHT
BEGIN:STANDARD
TZOFFSETFROM:-0500
TZOFFSETTO:-0600
TZNAME:CST
DTSTART:20251102T070000
END:STANDARD
BEGIN:DAYLIGHT
TZOFFSETFROM:-0600
TZOFFSETTO:-0500
TZNAME:CDT
DTSTART:20260308T080000
END:DAYLIGHT
BEGIN:STANDARD
TZOFFSETFROM:-0500
TZOFFSETTO:-0600
TZNAME:CST
DTSTART:20261101T070000
END:STANDARD
BEGIN:DAYLIGHT
TZOFFSETFROM:-0600
TZOFFSETTO:-0500
TZNAME:CDT
DTSTART:20270314T080000
END:DAYLIGHT
BEGIN:STANDARD
TZOFFSETFROM:-0500
TZOFFSETTO:-0600
TZNAME:CST
DTSTART:20271107T070000
END:STANDARD
END:VTIMEZONE
BEGIN:VEVENT
DTSTART;TZID=America/Chicago:20260209T080000
DTEND;TZID=America/Chicago:20260227T160000
DTSTAMP:20260419T193008
CREATED:20260202T200820Z
LAST-MODIFIED:20260203T223759Z
UID:10004209-1770624000-1772208000@www.bhc.edu
SUMMARY:Apply to run for student trustee (QC Campus)
DESCRIPTION:Want to run for student trustee on the BHC Board of Trustees? \nFor 2026-27\, the student trustee will be from the Quad-Cities Campus. \nDetails\n\nCandidate application packets will be available starting Monday\, Feb. 9 in the Student Life Office in Building 4\, Room 202.\nApplications are due by Friday\, Feb. 27 at 4 p.m.\nVoting will be online starting Wednesday\, March 4 at 8 a.m. Voting will close Thursday\, March 5 at 4 p.m.\nThe new student trustee will be seated at the Thursday\, April 23 board meeting.\n\nMore information\nIf you have questions or would like to schedule a time to pick up a packet\, email Jana Koch. \nBlack Hawk College is directly governed by a seven-member Board of Trustees\, all of whom are elected from within the district for six-year terms. A student representative\, elected in alternating years for a one-year term from each of the two campuses\, is a non-voting member of the board.
URL:https://www.bhc.edu/event/apply-to-run-for-student-trustee-qc-campus/
LOCATION:Black Hawk College Quad-Cities Campus\, 6600 34th Ave.\, Moline\, IL\, 61265\, United States
CATEGORIES:Quad-Cities Events,Student Life (QC)
ATTACH;FMTTYPE=image/png:https://www.bhc.edu/wp-content/uploads/Vote-Button-Pin.png
ORGANIZER;CN="Jana Koch":MAILTO:kochj@bhc.edu
GEO:41.4774774;-90.4482304
X-APPLE-STRUCTURED-LOCATION;VALUE=URI;X-ADDRESS=Black Hawk College Quad-Cities Campus 6600 34th Ave. Moline IL 61265 United States;X-APPLE-RADIUS=500;X-TITLE=6600 34th Ave.:geo:-90.4482304,41.4774774
END:VEVENT
BEGIN:VEVENT
DTSTART;VALUE=DATE:20260223
DTEND;VALUE=DATE:20260314
DTSTAMP:20260419T193008
CREATED:20260303T203859Z
LAST-MODIFIED:20260303T211000Z
UID:10004264-1771804800-1773446399@www.bhc.edu
SUMMARY:Love Should Be Kind - Pet supply drive
DESCRIPTION:Help us support survivors and their pets by donating essential pet supplies at the Quad-Cities Campus. \nPets can play a vital role in healing and coping with traumatic experiences. For many survivors\, pets provide emotional stability\, comfort and unconditional love during difficult transitions. \nThrough this pet supply drive\, survivors accessing community support sites will receive free pet care items. \nDrop-off locations\n\nBuilding 1\, upper lobby\nBuilding 3\, main lobby\nHealth Sciences Center\, main lobby\n\nItems needed\n\nBleach\nCanned cat food\nCat climbing trees\nCat/kitten treats and toys\nClumping Tidy Cats litter\nDish soap\nDog/puppy treats\nKMR kitten milk replacer\nLarge dog KONG toys\nLeashes\nLiquid laundry detergent\nPaper plates\nPaper towels\nPine-Sol (or similar cleaner)\nPurina Kitten Chow\nPurina Puppy Chow\n\nSponsored by the Quad-Cities Campus Student Government Association.
URL:https://www.bhc.edu/event/love-should-be-kind-pet-supply-drive/
LOCATION:Black Hawk College Quad-Cities Campus\, 6600 34th Ave.\, Moline\, IL\, 61265\, United States
CATEGORIES:Community (QC),Quad-Cities Events,Student Life (QC)
ATTACH;FMTTYPE=image/jpeg:https://www.bhc.edu/wp-content/uploads/pet-supplies-yellow-background.jpg
ORGANIZER;CN="Jana Koch":MAILTO:kochj@bhc.edu
GEO:41.4774774;-90.4482304
X-APPLE-STRUCTURED-LOCATION;VALUE=URI;X-ADDRESS=Black Hawk College Quad-Cities Campus 6600 34th Ave. Moline IL 61265 United States;X-APPLE-RADIUS=500;X-TITLE=6600 34th Ave.:geo:-90.4482304,41.4774774
END:VEVENT
BEGIN:VEVENT
DTSTART;VALUE=DATE:20260223
DTEND;VALUE=DATE:20260404
DTSTAMP:20260419T193008
CREATED:20260217T195816Z
LAST-MODIFIED:20260217T195816Z
UID:10004240-1771804800-1775260799@www.bhc.edu
SUMMARY:ArtSpace Gallery exhibit - Mixed media assemblage by Wayne Bertola
DESCRIPTION:The ArtSpace Gallery at the Quad-Cities Campus is exhibiting “Imperfect Objects” – mixed media assemblage by Wayne Bertola – from Monday\, Feb. 23 to Friday\, April 3. \nEveryone is invited to a closing reception Thursday\, April 2 from 4-5:15 p.m. with an artist talk at 4:15 p.m. Light refreshments will be provided. \nThe ArtSpace Gallery is located on the first floor of Building 4 at the Quad-Cities Campus\, 6600 34th Ave.\, Moline. \nFor more information about exhibits in the ArtSpace Gallery\, email ArtDesign@bhc.edu or visit Black Hawk College Art and Design. \nAbout the artist\nI am\, for lack of a better term\, self-taught. My materials can be found in alleys\, streets\, abandoned buildings\, used bookstores\, garage sales\, flea markets and in nature. In short\, anywhere that I might find myself confronted by an object which bears witness to the inevitable yet unpredictable changes wrought by the passage of time. \nArtist Statement\nI believe that “style” is instinctual and is an organic process which gives form to an inner state or sensibility. If this collection of objects has any meaning in the accepted sense it is in its ability to combine found objects and images – the discarded debris of the once-functional and the humblest of materials – in such a manner as to demonstrate their capacity for transformation into objects that by the response they generate engage the viewer in a creative dialogue of association\, allusion and reverie invoking the presence of the past in the present\, the enigma of mortality haunted by eternity beyond the limitations of linear time.
URL:https://www.bhc.edu/event/artspace-gallery-exhibit-mixed-media-assemblage-by-wayne-bertola/
LOCATION:Black Hawk College Quad-Cities Campus\, 6600 34th Ave.\, Moline\, IL\, 61265\, United States
CATEGORIES:Art, Music & Theatre,Community (QC),Quad-Cities Events
ATTACH;FMTTYPE=image/jpeg:https://www.bhc.edu/wp-content/uploads/Wayne-Bertola-Ode-to-Memory.jpg
ORGANIZER;CN="Terrance Gray":MAILTO:grayt@bhc.edu
GEO:41.4774774;-90.4482304
X-APPLE-STRUCTURED-LOCATION;VALUE=URI;X-ADDRESS=Black Hawk College Quad-Cities Campus 6600 34th Ave. Moline IL 61265 United States;X-APPLE-RADIUS=500;X-TITLE=6600 34th Ave.:geo:-90.4482304,41.4774774
END:VEVENT
BEGIN:VEVENT
DTSTART;TZID=America/Chicago:20260225T100000
DTEND;TZID=America/Chicago:20260225T130000
DTSTAMP:20260419T193008
CREATED:20260108T180442Z
LAST-MODIFIED:20260209T213004Z
UID:10004044-1772013600-1772024400@www.bhc.edu
SUMMARY:State Universities Transfer Day
DESCRIPTION:Visit with reps from Illinois’ state universities Wednesday\, Feb. 25 from 10 a.m. to 1 p.m. at the Quad-Cities Campus in Building 1\, upper lobby. \nDon’t miss this opportunity to meet with multiple universities in one location! A Guaranteed Admission Program is now available at every Illinois public university. \nParticipating schools\nScheduled to attend as of Jan. 16: \n\nEastern Illinois University\, Charleston\nIllinois State University\, Normal\nNorthern Illinois University\, DeKalb\nSouthern Illinois University Carbondale\nSouthern Illinois University Edwardsville\nUniversity of Illinois Chicago\nUniversity of Illinois Springfield\nUniversity of Illinois Urbana-Champaign\nWestern Illinois University\, Macomb\n\nOpportunities include:\n\nAdmissions counseling\nOn-site applications\nApplication fee waivers\nAdmission assessments (official transcripts required for admission decisions)\n\nServices vary by institution. \nEnjoy free snacks and enter for a chance to win an amazing prize in our raffle!
URL:https://www.bhc.edu/event/state-universities-transfer-day/
LOCATION:Black Hawk College Quad-Cities Campus\, 6600 34th Ave.\, Moline\, IL\, 61265\, United States
CATEGORIES:Advising,Quad-Cities Events,Student Services
ATTACH;FMTTYPE=image/jpeg:https://www.bhc.edu/wp-content/uploads/Illinois-with-arrows-for-transfer-days.jpg
ORGANIZER;CN="Advising Center":MAILTO:advqc@bhc.edu
GEO:41.4774774;-90.4482304
X-APPLE-STRUCTURED-LOCATION;VALUE=URI;X-ADDRESS=Black Hawk College Quad-Cities Campus 6600 34th Ave. Moline IL 61265 United States;X-APPLE-RADIUS=500;X-TITLE=6600 34th Ave.:geo:-90.4482304,41.4774774
END:VEVENT
BEGIN:VEVENT
DTSTART;TZID=America/Chicago:20260225T120000
DTEND;TZID=America/Chicago:20260225T130000
DTSTAMP:20260419T193008
CREATED:20251212T153426Z
LAST-MODIFIED:20251212T153426Z
UID:10003997-1772020800-1772024400@www.bhc.edu
SUMMARY:Celebrating Black History with Jazz
DESCRIPTION:Celebrate Black History Month! \nJoin the BHC Jazz Ensemble and the BHC Choir for a live musical performance and enjoy a taste of soul food! \nWednesday\, Feb. 25\nNoon to 1 p.m. \nQuad-Cities Campus\nBuilding 4\, second floor\, Hawk’s Nest
URL:https://www.bhc.edu/event/celebrating-black-history-with-jazz/
LOCATION:Black Hawk College Quad-Cities Campus\, 6600 34th Ave.\, Moline\, IL\, 61265\, United States
CATEGORIES:Art, Music & Theatre,Quad-Cities Events,Student Life (QC)
ATTACH;FMTTYPE=image/jpeg:https://www.bhc.edu/wp-content/uploads/Black-history-jazz-scaled.jpg
ORGANIZER;CN="Jana Koch":MAILTO:kochj@bhc.edu
GEO:41.4774774;-90.4482304
X-APPLE-STRUCTURED-LOCATION;VALUE=URI;X-ADDRESS=Black Hawk College Quad-Cities Campus 6600 34th Ave. Moline IL 61265 United States;X-APPLE-RADIUS=500;X-TITLE=6600 34th Ave.:geo:-90.4482304,41.4774774
END:VEVENT
BEGIN:VEVENT
DTSTART;TZID=America/Chicago:20260225T140000
DTEND;TZID=America/Chicago:20260225T150000
DTSTAMP:20260419T193008
CREATED:20260113T234000Z
LAST-MODIFIED:20260113T234640Z
UID:10004069-1772028000-1772031600@www.bhc.edu
SUMMARY:SGA weekly meeting (QC Campus)
DESCRIPTION:Join us every Wednesday this semester from 2-3 p.m. for the Quad-Cities Campus Student Government Association (SGA) weekly meeting in Building 4\, Room 209. \nMake your voice heard! \nCampus updates!\nSocial activities!\nGet involved!
URL:https://www.bhc.edu/event/sga-weekly-meeting-qc-campus-spring-2026/2026-02-25/
LOCATION:Black Hawk College Quad-Cities Campus\, 6600 34th Ave.\, Moline\, IL\, 61265\, United States
CATEGORIES:Quad-Cities Events,Student Life (QC)
ATTACH;FMTTYPE=image/jpeg:https://www.bhc.edu/wp-content/uploads/SGA-Make-Your-Voice-Heard-7-2025.jpg
ORGANIZER;CN="Jana Koch":MAILTO:kochj@bhc.edu
GEO:41.4774774;-90.4482304
X-APPLE-STRUCTURED-LOCATION;VALUE=URI;X-ADDRESS=Black Hawk College Quad-Cities Campus 6600 34th Ave. Moline IL 61265 United States;X-APPLE-RADIUS=500;X-TITLE=6600 34th Ave.:geo:-90.4482304,41.4774774
END:VEVENT
BEGIN:VEVENT
DTSTART;TZID=America/Chicago:20260225T173000
DTEND;TZID=America/Chicago:20260225T193000
DTSTAMP:20260419T193008
CREATED:20250917T152737Z
LAST-MODIFIED:20260225T180351Z
UID:10003217-1772040600-1772047800@www.bhc.edu
SUMMARY:Women's Basketball Region 4 Quarter-Finals
DESCRIPTION:NJCAA Region 4 Women’s Basketball Region 4 Quarter-Finals Black Hawk College vs. Bryant & Stratton College in Milwaukee\, WI.
URL:https://www.bhc.edu/event/womens-basketball-region-4-quarter-finals/
LOCATION:Mount Mercy University\, 1330 Elmhurst Drive\, Cedar Rapids\, IA\, 52402\, United States
CATEGORIES:Athletics,Quad-Cities Events,Women's Basketball
ATTACH;FMTTYPE=image/jpeg:https://www.bhc.edu/wp-content/uploads/00000-Circular_Profile_wbasketball.jpg
ORGANIZER;CN="Tara Carey":MAILTO:careyt@bhc.edu
GEO:42.002547;-91.652073
X-APPLE-STRUCTURED-LOCATION;VALUE=URI;X-ADDRESS=Mount Mercy University 1330 Elmhurst Drive Cedar Rapids IA 52402 United States;X-APPLE-RADIUS=500;X-TITLE=1330 Elmhurst Drive:geo:-91.652073,42.002547
END:VEVENT
END:VCALENDAR