BEGIN:VCALENDAR
VERSION:2.0
PRODID:-//Black Hawk College - ECPv6.15.20//NONSGML v1.0//EN
CALSCALE:GREGORIAN
METHOD:PUBLISH
X-WR-CALNAME:Black Hawk College
X-ORIGINAL-URL:https://www.bhc.edu
X-WR-CALDESC:Events for Black Hawk College
REFRESH-INTERVAL;VALUE=DURATION:PT1H
X-Robots-Tag:noindex
X-PUBLISHED-TTL:PT1H
BEGIN:VTIMEZONE
TZID:America/Chicago
BEGIN:DAYLIGHT
TZOFFSETFROM:-0600
TZOFFSETTO:-0500
TZNAME:CDT
DTSTART:20250309T080000
END:DAYLIGHT
BEGIN:STANDARD
TZOFFSETFROM:-0500
TZOFFSETTO:-0600
TZNAME:CST
DTSTART:20251102T070000
END:STANDARD
BEGIN:DAYLIGHT
TZOFFSETFROM:-0600
TZOFFSETTO:-0500
TZNAME:CDT
DTSTART:20260308T080000
END:DAYLIGHT
BEGIN:STANDARD
TZOFFSETFROM:-0500
TZOFFSETTO:-0600
TZNAME:CST
DTSTART:20261101T070000
END:STANDARD
BEGIN:DAYLIGHT
TZOFFSETFROM:-0600
TZOFFSETTO:-0500
TZNAME:CDT
DTSTART:20270314T080000
END:DAYLIGHT
BEGIN:STANDARD
TZOFFSETFROM:-0500
TZOFFSETTO:-0600
TZNAME:CST
DTSTART:20271107T070000
END:STANDARD
END:VTIMEZONE
BEGIN:VEVENT
DTSTART;VALUE=DATE:20260112
DTEND;VALUE=DATE:20260131
DTSTAMP:20260422T152356
CREATED:20251216T231823Z
LAST-MODIFIED:20251216T232940Z
UID:10004010-1768176000-1769817599@www.bhc.edu
SUMMARY:Use financial aid in bookstores
DESCRIPTION:Students with financial aid (loans\, scholarships\, grants\, etc.) for Spring 2026 may use their funds in the East Campus Bookstore and the Hawk’s Hub from Jan. 12-30. \nStudents can use their accounts to buy textbooks\, clothing\, school supplies\, parking tags and more. \nFind Spring 2026 books in the online bookstore. \nStudents MUST provide their student ID (located on myBHC) to use their financial aid in the bookstore. \nHours: \n\nEast Campus Bookstore – 8:30 a.m. to 1:30 p.m.\nQuad-Cities Campus Hawk’s Hub – 8 a.m. to 5 p.m.\n\nFor more information\, email bookstoregroup@bhc.edu.
URL:https://www.bhc.edu/event/use-financial-aid-in-bookstores-2/
LOCATION:IL
CATEGORIES:East Campus Events,Financial Aid,Quad-Cities Events,Student Services
ATTACH;FMTTYPE=image/jpeg:https://www.bhc.edu/wp-content/uploads/pink-piggy-bank-wearing-red-glasses-on-stack-of-books.jpg
END:VEVENT
BEGIN:VEVENT
DTSTART;TZID=America/Chicago:20260121T080000
DTEND;TZID=America/Chicago:20260121T183000
DTSTAMP:20260422T152356
CREATED:20251222T202423Z
LAST-MODIFIED:20260109T221509Z
UID:10004034-1768982400-1769020200@www.bhc.edu
SUMMARY:Extended hours for student services (QC)
DESCRIPTION:Student services offices at both campuses will have extended hours to help you get ready for Spring 2026! \nYou can complete your registration\, discuss financial aid options and get all of your questions answered. \nCome see us! \nQuad-Cities Campus\n\nMonday-Friday\, Jan. 12-16 – 8 a.m. to 6:30 p.m.\nSaturday\, Jan. 17 – 10 a.m. to 2 p.m.\nTuesday-Friday\, Jan. 20-23 – 8 a.m. to 6:30 p.m.\n\nEast Campus\n\nWednesday-Friday\, Jan. 14-16 – 8 a.m. to 6:30 p.m.\nSaturday\, Jan. 17 – 10 a.m. to 2 p.m.\nTuesday-Wednesday\, Jan. 20-21 – 8 a.m. to 6:30 p.m.\n\nSpring 2026 classes start Tuesday\, Jan. 20. We can’t wait to see you at BHC!
URL:https://www.bhc.edu/event/extended-hours-for-student-services-qc-jan-21/
LOCATION:Black Hawk College Quad-Cities Campus\, 6600 34th Ave.\, Moline\, IL\, 61265\, United States
CATEGORIES:Admissions,Advising,Enrollment Services,Financial Aid,Quad-Cities Events,Student Services,Visit
ATTACH;FMTTYPE=image/jpeg:https://www.bhc.edu/wp-content/uploads/open-come-in-sq.jpg
GEO:41.4774774;-90.4482304
X-APPLE-STRUCTURED-LOCATION;VALUE=URI;X-ADDRESS=Black Hawk College Quad-Cities Campus 6600 34th Ave. Moline IL 61265 United States;X-APPLE-RADIUS=500;X-TITLE=6600 34th Ave.:geo:-90.4482304,41.4774774
END:VEVENT
BEGIN:VEVENT
DTSTART;TZID=America/Chicago:20260121T090000
DTEND;TZID=America/Chicago:20260121T100000
DTSTAMP:20260422T152356
CREATED:20260109T223723Z
LAST-MODIFIED:20260126T152756Z
UID:10004049-1768986000-1768989600@www.bhc.edu
SUMMARY:POSTPONED - Welcome Week (QC Campus) – Pancake breakfast
DESCRIPTION:Postponed to Tuesday\, Jan. 27.\n\nWelcome Week Spring 2026 – For Your Own Good\nLearn about Black Hawk College programs and resources! \nPancake breakfast!\n\nTuesday\, Jan. 27\n10 a.m. to noon\nBuilding 1\, below the library\nMonday\, Jan. 26\n9-10 a.m.\nBuilding 3\, third floor\, main lobby\nWednesday\, Jan. 21\n9-10 a.m.\nBuilding 3\, third floor\, main lobby\n\nFlip up some fun and raise funds!\nVisit the Hawk’s Cupboard food pantry and enjoy some tasty pancakes!\nDonations welcome! \nFitness Fiesta\n\nThursday\, Jan. 22\nThursday\, Jan. 29\n11 a.m. to noon\nBuilding 3\, second floor\, Fitness Center\n\nTour the Fitness Center and enjoy music and a nacho bar.\nPump up the FUN! \nDonut Get Behind!\n\nTuesday\, Jan. 27\n10 a.m. to noon\nBuilding 1\, below library\n\nCheck out the BHC Library and Tutoring Center!\nFREE donuts while supplies last! \nBHC ClubFest\n\nWednesday\, Jan. 28\n12:30-2:30 p.m.\nBuilding 4\, second floor\, Hawk’s Nest\n\nGet involved!\nLearn all about BHC clubs and organizations. \nBe bRAVE at BHC!\n\nFriday\, Jan. 30\n6-8 p.m.\nBuilding 4\, second floor\, Hawk’s Nest\n\nJoin us for dancing\, music\, fun and food! \nDJ – C:/DRIVE\nSponsored by Pride Alliance \n\nThis event is for individuals age 18 and older.\nOnly current BHC students may attend.\nPlease bring your BHC student ID for check-in.\nOutside substances are not permitted.\nA dress code will be enforced.\nRe-entry will not be permitted.
URL:https://www.bhc.edu/event/welcome-week-qc-campus-pancake-breakfast/
LOCATION:Black Hawk College Quad-Cities Campus\, 6600 34th Ave.\, Moline\, IL\, 61265\, United States
CATEGORIES:Orientation,Quad-Cities Events,Student Life (QC),Student Services
ATTACH;FMTTYPE=image/jpeg:https://www.bhc.edu/wp-content/uploads/32106-Welcome-Week_Poster_06-scaled.jpg
ORGANIZER;CN="Jana Koch":MAILTO:kochj@bhc.edu
GEO:41.4774774;-90.4482304
X-APPLE-STRUCTURED-LOCATION;VALUE=URI;X-ADDRESS=Black Hawk College Quad-Cities Campus 6600 34th Ave. Moline IL 61265 United States;X-APPLE-RADIUS=500;X-TITLE=6600 34th Ave.:geo:-90.4482304,41.4774774
END:VEVENT
END:VCALENDAR