BEGIN:VCALENDAR
VERSION:2.0
PRODID:-//Black Hawk College - ECPv6.15.20//NONSGML v1.0//EN
CALSCALE:GREGORIAN
METHOD:PUBLISH
X-WR-CALNAME:Black Hawk College
X-ORIGINAL-URL:https://www.bhc.edu
X-WR-CALDESC:Events for Black Hawk College
REFRESH-INTERVAL;VALUE=DURATION:PT1H
X-Robots-Tag:noindex
X-PUBLISHED-TTL:PT1H
BEGIN:VTIMEZONE
TZID:America/Chicago
BEGIN:DAYLIGHT
TZOFFSETFROM:-0600
TZOFFSETTO:-0500
TZNAME:CDT
DTSTART:20250309T080000
END:DAYLIGHT
BEGIN:STANDARD
TZOFFSETFROM:-0500
TZOFFSETTO:-0600
TZNAME:CST
DTSTART:20251102T070000
END:STANDARD
BEGIN:DAYLIGHT
TZOFFSETFROM:-0600
TZOFFSETTO:-0500
TZNAME:CDT
DTSTART:20260308T080000
END:DAYLIGHT
BEGIN:STANDARD
TZOFFSETFROM:-0500
TZOFFSETTO:-0600
TZNAME:CST
DTSTART:20261101T070000
END:STANDARD
BEGIN:DAYLIGHT
TZOFFSETFROM:-0600
TZOFFSETTO:-0500
TZNAME:CDT
DTSTART:20270314T080000
END:DAYLIGHT
BEGIN:STANDARD
TZOFFSETFROM:-0500
TZOFFSETTO:-0600
TZNAME:CST
DTSTART:20271107T070000
END:STANDARD
END:VTIMEZONE
BEGIN:VEVENT
DTSTART;VALUE=DATE:20260112
DTEND;VALUE=DATE:20260131
DTSTAMP:20260422T181524
CREATED:20251216T231823Z
LAST-MODIFIED:20251216T232940Z
UID:10004010-1768176000-1769817599@www.bhc.edu
SUMMARY:Use financial aid in bookstores
DESCRIPTION:Students with financial aid (loans\, scholarships\, grants\, etc.) for Spring 2026 may use their funds in the East Campus Bookstore and the Hawk’s Hub from Jan. 12-30. \nStudents can use their accounts to buy textbooks\, clothing\, school supplies\, parking tags and more. \nFind Spring 2026 books in the online bookstore. \nStudents MUST provide their student ID (located on myBHC) to use their financial aid in the bookstore. \nHours: \n\nEast Campus Bookstore – 8:30 a.m. to 1:30 p.m.\nQuad-Cities Campus Hawk’s Hub – 8 a.m. to 5 p.m.\n\nFor more information\, email bookstoregroup@bhc.edu.
URL:https://www.bhc.edu/event/use-financial-aid-in-bookstores-2/
LOCATION:IL
CATEGORIES:East Campus Events,Financial Aid,Quad-Cities Events,Student Services
ATTACH;FMTTYPE=image/jpeg:https://www.bhc.edu/wp-content/uploads/pink-piggy-bank-wearing-red-glasses-on-stack-of-books.jpg
END:VEVENT
BEGIN:VEVENT
DTSTART;TZID=America/Chicago:20260120T000000
DTEND;TZID=America/Chicago:20260120T235900
DTSTAMP:20260422T181524
CREATED:20251022T202210Z
LAST-MODIFIED:20251022T202444Z
UID:10003851-1768867200-1768953540@www.bhc.edu
SUMMARY:Spring classes begin
DESCRIPTION:Spring 2026 classes begin Tuesday\, Jan. 20. \n\nSpring 2026 Schedule of Classes\nRegistration information
URL:https://www.bhc.edu/event/spring-classes-begin/
LOCATION:All Black Hawk College locations\, IL\, United States
CATEGORIES:Admissions,Advising,Community (EC),Community (QC),East Campus Events,Enrollment Services,Orientation,Quad-Cities Events,Student Services,Visit
ATTACH;FMTTYPE=image/jpeg:https://www.bhc.edu/wp-content/uploads/welcome-back-written-on-a-blackboard-1.jpg
END:VEVENT
BEGIN:VEVENT
DTSTART;TZID=America/Chicago:20260120T080000
DTEND;TZID=America/Chicago:20260120T183000
DTSTAMP:20260422T181524
CREATED:20251222T202341Z
LAST-MODIFIED:20260109T221605Z
UID:10004036-1768896000-1768933800@www.bhc.edu
SUMMARY:Extended hours for student services (QC)
DESCRIPTION:Student services offices at both campuses will have extended hours to help you get ready for Spring 2026! \nYou can complete your registration\, discuss financial aid options and get all of your questions answered. \nCome see us! \nQuad-Cities Campus\n\nMonday-Friday\, Jan. 12-16 – 8 a.m. to 6:30 p.m.\nSaturday\, Jan. 17 – 10 a.m. to 2 p.m.\nTuesday-Friday\, Jan. 20-23 – 8 a.m. to 6:30 p.m.\n\nEast Campus\n\nWednesday-Friday\, Jan. 14-16 – 8 a.m. to 6:30 p.m.\nSaturday\, Jan. 17 – 10 a.m. to 2 p.m.\nTuesday-Wednesday\, Jan. 20-21 – 8 a.m. to 6:30 p.m.\n\nSpring 2026 classes start Tuesday\, Jan. 20. We can’t wait to see you at BHC!
URL:https://www.bhc.edu/event/extended-hours-for-student-services-qc-jan-20/
LOCATION:Black Hawk College Quad-Cities Campus\, 6600 34th Ave.\, Moline\, IL\, 61265\, United States
CATEGORIES:Admissions,Advising,Enrollment Services,Financial Aid,Quad-Cities Events,Student Services,Visit
ATTACH;FMTTYPE=image/jpeg:https://www.bhc.edu/wp-content/uploads/open-come-in-sq.jpg
GEO:41.4774774;-90.4482304
X-APPLE-STRUCTURED-LOCATION;VALUE=URI;X-ADDRESS=Black Hawk College Quad-Cities Campus 6600 34th Ave. Moline IL 61265 United States;X-APPLE-RADIUS=500;X-TITLE=6600 34th Ave.:geo:-90.4482304,41.4774774
END:VEVENT
BEGIN:VEVENT
DTSTART;TZID=America/Chicago:20260120T100000
DTEND;TZID=America/Chicago:20260120T130000
DTSTAMP:20260422T181524
CREATED:20260108T225321Z
LAST-MODIFIED:20260121T165142Z
UID:10004045-1768903200-1768914000@www.bhc.edu
SUMMARY:Welcome Week (QC Campus) - Campus Resources Tours
DESCRIPTION:Welcome Week Spring 2026 – For Your Own Good\nLearn about Black Hawk College programs and resources! \nCampus Resources Tours\n\nTuesday\, Jan. 20 and Monday\, Jan. 26\n10 a.m.\, 11 a.m. and noon\nBuilding 1\, third floor\, Welcome Desk\n\nTake a campus tour to learn about BHC resources. \nPancake breakfast!\n\nWednesday\, Jan. 21\nMonday\, Jan. 26\n9-10 a.m.\nBuilding 3\, third floor\, main lobby\n\nFlip up some fun and raise funds!\nVisit the Hawk’s Cupboard food pantry and enjoy some tasty pancakes!\nDonations welcome! \nFitness Fiesta\n\nThursday\, Jan. 22\nThursday\, Jan. 29\n11 a.m. to noon\nBuilding 3\, second floor\, Fitness Center\n\nTour the Fitness Center and enjoy music and a nacho bar.\nPump up the FUN! \nDonut Get Behind!\n\nTuesday\, Jan. 27\n10 a.m. to noon\nBuilding 1\, below library\n\nCheck out the BHC Library and Tutoring Center!\nFREE donuts while supplies last! \nBHC ClubFest\n\nWednesday\, Jan. 28\n12:30-2:30 p.m.\nBuilding 4\, second floor\, Hawk’s Nest\n\nGet involved!\nLearn all about BHC clubs and organizations. \nBe bRAVE at BHC!\n\nFriday\, Jan. 30\n6-8 p.m.\nBuilding 4\, second floor\, Hawk’s Nest\n\nJoin us for dancing\, music\, fun and food! \nDJ – C:/DRIVE\nSponsored by Pride Alliance \n\nThis event is for individuals age 18 and older.\nOnly current BHC students may attend.\nPlease bring your BHC student ID for check-in.\nOutside substances are not permitted.\nA dress code will be enforced.\nRe-entry will not be permitted.
URL:https://www.bhc.edu/event/welcome-week-qc-campus-campus-resources-tours/
LOCATION:Black Hawk College Quad-Cities Campus\, 6600 34th Ave.\, Moline\, IL\, 61265\, United States
CATEGORIES:Orientation,Quad-Cities Events,Student Life (QC),Student Services
ATTACH;FMTTYPE=image/jpeg:https://www.bhc.edu/wp-content/uploads/32106-Welcome-Week_Poster_06-scaled.jpg
ORGANIZER;CN="Jana Koch":MAILTO:kochj@bhc.edu
GEO:41.4774774;-90.4482304
X-APPLE-STRUCTURED-LOCATION;VALUE=URI;X-ADDRESS=Black Hawk College Quad-Cities Campus 6600 34th Ave. Moline IL 61265 United States;X-APPLE-RADIUS=500;X-TITLE=6600 34th Ave.:geo:-90.4482304,41.4774774
END:VEVENT
BEGIN:VEVENT
DTSTART;TZID=America/Chicago:20260120T170000
DTEND;TZID=America/Chicago:20260120T190000
DTSTAMP:20260422T181524
CREATED:20250917T151027Z
LAST-MODIFIED:20251220T005635Z
UID:10003202-1768928400-1768935600@www.bhc.edu
SUMMARY:Women's Basketball Game vs. Illinois Valley College
DESCRIPTION:NJCAA Region 4 Women’s Basketball team faces off against Illinois Valley College in Moline\, IL.
URL:https://www.bhc.edu/event/womens-basketball-game-vs-illinois-valley-college/
LOCATION:QC Campus: Building 3\, Gymnasium\, 6600 34th Ave.\, Moline\, IL\, 61265\, United States
CATEGORIES:Athletics,Quad-Cities Events,Women's Basketball
ATTACH;FMTTYPE=image/jpeg:https://www.bhc.edu/wp-content/uploads/00000-Circular_Profile_wbasketball.jpg
ORGANIZER;CN="Tara Carey":MAILTO:careyt@bhc.edu
END:VEVENT
BEGIN:VEVENT
DTSTART;TZID=America/Chicago:20260120T190000
DTEND;TZID=America/Chicago:20260120T210000
DTSTAMP:20260422T181524
CREATED:20250916T211249Z
LAST-MODIFIED:20251220T011223Z
UID:10003165-1768935600-1768942800@www.bhc.edu
SUMMARY:Men's Basketball Game vs. Illinois Valley Community College
DESCRIPTION:NJCAA Region 4 Men’s Basketball team faces off against Illinois Valley Community College in Moline\, IL.
URL:https://www.bhc.edu/event/mens-basketball-game-vs-illinois-valley-community-college/
LOCATION:QC Campus: Building 3\, Gymnasium\, 6600 34th Ave.\, Moline\, IL\, 61265\, United States
CATEGORIES:Athletics,Men's Basketball,Quad-Cities Events
ATTACH;FMTTYPE=image/jpeg:https://www.bhc.edu/wp-content/uploads/00000-Circular_Profile_mbasketball.jpg
ORGANIZER;CN="Tara Carey":MAILTO:careyt@bhc.edu
END:VEVENT
END:VCALENDAR