BEGIN:VCALENDAR
VERSION:2.0
PRODID:-//Black Hawk College - ECPv6.15.20//NONSGML v1.0//EN
CALSCALE:GREGORIAN
METHOD:PUBLISH
X-ORIGINAL-URL:https://www.bhc.edu
X-WR-CALDESC:Events for Black Hawk College
REFRESH-INTERVAL;VALUE=DURATION:PT1H
X-Robots-Tag:noindex
X-PUBLISHED-TTL:PT1H
BEGIN:VTIMEZONE
TZID:America/Chicago
BEGIN:DAYLIGHT
TZOFFSETFROM:-0600
TZOFFSETTO:-0500
TZNAME:CDT
DTSTART:20250309T080000
END:DAYLIGHT
BEGIN:STANDARD
TZOFFSETFROM:-0500
TZOFFSETTO:-0600
TZNAME:CST
DTSTART:20251102T070000
END:STANDARD
BEGIN:DAYLIGHT
TZOFFSETFROM:-0600
TZOFFSETTO:-0500
TZNAME:CDT
DTSTART:20260308T080000
END:DAYLIGHT
BEGIN:STANDARD
TZOFFSETFROM:-0500
TZOFFSETTO:-0600
TZNAME:CST
DTSTART:20261101T070000
END:STANDARD
BEGIN:DAYLIGHT
TZOFFSETFROM:-0600
TZOFFSETTO:-0500
TZNAME:CDT
DTSTART:20270314T080000
END:DAYLIGHT
BEGIN:STANDARD
TZOFFSETFROM:-0500
TZOFFSETTO:-0600
TZNAME:CST
DTSTART:20271107T070000
END:STANDARD
END:VTIMEZONE
BEGIN:VEVENT
DTSTART;VALUE=DATE:20260112
DTEND;VALUE=DATE:20260131
DTSTAMP:20260422T170102
CREATED:20251216T231823Z
LAST-MODIFIED:20251216T232940Z
UID:10004010-1768176000-1769817599@www.bhc.edu
SUMMARY:Use financial aid in bookstores
DESCRIPTION:Students with financial aid (loans\, scholarships\, grants\, etc.) for Spring 2026 may use their funds in the East Campus Bookstore and the Hawk’s Hub from Jan. 12-30. \nStudents can use their accounts to buy textbooks\, clothing\, school supplies\, parking tags and more. \nFind Spring 2026 books in the online bookstore. \nStudents MUST provide their student ID (located on myBHC) to use their financial aid in the bookstore. \nHours: \n\nEast Campus Bookstore – 8:30 a.m. to 1:30 p.m.\nQuad-Cities Campus Hawk’s Hub – 8 a.m. to 5 p.m.\n\nFor more information\, email bookstoregroup@bhc.edu.
URL:https://www.bhc.edu/event/use-financial-aid-in-bookstores-2/
LOCATION:IL
CATEGORIES:East Campus Events,Financial Aid,Quad-Cities Events,Student Services
ATTACH;FMTTYPE=image/jpeg:https://www.bhc.edu/wp-content/uploads/pink-piggy-bank-wearing-red-glasses-on-stack-of-books.jpg
END:VEVENT
BEGIN:VEVENT
DTSTART;TZID=America/Chicago:20260113T080000
DTEND;TZID=America/Chicago:20260113T183000
DTSTAMP:20260422T170102
CREATED:20251222T201647Z
LAST-MODIFIED:20260109T222051Z
UID:10004031-1768291200-1768329000@www.bhc.edu
SUMMARY:Extended hours for student services (QC)
DESCRIPTION:Student services offices at both campuses will have extended hours to help you get ready for Spring 2026! \nYou can complete your registration\, discuss financial aid options and get all of your questions answered. \nCome see us! \nQuad-Cities Campus\n\nMonday-Friday\, Jan. 12-16 – 8 a.m. to 6:30 p.m.\nSaturday\, Jan. 17 – 10 a.m. to 2 p.m.\nTuesday-Friday\, Jan. 20-23 – 8 a.m. to 6:30 p.m.\n\nEast Campus\n\nWednesday-Friday\, Jan. 14-16 – 8 a.m. to 6:30 p.m.\nSaturday\, Jan. 17 – 10 a.m. to 2 p.m.\nTuesday-Wednesday\, Jan. 20-21 – 8 a.m. to 6:30 p.m.\n\nSpring 2026 classes start Tuesday\, Jan. 20. We can’t wait to see you at BHC!
URL:https://www.bhc.edu/event/extended-hours-for-student-services-qc-jan-13/
LOCATION:Black Hawk College Quad-Cities Campus\, 6600 34th Ave.\, Moline\, IL\, 61265\, United States
CATEGORIES:Admissions,Advising,Enrollment Services,Financial Aid,Quad-Cities Events,Student Services,Visit
ATTACH;FMTTYPE=image/jpeg:https://www.bhc.edu/wp-content/uploads/open-come-in-sq.jpg
GEO:41.4774774;-90.4482304
X-APPLE-STRUCTURED-LOCATION;VALUE=URI;X-ADDRESS=Black Hawk College Quad-Cities Campus 6600 34th Ave. Moline IL 61265 United States;X-APPLE-RADIUS=500;X-TITLE=6600 34th Ave.:geo:-90.4482304,41.4774774
END:VEVENT
BEGIN:VEVENT
DTSTART;TZID=America/Chicago:20260113T173000
DTEND;TZID=America/Chicago:20260113T193000
DTSTAMP:20260422T170102
CREATED:20250917T150745Z
LAST-MODIFIED:20251216T215751Z
UID:10003199-1768325400-1768332600@www.bhc.edu
SUMMARY:Women's Basketball Game at Sauk Valley College
DESCRIPTION:NJCAA Region 4 Women’s Basketball team faces off against Sauk Valley College in Dixon\, IL.
URL:https://www.bhc.edu/event/womens-basketball-game-at-sauk-valley-college/
LOCATION:Sauk Valley Community College\, 173 IL Route 2\, Dixon\, IL\, 61021\, United States
CATEGORIES:Athletics,Quad-Cities Events,Women's Basketball
ATTACH;FMTTYPE=image/jpeg:https://www.bhc.edu/wp-content/uploads/00000-Circular_Profile_wbasketball.jpg
ORGANIZER;CN="Tara Carey":MAILTO:careyt@bhc.edu
GEO:41.8427217;-89.4820122
X-APPLE-STRUCTURED-LOCATION;VALUE=URI;X-ADDRESS=Sauk Valley Community College 173 IL Route 2 Dixon IL 61021 United States;X-APPLE-RADIUS=500;X-TITLE=173 IL Route 2:geo:-89.4820122,41.8427217
END:VEVENT
BEGIN:VEVENT
DTSTART;TZID=America/Chicago:20260113T181500
DTEND;TZID=America/Chicago:20260113T201500
DTSTAMP:20260422T170102
CREATED:20250916T210929Z
LAST-MODIFIED:20251216T215929Z
UID:10003162-1768328100-1768335300@www.bhc.edu
SUMMARY:Men's Basketball Game at Blackhawk Technical College
DESCRIPTION:NJCAA Region 4 Men’s Basketball team faces off against Blackhawk Technical College in Canton\, IL.
URL:https://www.bhc.edu/event/mens-basketball-game-at-blackhawk-technical-college/
LOCATION:Blackhawk Technical College\, 6004 S County Road G\, Janesville\, WI
CATEGORIES:Athletics,Men's Basketball,Quad-Cities Events
ATTACH;FMTTYPE=image/jpeg:https://www.bhc.edu/wp-content/uploads/00000-Circular_Profile_mbasketball.jpg
ORGANIZER;CN="Tara Carey":MAILTO:careyt@bhc.edu
END:VEVENT
END:VCALENDAR