BEGIN:VCALENDAR
VERSION:2.0
PRODID:-//Black Hawk College - ECPv6.15.20//NONSGML v1.0//EN
CALSCALE:GREGORIAN
METHOD:PUBLISH
X-WR-CALNAME:Black Hawk College
X-ORIGINAL-URL:https://www.bhc.edu
X-WR-CALDESC:Events for Black Hawk College
REFRESH-INTERVAL;VALUE=DURATION:PT1H
X-Robots-Tag:noindex
X-PUBLISHED-TTL:PT1H
BEGIN:VTIMEZONE
TZID:America/Chicago
BEGIN:DAYLIGHT
TZOFFSETFROM:-0600
TZOFFSETTO:-0500
TZNAME:CDT
DTSTART:20240310T080000
END:DAYLIGHT
BEGIN:STANDARD
TZOFFSETFROM:-0500
TZOFFSETTO:-0600
TZNAME:CST
DTSTART:20241103T070000
END:STANDARD
BEGIN:DAYLIGHT
TZOFFSETFROM:-0600
TZOFFSETTO:-0500
TZNAME:CDT
DTSTART:20250309T080000
END:DAYLIGHT
BEGIN:STANDARD
TZOFFSETFROM:-0500
TZOFFSETTO:-0600
TZNAME:CST
DTSTART:20251102T070000
END:STANDARD
BEGIN:DAYLIGHT
TZOFFSETFROM:-0600
TZOFFSETTO:-0500
TZNAME:CDT
DTSTART:20260308T080000
END:DAYLIGHT
BEGIN:STANDARD
TZOFFSETFROM:-0500
TZOFFSETTO:-0600
TZNAME:CST
DTSTART:20261101T070000
END:STANDARD
END:VTIMEZONE
BEGIN:VEVENT
DTSTART;TZID=America/Chicago:20250626T133000
DTEND;TZID=America/Chicago:20250630T235900
DTSTAMP:20260425T213658
CREATED:20250603T152500Z
LAST-MODIFIED:20250603T153525Z
UID:10002771-1750944600-1751327940@www.bhc.edu
SUMMARY:Hawk's Hub closed for inventory
DESCRIPTION:The Hawk’s Hub (the Quad-Cities Campus bookstore) will be closed at 1:30 p.m. Thursday\, June 26 through Monday\, June 30 for annual inventory. \nThe East Campus Bookstore will be closed Friday\, June 27 and Monday\, June 30 for annual inventory. \nOnline ordering also will be suspended during this time. \nBoth bookstores will reopen Tuesday\, July 1. \nFor more information\, email bookstoregroup@bhc.edu. \nThank you and we apologize for any inconvenience.
URL:https://www.bhc.edu/event/hawks-hub-closed/
LOCATION:Black Hawk College Quad-Cities Campus\, 6600 34th Ave.\, Moline\, IL\, 61265\, United States
CATEGORIES:Community (QC),Quad-Cities Events,Student Life (QC),Student Services
ATTACH;FMTTYPE=image/jpeg:https://www.bhc.edu/wp-content/uploads/bookstore_featured-image-scaled.jpeg
GEO:41.4774774;-90.4482304
X-APPLE-STRUCTURED-LOCATION;VALUE=URI;X-ADDRESS=Black Hawk College Quad-Cities Campus 6600 34th Ave. Moline IL 61265 United States;X-APPLE-RADIUS=500;X-TITLE=6600 34th Ave.:geo:-90.4482304,41.4774774
END:VEVENT
END:VCALENDAR