BEGIN:VCALENDAR
VERSION:2.0
PRODID:-//Black Hawk College - ECPv6.15.20//NONSGML v1.0//EN
CALSCALE:GREGORIAN
METHOD:PUBLISH
X-ORIGINAL-URL:https://www.bhc.edu
X-WR-CALDESC:Events for Black Hawk College
REFRESH-INTERVAL;VALUE=DURATION:PT1H
X-Robots-Tag:noindex
X-PUBLISHED-TTL:PT1H
BEGIN:VTIMEZONE
TZID:America/Chicago
BEGIN:DAYLIGHT
TZOFFSETFROM:-0600
TZOFFSETTO:-0500
TZNAME:CDT
DTSTART:20240310T080000
END:DAYLIGHT
BEGIN:STANDARD
TZOFFSETFROM:-0500
TZOFFSETTO:-0600
TZNAME:CST
DTSTART:20241103T070000
END:STANDARD
BEGIN:DAYLIGHT
TZOFFSETFROM:-0600
TZOFFSETTO:-0500
TZNAME:CDT
DTSTART:20250309T080000
END:DAYLIGHT
BEGIN:STANDARD
TZOFFSETFROM:-0500
TZOFFSETTO:-0600
TZNAME:CST
DTSTART:20251102T070000
END:STANDARD
BEGIN:DAYLIGHT
TZOFFSETFROM:-0600
TZOFFSETTO:-0500
TZNAME:CDT
DTSTART:20260308T080000
END:DAYLIGHT
BEGIN:STANDARD
TZOFFSETFROM:-0500
TZOFFSETTO:-0600
TZNAME:CST
DTSTART:20261101T070000
END:STANDARD
END:VTIMEZONE
BEGIN:VEVENT
DTSTART;TZID=America/Chicago:20250515T190000
DTEND;TZID=America/Chicago:20250515T190000
DTSTAMP:20260425T142752
CREATED:20240901T100000Z
LAST-MODIFIED:20250508T223652Z
UID:10001243-1747335600-1747335600@www.bhc.edu
SUMMARY:Quad-Cities Campus Commencement
DESCRIPTION:Black Hawk College\nQuad-Cities Campus Commencement Ceremony\nThursday\, May 15\, 2025\n7 p.m.\nVibrant Arena at The MARK (formerly the TaxSlayer Center)\n1201 River Drive\, Moline \n\nTickets are not needed to attend.\nParking is free.\nThe venue is handicapped accessible.\nThere will be a sign language interpreter at the ceremony.\nGuests and attendees are required to enter through entrances with walk-through metal detectors. Vibrant Arena has a no bag policy\, which means any bag/purse over 5”x7”x2” will need to be returned to your vehicle or checked in at Guest Services. The only exceptions are for medical reasons or diaper bags (with small child/children present upon entry). Vibrant Arena does not allow airhorns or any noise makers of any kind. Other items that are prohibited\, along with weapons of any kind\, are pocket knives\, pepper spray and helium balloons.\nQuad-Cities Campus Commencement will be streamed live.\n\nQuestions? Contact Enrollment Services at 309-796-5338 or registrar@bhc.edu or visit the Graduation & Commencement page. \nCelebrate your graduate!\nFlowers\, graduation bears\, graduation necklaces and commemorative graduation T-shirts* will be available for purchase at the ceremony. Credit\, debit\, Apple Pay and Cash App payments will be accepted. Stop by the table on the second floor concourse. \nOr you can pre-order items and pick them up at the ceremony. \n*Students who submitted their graduation application by the deadline and decided to participate in the ceremony will have their name on the back of the shirt. There are no guarantees that a name submitted after the deadline will be listed on shirts being sold at the ceremony. \nQuestions? Email bookstoregroup@bhc.edu.
URL:https://www.bhc.edu/event/quad-cities-campus-commencement/
LOCATION:Vibrant Arena at The MARK\, 1201 River Drive\, Moline\, IL
CATEGORIES:Academic Calendar,Community (QC),Enrollment Services,Quad-Cities Events,Student Life (QC),Student Services
ATTACH;FMTTYPE=image/jpeg:https://www.bhc.edu/wp-content/uploads/graduation-cap.jpg
END:VEVENT
END:VCALENDAR