BEGIN:VCALENDAR
VERSION:2.0
PRODID:-//Black Hawk College - ECPv6.15.20//NONSGML v1.0//EN
CALSCALE:GREGORIAN
METHOD:PUBLISH
X-WR-CALNAME:Black Hawk College
X-ORIGINAL-URL:https://www.bhc.edu
X-WR-CALDESC:Events for Black Hawk College
REFRESH-INTERVAL;VALUE=DURATION:PT1H
X-Robots-Tag:noindex
X-PUBLISHED-TTL:PT1H
BEGIN:VTIMEZONE
TZID:America/Chicago
BEGIN:DAYLIGHT
TZOFFSETFROM:-0600
TZOFFSETTO:-0500
TZNAME:CDT
DTSTART:20240310T080000
END:DAYLIGHT
BEGIN:STANDARD
TZOFFSETFROM:-0500
TZOFFSETTO:-0600
TZNAME:CST
DTSTART:20241103T070000
END:STANDARD
BEGIN:DAYLIGHT
TZOFFSETFROM:-0600
TZOFFSETTO:-0500
TZNAME:CDT
DTSTART:20250309T080000
END:DAYLIGHT
BEGIN:STANDARD
TZOFFSETFROM:-0500
TZOFFSETTO:-0600
TZNAME:CST
DTSTART:20251102T070000
END:STANDARD
BEGIN:DAYLIGHT
TZOFFSETFROM:-0600
TZOFFSETTO:-0500
TZNAME:CDT
DTSTART:20260308T080000
END:DAYLIGHT
BEGIN:STANDARD
TZOFFSETFROM:-0500
TZOFFSETTO:-0600
TZNAME:CST
DTSTART:20261101T070000
END:STANDARD
END:VTIMEZONE
BEGIN:VEVENT
DTSTART;VALUE=DATE:20250512
DTEND;VALUE=DATE:20250515
DTSTAMP:20260425T171705
CREATED:20250305T223000Z
LAST-MODIFIED:20251022T194406Z
UID:10002678-1747008000-1747267199@www.bhc.edu
SUMMARY:Book buyback
DESCRIPTION:Sell your books for cash! \nBook buyback is Thursday-Friday\, May 8-9 and Monday-Wednesday\, May 12-14 at both campuses. \nHours are: \n\nEast Campus Bookstore – 8:30 a.m. to 1:30 p.m.\nHawk’s Hub – 8 a.m. to 5 p.m.\n\nYour BHC ID is required for buyback. You can find your ID on myBHC. \nGet more information about book buyback. \nIf you rented books\, don’t forget to return them by Friday\, May 16 to avoid additional charges. \nYou can return rental books at either campus\, no matter where you rented them from at the beginning of the semester.
URL:https://www.bhc.edu/event/book-buyback-2/
LOCATION:IL
CATEGORIES:Community (EC),Community (QC),East Campus Events,Quad-Cities Events,Student Life (EC),Student Life (QC),Student Services
ATTACH;FMTTYPE=image/jpeg:https://www.bhc.edu/wp-content/uploads/books_fin_aid_summer.jpg
END:VEVENT
END:VCALENDAR