BEGIN:VCALENDAR
VERSION:2.0
PRODID:-//Black Hawk College - ECPv6.15.20//NONSGML v1.0//EN
CALSCALE:GREGORIAN
METHOD:PUBLISH
X-ORIGINAL-URL:https://www.bhc.edu
X-WR-CALDESC:Events for Black Hawk College
REFRESH-INTERVAL;VALUE=DURATION:PT1H
X-Robots-Tag:noindex
X-PUBLISHED-TTL:PT1H
BEGIN:VTIMEZONE
TZID:America/Chicago
BEGIN:DAYLIGHT
TZOFFSETFROM:-0600
TZOFFSETTO:-0500
TZNAME:CDT
DTSTART:20230312T080000
END:DAYLIGHT
BEGIN:STANDARD
TZOFFSETFROM:-0500
TZOFFSETTO:-0600
TZNAME:CST
DTSTART:20231105T070000
END:STANDARD
BEGIN:DAYLIGHT
TZOFFSETFROM:-0600
TZOFFSETTO:-0500
TZNAME:CDT
DTSTART:20240310T080000
END:DAYLIGHT
BEGIN:STANDARD
TZOFFSETFROM:-0500
TZOFFSETTO:-0600
TZNAME:CST
DTSTART:20241103T070000
END:STANDARD
BEGIN:DAYLIGHT
TZOFFSETFROM:-0600
TZOFFSETTO:-0500
TZNAME:CDT
DTSTART:20250309T080000
END:DAYLIGHT
BEGIN:STANDARD
TZOFFSETFROM:-0500
TZOFFSETTO:-0600
TZNAME:CST
DTSTART:20251102T070000
END:STANDARD
END:VTIMEZONE
BEGIN:VEVENT
DTSTART;TZID=America/Chicago:20240819T000000
DTEND;TZID=America/Chicago:20240927T235959
DTSTAMP:20260421T151912
CREATED:20250820T190418Z
LAST-MODIFIED:20250820T190441Z
UID:10001483-1724025600-1727481599@www.bhc.edu
SUMMARY:ArtSpace Gallery exhibit - Collage by Amber Williams
DESCRIPTION:
URL:https://www.bhc.edu/event/artspace-gallery-exhibit-collage-by-amber-williams/
LOCATION:IL
END:VEVENT
BEGIN:VEVENT
DTSTART;TZID=America/Chicago:20240926T120000
DTEND;TZID=America/Chicago:20240926T120000
DTSTAMP:20260421T151912
CREATED:20240725T194400Z
LAST-MODIFIED:20240807T143229Z
UID:10001261-1727352000-1727352000@www.bhc.edu
SUMMARY:BHC Fyre Lake Invite Golf Tournament
DESCRIPTION:[Download not found]
URL:https://www.bhc.edu/event/bhc-fyre-lake-invite-golf-tournament/
LOCATION:Fyre Lake Golf Course\, 1057 Fairway Lane\, Sherrard\, IL\, 61281\, United States
CATEGORIES:Athletics,Golf,Quad-Cities Events
ORGANIZER;CN="Tara Carey":MAILTO:careyt@bhc.edu
GEO:41.318924;-90.505966
X-APPLE-STRUCTURED-LOCATION;VALUE=URI;X-ADDRESS=Fyre Lake Golf Course 1057 Fairway Lane Sherrard IL 61281 United States;X-APPLE-RADIUS=500;X-TITLE=1057 Fairway Lane:geo:-90.505966,41.318924
END:VEVENT
BEGIN:VEVENT
DTSTART;TZID=America/Chicago:20240926T140000
DTEND;TZID=America/Chicago:20240926T140000
DTSTAMP:20260421T151912
CREATED:20240725T230400Z
LAST-MODIFIED:20240808T132725Z
UID:10001258-1727359200-1727359200@www.bhc.edu
SUMMARY:Women's Soccer Game
DESCRIPTION:vs. Harper College\n[Download not found]
URL:https://www.bhc.edu/event/womens-soccer-game-30/
LOCATION:BHC Athletic Complex\, 6600 34th Ave.\, Moline\, IL\, 61265\, United States
CATEGORIES:Athletics,Quad-Cities Events,Women's Soccer
ORGANIZER;CN="Tara Carey":MAILTO:careyt@bhc.edu
END:VEVENT
BEGIN:VEVENT
DTSTART;TZID=America/Chicago:20240926T160000
DTEND;TZID=America/Chicago:20240926T160000
DTSTAMP:20260421T151912
CREATED:20240725T223100Z
LAST-MODIFIED:20240807T143225Z
UID:10001260-1727366400-1727366400@www.bhc.edu
SUMMARY:Men's Soccer Game
DESCRIPTION:vs. Harper College\nRegion IV District Game\n[Download not found]
URL:https://www.bhc.edu/event/mens-soccer-game-25/
LOCATION:BHC Athletic Complex\, 6600 34th Ave.\, Moline\, IL\, 61265\, United States
CATEGORIES:Athletics,Men's Soccer,Quad-Cities Events
ORGANIZER;CN="Tara Carey":MAILTO:careyt@bhc.edu
END:VEVENT
BEGIN:VEVENT
DTSTART;TZID=America/Chicago:20240926T180000
DTEND;TZID=America/Chicago:20240926T180000
DTSTAMP:20260421T151912
CREATED:20240725T232800Z
LAST-MODIFIED:20250603T182042Z
UID:10002774-1727373600-1727373600@www.bhc.edu
SUMMARY:Volleyball Game
DESCRIPTION:‘@ Kishwaukee College\nArrowhead Conference Match\n[Download not found]
URL:https://www.bhc.edu/event/volleyball-game-35/
LOCATION:Kishwaukee College\, 21193 Malta Road\, Malta\, IL\, 60150\, United States
CATEGORIES:Athletics,Quad-Cities Events,Volleyball
ORGANIZER;CN="Tara Carey":MAILTO:careyt@bhc.edu
GEO:41.9385015;-88.8771533
X-APPLE-STRUCTURED-LOCATION;VALUE=URI;X-ADDRESS=Kishwaukee College 21193 Malta Road Malta IL 60150 United States;X-APPLE-RADIUS=500;X-TITLE=21193 Malta Road:geo:-88.8771533,41.9385015
END:VEVENT
BEGIN:VEVENT
DTSTART;TZID=America/Chicago:20240926T180000
DTEND;TZID=America/Chicago:20240926T193000
DTSTAMP:20260421T151912
CREATED:20240605T025000Z
LAST-MODIFIED:20241122T165701Z
UID:10001259-1727373600-1727379000@www.bhc.edu
SUMMARY:Board of Trustees meeting
DESCRIPTION:
URL:https://www.bhc.edu/event/board-trustees-meeting-11/
LOCATION:Black Hawk College Quad-Cities Campus\, 6600 34th Ave.\, Moline\, IL\, 61265\, United States
CATEGORIES:Board of Trustees,Community (EC),Community (QC),East Campus Events,Quad-Cities Events
ATTACH;FMTTYPE=image/jpeg:https://www.bhc.edu/wp-content/uploads/bhc-default-image-e1738963186821.jpg
GEO:41.4774774;-90.4482304
X-APPLE-STRUCTURED-LOCATION;VALUE=URI;X-ADDRESS=Black Hawk College Quad-Cities Campus 6600 34th Ave. Moline IL 61265 United States;X-APPLE-RADIUS=500;X-TITLE=6600 34th Ave.:geo:-90.4482304,41.4774774
END:VEVENT
END:VCALENDAR