BEGIN:VCALENDAR
VERSION:2.0
PRODID:-//Black Hawk College - ECPv6.15.20//NONSGML v1.0//EN
CALSCALE:GREGORIAN
METHOD:PUBLISH
X-ORIGINAL-URL:https://www.bhc.edu
X-WR-CALDESC:Events for Black Hawk College
REFRESH-INTERVAL;VALUE=DURATION:PT1H
X-Robots-Tag:noindex
X-PUBLISHED-TTL:PT1H
BEGIN:VTIMEZONE
TZID:America/Chicago
BEGIN:DAYLIGHT
TZOFFSETFROM:-0600
TZOFFSETTO:-0500
TZNAME:CDT
DTSTART:20230312T080000
END:DAYLIGHT
BEGIN:STANDARD
TZOFFSETFROM:-0500
TZOFFSETTO:-0600
TZNAME:CST
DTSTART:20231105T070000
END:STANDARD
BEGIN:DAYLIGHT
TZOFFSETFROM:-0600
TZOFFSETTO:-0500
TZNAME:CDT
DTSTART:20240310T080000
END:DAYLIGHT
BEGIN:STANDARD
TZOFFSETFROM:-0500
TZOFFSETTO:-0600
TZNAME:CST
DTSTART:20241103T070000
END:STANDARD
BEGIN:DAYLIGHT
TZOFFSETFROM:-0600
TZOFFSETTO:-0500
TZNAME:CDT
DTSTART:20250309T080000
END:DAYLIGHT
BEGIN:STANDARD
TZOFFSETFROM:-0500
TZOFFSETTO:-0600
TZNAME:CST
DTSTART:20251102T070000
END:STANDARD
END:VTIMEZONE
BEGIN:VEVENT
DTSTART;TZID=America/Chicago:20240819T000000
DTEND;TZID=America/Chicago:20240927T235959
DTSTAMP:20260419T193433
CREATED:20250820T190418Z
LAST-MODIFIED:20250820T190441Z
UID:10001483-1724025600-1727481599@www.bhc.edu
SUMMARY:ArtSpace Gallery exhibit - Collage by Amber Williams
DESCRIPTION:
URL:https://www.bhc.edu/event/artspace-gallery-exhibit-collage-by-amber-williams/
LOCATION:IL
END:VEVENT
BEGIN:VEVENT
DTSTART;TZID=America/Chicago:20240925T090000
DTEND;TZID=America/Chicago:20240925T100000
DTSTAMP:20260419T193433
CREATED:20250820T191233Z
LAST-MODIFIED:20250820T191257Z
UID:10001791-1727254800-1727258400@www.bhc.edu
SUMMARY:AI Apocalypse - A Survival Guide for Navigating AI Disinformation
DESCRIPTION:
URL:https://www.bhc.edu/event/ai-apocalypse-a-survival-guide-for-navigating-ai-disinformation/
LOCATION:IL
END:VEVENT
BEGIN:VEVENT
DTSTART;TZID=America/Chicago:20240925T100000
DTEND;TZID=America/Chicago:20240925T130000
DTSTAMP:20260419T193433
CREATED:20240919T180000Z
LAST-MODIFIED:20240919T180943Z
UID:10001844-1727258400-1727269200@www.bhc.edu
SUMMARY:University of Iowa visit
DESCRIPTION:Transfer students – Visit with a representative from the University of Iowa between 10 a.m. and 1 p.m. Wednesday\, Sept. 25 in Building 1 in the upper lobby.
URL:https://www.bhc.edu/event/university-of-iowa-visit/
LOCATION:Black Hawk College Quad-Cities Campus\, 6600 34th Ave.\, Moline\, IL\, 61265\, United States
CATEGORIES:Advising,Quad-Cities Events,Student Services
GEO:41.4774774;-90.4482304
X-APPLE-STRUCTURED-LOCATION;VALUE=URI;X-ADDRESS=Black Hawk College Quad-Cities Campus 6600 34th Ave. Moline IL 61265 United States;X-APPLE-RADIUS=500;X-TITLE=6600 34th Ave.:geo:-90.4482304,41.4774774
END:VEVENT
BEGIN:VEVENT
DTSTART;TZID=America/Chicago:20240925T110000
DTEND;TZID=America/Chicago:20240925T120000
DTSTAMP:20260419T193433
CREATED:20250820T191233Z
LAST-MODIFIED:20250820T191257Z
UID:10001792-1727262000-1727265600@www.bhc.edu
SUMMARY:AI Apocalypse - A Survival Guide for Navigating AI Disinformation
DESCRIPTION:
URL:https://www.bhc.edu/event/ai-apocalypse-a-survival-guide-for-navigating-ai-disinformation/
LOCATION:IL
END:VEVENT
BEGIN:VEVENT
DTSTART;TZID=America/Chicago:20240925T110000
DTEND;TZID=America/Chicago:20240925T130000
DTSTAMP:20260419T193433
CREATED:20240924T203551Z
LAST-MODIFIED:20240924T204636Z
UID:10001874-1727262000-1727269200@www.bhc.edu
SUMMARY:International Student Resources Fair
DESCRIPTION:Connect with members of the International Student Association to get information about: \n\nInternational cell phone providers\nWhere to apply for a U.S. Social Security number\nHow to apply for a driver’s license\nHow to open a bank account\nWhere to get help filing income taxes\nLocal grocers with international foods\nStudent health insurance providers with international plans\n\nWednesday\, Sept. 25\n11 a.m. to 1 p.m.\nQuad-Cities Campus\nBuilding 1\, lower lobby by the library
URL:https://www.bhc.edu/event/international-student-resources-fair/
LOCATION:Black Hawk College Quad-Cities Campus\, 6600 34th Ave.\, Moline\, IL\, 61265\, United States
CATEGORIES:Community (QC),Quad-Cities Events,Student Life (QC)
ATTACH;FMTTYPE=image/jpeg:https://www.bhc.edu/wp-content/uploads/globe-with-graduation-cap-sq.jpg
ORGANIZER;CN="Heather Bjorgan":MAILTO:bjorganh@bhc.edu
GEO:41.4774774;-90.4482304
X-APPLE-STRUCTURED-LOCATION;VALUE=URI;X-ADDRESS=Black Hawk College Quad-Cities Campus 6600 34th Ave. Moline IL 61265 United States;X-APPLE-RADIUS=500;X-TITLE=6600 34th Ave.:geo:-90.4482304,41.4774774
END:VEVENT
BEGIN:VEVENT
DTSTART;TZID=America/Chicago:20240925T120000
DTEND;TZID=America/Chicago:20240925T130000
DTSTAMP:20260419T193433
CREATED:20250820T191233Z
LAST-MODIFIED:20250820T191253Z
UID:10001787-1727265600-1727269200@www.bhc.edu
SUMMARY:Hispanic Heritage Month Fiesta
DESCRIPTION:
URL:https://www.bhc.edu/event/hispanic-heritage-month-fiesta/
LOCATION:IL
END:VEVENT
BEGIN:VEVENT
DTSTART;TZID=America/Chicago:20240925T130000
DTEND;TZID=America/Chicago:20240925T140000
DTSTAMP:20260419T193433
CREATED:20240829T231500Z
LAST-MODIFIED:20250602T210721Z
UID:10001721-1727269200-1727272800@www.bhc.edu
SUMMARY:The Gray Matters Collective meeting
DESCRIPTION:Come hang out\, enjoy some snacks\, find your community\, and have some fun with the Gray Matters Collective! \nBlack Hawk chapter meetings\nFall 2024\n2nd & 4th Wednesdays of the month\n1-2 p.m.\nQuad-Cities Campus\nBuilding 4\, second floor\, Hawk’s Nest \nThe Gray Matters Collective is a mental health awareness and suicide prevention movement. \nBecome a mental health advocate. Join the mental health awareness and suicide prevention movement. \nQuestions? Email counseling@bhc.edu. \nQC Campus clubs
URL:https://www.bhc.edu/event/the-gray-matters-collective-meeting-2/2024-09-25/
LOCATION:Black Hawk College Quad-Cities Campus\, 6600 34th Ave.\, Moline\, IL\, 61265\, United States
CATEGORIES:Community (QC),Counseling,Quad-Cities Events,Student Life (QC),Student Services
GEO:41.4774774;-90.4482304
X-APPLE-STRUCTURED-LOCATION;VALUE=URI;X-ADDRESS=Black Hawk College Quad-Cities Campus 6600 34th Ave. Moline IL 61265 United States;X-APPLE-RADIUS=500;X-TITLE=6600 34th Ave.:geo:-90.4482304,41.4774774
END:VEVENT
BEGIN:VEVENT
DTSTART;TZID=America/Chicago:20240925T130000
DTEND;TZID=America/Chicago:20240925T143000
DTSTAMP:20260419T193433
CREATED:20240812T200000Z
LAST-MODIFIED:20240812T201834Z
UID:10001466-1727269200-1727274600@www.bhc.edu
SUMMARY:QC Campus SGA weekly meeting - Fall 2024
DESCRIPTION:Join us every Wednesday this semester from 1-2:30 p.m. for the Quad-Cities Campus Student Government Association weekly meeting in Building 4\, Room 209. \nSGA is the voice of the students! \nCampus updates!\nSocial activities!\nGet involved!
URL:https://www.bhc.edu/event/qc-campus-sga-weekly-meeting-fall-2024/2024-09-25/
LOCATION:Black Hawk College Quad-Cities Campus\, 6600 34th Ave.\, Moline\, IL\, 61265\, United States
CATEGORIES:Quad-Cities Events,Student Life (QC)
ATTACH;FMTTYPE=image/jpeg:https://www.bhc.edu/wp-content/uploads/student-life-sga-logo-1.jpg
ORGANIZER;CN="Jana Koch":MAILTO:kochj@bhc.edu
GEO:41.4774774;-90.4482304
X-APPLE-STRUCTURED-LOCATION;VALUE=URI;X-ADDRESS=Black Hawk College Quad-Cities Campus 6600 34th Ave. Moline IL 61265 United States;X-APPLE-RADIUS=500;X-TITLE=6600 34th Ave.:geo:-90.4482304,41.4774774
END:VEVENT
BEGIN:VEVENT
DTSTART;TZID=America/Chicago:20240925T160000
DTEND;TZID=America/Chicago:20240925T171500
DTSTAMP:20260419T193433
CREATED:20250820T190536Z
LAST-MODIFIED:20250820T190551Z
UID:10001262-1727280000-1727284500@www.bhc.edu
SUMMARY:Artist reception for ArtSpace Gallery exhibit - Amber Williams
DESCRIPTION:
URL:https://www.bhc.edu/event/artist-reception-for-artspace-gallery-exhibit-amber-williams/
LOCATION:IL
END:VEVENT
END:VCALENDAR