BEGIN:VCALENDAR
VERSION:2.0
PRODID:-//Black Hawk College - ECPv6.15.20//NONSGML v1.0//EN
CALSCALE:GREGORIAN
METHOD:PUBLISH
X-ORIGINAL-URL:https://www.bhc.edu
X-WR-CALDESC:Events for Black Hawk College
REFRESH-INTERVAL;VALUE=DURATION:PT1H
X-Robots-Tag:noindex
X-PUBLISHED-TTL:PT1H
BEGIN:VTIMEZONE
TZID:America/Chicago
BEGIN:DAYLIGHT
TZOFFSETFROM:-0600
TZOFFSETTO:-0500
TZNAME:CDT
DTSTART:20230312T080000
END:DAYLIGHT
BEGIN:STANDARD
TZOFFSETFROM:-0500
TZOFFSETTO:-0600
TZNAME:CST
DTSTART:20231105T070000
END:STANDARD
BEGIN:DAYLIGHT
TZOFFSETFROM:-0600
TZOFFSETTO:-0500
TZNAME:CDT
DTSTART:20240310T080000
END:DAYLIGHT
BEGIN:STANDARD
TZOFFSETFROM:-0500
TZOFFSETTO:-0600
TZNAME:CST
DTSTART:20241103T070000
END:STANDARD
BEGIN:DAYLIGHT
TZOFFSETFROM:-0600
TZOFFSETTO:-0500
TZNAME:CDT
DTSTART:20250309T080000
END:DAYLIGHT
BEGIN:STANDARD
TZOFFSETFROM:-0500
TZOFFSETTO:-0600
TZNAME:CST
DTSTART:20251102T070000
END:STANDARD
END:VTIMEZONE
BEGIN:VEVENT
DTSTART;TZID=America/Chicago:20240819T000000
DTEND;TZID=America/Chicago:20240927T235959
DTSTAMP:20260419T074045
CREATED:20250820T190418Z
LAST-MODIFIED:20250820T190441Z
UID:10001483-1724025600-1727481599@www.bhc.edu
SUMMARY:ArtSpace Gallery exhibit - Collage by Amber Williams
DESCRIPTION:
URL:https://www.bhc.edu/event/artspace-gallery-exhibit-collage-by-amber-williams/
LOCATION:IL
END:VEVENT
BEGIN:VEVENT
DTSTART;TZID=America/Chicago:20240922T120000
DTEND;TZID=America/Chicago:20240922T160000
DTSTAMP:20260419T074045
CREATED:20240815T184442Z
LAST-MODIFIED:20240815T184442Z
UID:10001494-1727006400-1727020800@www.bhc.edu
SUMMARY:Softball Game
DESCRIPTION:vs. Monmouth College\n12 p.m. and 2 p.m.\n[Download not found]
URL:https://www.bhc.edu/event/softball-game-2/
LOCATION:BHC Athletic Complex\, 6600 34th Ave.\, Moline\, IL\, 61265\, United States
CATEGORIES:Athletics,Quad-Cities Events,Softball
ATTACH;FMTTYPE=image/jpeg:https://www.bhc.edu/wp-content/uploads/00000-Circular_Profile_softball.jpg
ORGANIZER;CN="Tara Carey":MAILTO:careyt@bhc.edu
END:VEVENT
BEGIN:VEVENT
DTSTART;TZID=America/Chicago:20240922T140000
DTEND;TZID=America/Chicago:20240922T140000
DTSTAMP:20260419T074045
CREATED:20240725T230300Z
LAST-MODIFIED:20240808T132738Z
UID:10001457-1727013600-1727013600@www.bhc.edu
SUMMARY:Women's Soccer Game
DESCRIPTION:vs. College of DuPage\n[Download not found]
URL:https://www.bhc.edu/event/womens-soccer-game-29/
LOCATION:BHC Athletic Complex\, 6600 34th Ave.\, Moline\, IL\, 61265\, United States
CATEGORIES:Athletics,Quad-Cities Events,Women's Soccer
ORGANIZER;CN="Tara Carey":MAILTO:careyt@bhc.edu
END:VEVENT
END:VCALENDAR