BEGIN:VCALENDAR
VERSION:2.0
PRODID:-//Black Hawk College - ECPv6.15.20//NONSGML v1.0//EN
CALSCALE:GREGORIAN
METHOD:PUBLISH
X-WR-CALNAME:Black Hawk College
X-ORIGINAL-URL:https://www.bhc.edu
X-WR-CALDESC:Events for Black Hawk College
REFRESH-INTERVAL;VALUE=DURATION:PT1H
X-Robots-Tag:noindex
X-PUBLISHED-TTL:PT1H
BEGIN:VTIMEZONE
TZID:America/Chicago
BEGIN:DAYLIGHT
TZOFFSETFROM:-0600
TZOFFSETTO:-0500
TZNAME:CDT
DTSTART:20230312T080000
END:DAYLIGHT
BEGIN:STANDARD
TZOFFSETFROM:-0500
TZOFFSETTO:-0600
TZNAME:CST
DTSTART:20231105T070000
END:STANDARD
BEGIN:DAYLIGHT
TZOFFSETFROM:-0600
TZOFFSETTO:-0500
TZNAME:CDT
DTSTART:20240310T080000
END:DAYLIGHT
BEGIN:STANDARD
TZOFFSETFROM:-0500
TZOFFSETTO:-0600
TZNAME:CST
DTSTART:20241103T070000
END:STANDARD
BEGIN:DAYLIGHT
TZOFFSETFROM:-0600
TZOFFSETTO:-0500
TZNAME:CDT
DTSTART:20250309T080000
END:DAYLIGHT
BEGIN:STANDARD
TZOFFSETFROM:-0500
TZOFFSETTO:-0600
TZNAME:CST
DTSTART:20251102T070000
END:STANDARD
END:VTIMEZONE
BEGIN:VEVENT
DTSTART;TZID=America/Chicago:20240819T000000
DTEND;TZID=America/Chicago:20240927T235959
DTSTAMP:20260419T165226
CREATED:20250820T190418Z
LAST-MODIFIED:20250820T190441Z
UID:10001483-1724025600-1727481599@www.bhc.edu
SUMMARY:ArtSpace Gallery exhibit - Collage by Amber Williams
DESCRIPTION:
URL:https://www.bhc.edu/event/artspace-gallery-exhibit-collage-by-amber-williams/
LOCATION:IL
END:VEVENT
BEGIN:VEVENT
DTSTART;TZID=America/Chicago:20240914T090000
DTEND;TZID=America/Chicago:20240914T110000
DTSTAMP:20260419T165226
CREATED:20240905T172629Z
LAST-MODIFIED:20240909T213300Z
UID:10001730-1726304400-1726311600@www.bhc.edu
SUMMARY:Experience BHC!
DESCRIPTION:Are you ready to BRAVE the excitement that BHC has in store for you?\nJoin us Saturday\, Sept. 14 from 9-11 a.m. at the Quad-Cities Campus for the grand opening of our state-of-the-art academic and athletic facilities! \nPlus\, learn more about what BHC has to offer:\n\nAsk questions of our recruiters.\nTake a self-guided tour of campus.\nGet a free T-shirt.\nSee demonstrations in the biology\, chemistry and physics labs.\nEnjoy a free lunch from 11 a.m. to noon.\nEnjoy BHC alumni baseball\, softball and soccer games starting at noon.\n\nPark in Lot 3 off 34th Avenue to access Building 3. \nQuestions? Contact our recruiters! \nMaya Davis | davism@bhc.edu\nLauren Rogan | roganl@bhc.edu\ninfo@bhc.edu \n[Download not found]
URL:https://www.bhc.edu/event/experience-bhc/
LOCATION:Black Hawk College Quad-Cities Campus\, 6600 34th Ave.\, Moline\, IL\, 61265\, United States
CATEGORIES:Admissions,Community (QC),Quad-Cities Events,Student Services,Visit
ATTACH;FMTTYPE=image/jpeg:https://www.bhc.edu/wp-content/uploads/kids_pointing-scaled.jpg
ORGANIZER;CN="Jana Koch":MAILTO:kochj@bhc.edu
GEO:41.4774774;-90.4482304
X-APPLE-STRUCTURED-LOCATION;VALUE=URI;X-ADDRESS=Black Hawk College Quad-Cities Campus 6600 34th Ave. Moline IL 61265 United States;X-APPLE-RADIUS=500;X-TITLE=6600 34th Ave.:geo:-90.4482304,41.4774774
END:VEVENT
BEGIN:VEVENT
DTSTART;TZID=America/Chicago:20240914T090000
DTEND;TZID=America/Chicago:20240914T140000
DTSTAMP:20260419T165226
CREATED:20250820T191153Z
LAST-MODIFIED:20250820T191229Z
UID:10001549-1726304400-1726322400@www.bhc.edu
SUMMARY:Building 3 Ribbon-Cutting Ceremony & Celebration
DESCRIPTION:
URL:https://www.bhc.edu/event/building-3-ribbon-cutting-ceremony-celebration/
LOCATION:IL
END:VEVENT
END:VCALENDAR