BEGIN:VCALENDAR
VERSION:2.0
PRODID:-//Black Hawk College - ECPv6.15.20//NONSGML v1.0//EN
CALSCALE:GREGORIAN
METHOD:PUBLISH
X-WR-CALNAME:Black Hawk College
X-ORIGINAL-URL:https://www.bhc.edu
X-WR-CALDESC:Events for Black Hawk College
REFRESH-INTERVAL;VALUE=DURATION:PT1H
X-Robots-Tag:noindex
X-PUBLISHED-TTL:PT1H
BEGIN:VTIMEZONE
TZID:America/Chicago
BEGIN:DAYLIGHT
TZOFFSETFROM:-0600
TZOFFSETTO:-0500
TZNAME:CDT
DTSTART:20230312T080000
END:DAYLIGHT
BEGIN:STANDARD
TZOFFSETFROM:-0500
TZOFFSETTO:-0600
TZNAME:CST
DTSTART:20231105T070000
END:STANDARD
BEGIN:DAYLIGHT
TZOFFSETFROM:-0600
TZOFFSETTO:-0500
TZNAME:CDT
DTSTART:20240310T080000
END:DAYLIGHT
BEGIN:STANDARD
TZOFFSETFROM:-0500
TZOFFSETTO:-0600
TZNAME:CST
DTSTART:20241103T070000
END:STANDARD
BEGIN:DAYLIGHT
TZOFFSETFROM:-0600
TZOFFSETTO:-0500
TZNAME:CDT
DTSTART:20250309T080000
END:DAYLIGHT
BEGIN:STANDARD
TZOFFSETFROM:-0500
TZOFFSETTO:-0600
TZNAME:CST
DTSTART:20251102T070000
END:STANDARD
END:VTIMEZONE
BEGIN:VEVENT
DTSTART;TZID=America/Chicago:20240819T000000
DTEND;TZID=America/Chicago:20240927T235959
DTSTAMP:20260422T062110
CREATED:20250820T190418Z
LAST-MODIFIED:20250820T190441Z
UID:10001483-1724025600-1727481599@www.bhc.edu
SUMMARY:ArtSpace Gallery exhibit - Collage by Amber Williams
DESCRIPTION:
URL:https://www.bhc.edu/event/artspace-gallery-exhibit-collage-by-amber-williams/
LOCATION:IL
END:VEVENT
BEGIN:VEVENT
DTSTART;TZID=America/Chicago:20240905T090000
DTEND;TZID=America/Chicago:20240905T120000
DTSTAMP:20260422T062110
CREATED:20250820T191032Z
LAST-MODIFIED:20250820T191034Z
UID:10001577-1725526800-1725537600@www.bhc.edu
SUMMARY:Employer Spotlight - World Relief
DESCRIPTION:
URL:https://www.bhc.edu/event/employer-spotlight-world-relief/
LOCATION:IL
END:VEVENT
BEGIN:VEVENT
DTSTART;TZID=America/Chicago:20240905T110000
DTEND;TZID=America/Chicago:20240905T123000
DTSTAMP:20260422T062110
CREATED:20250820T190907Z
LAST-MODIFIED:20250820T190938Z
UID:10001555-1725534000-1725539400@www.bhc.edu
SUMMARY:Student Services Fair (QC)
DESCRIPTION:
URL:https://www.bhc.edu/event/student-services-fair-qc/
LOCATION:IL
END:VEVENT
BEGIN:VEVENT
DTSTART;TZID=America/Chicago:20240905T130000
DTEND;TZID=America/Chicago:20240905T130000
DTSTAMP:20260422T062110
CREATED:20240725T194400Z
LAST-MODIFIED:20240807T143422Z
UID:10001249-1725541200-1725541200@www.bhc.edu
SUMMARY:Sauk Valley Invite Golf Tournament
DESCRIPTION:[Download not found]
URL:https://www.bhc.edu/event/sauk-valley-invite-golf-tournament/
LOCATION:IL
CATEGORIES:Athletics,Golf,Quad-Cities Events
ORGANIZER;CN="Tara Carey":MAILTO:careyt@bhc.edu
END:VEVENT
BEGIN:VEVENT
DTSTART;TZID=America/Chicago:20240905T150000
DTEND;TZID=America/Chicago:20240905T150000
DTSTAMP:20260422T062110
CREATED:20240725T223100Z
LAST-MODIFIED:20240807T143421Z
UID:10001248-1725548400-1725548400@www.bhc.edu
SUMMARY:Men's Soccer Game
DESCRIPTION:vs. Kishwaukee Community College\nRegion IV District Game\n[Download not found]
URL:https://www.bhc.edu/event/mens-soccer-game-33/
LOCATION:BHC Athletic Complex\, 6600 34th Ave.\, Moline\, IL\, 61265\, United States
CATEGORIES:Athletics,Men's Soccer,Quad-Cities Events
ORGANIZER;CN="Tara Carey":MAILTO:careyt@bhc.edu
END:VEVENT
END:VCALENDAR